BEGIN:VCALENDAR
VERSION:2.0
PRODID:-//Mathews County Visitor Center - ECPv6.15.20//NONSGML v1.0//EN
CALSCALE:GREGORIAN
METHOD:PUBLISH
X-ORIGINAL-URL:https://visitmathews.com
X-WR-CALDESC:Events for Mathews County Visitor Center
REFRESH-INTERVAL;VALUE=DURATION:PT1H
X-Robots-Tag:noindex
X-PUBLISHED-TTL:PT1H
BEGIN:VTIMEZONE
TZID:America/New_York
BEGIN:DAYLIGHT
TZOFFSETFROM:-0500
TZOFFSETTO:-0400
TZNAME:EDT
DTSTART:20250309T070000
END:DAYLIGHT
BEGIN:STANDARD
TZOFFSETFROM:-0400
TZOFFSETTO:-0500
TZNAME:EST
DTSTART:20251102T060000
END:STANDARD
BEGIN:DAYLIGHT
TZOFFSETFROM:-0500
TZOFFSETTO:-0400
TZNAME:EDT
DTSTART:20260308T070000
END:DAYLIGHT
BEGIN:STANDARD
TZOFFSETFROM:-0400
TZOFFSETTO:-0500
TZNAME:EST
DTSTART:20261101T060000
END:STANDARD
BEGIN:DAYLIGHT
TZOFFSETFROM:-0500
TZOFFSETTO:-0400
TZNAME:EDT
DTSTART:20270314T070000
END:DAYLIGHT
BEGIN:STANDARD
TZOFFSETFROM:-0400
TZOFFSETTO:-0500
TZNAME:EST
DTSTART:20271107T060000
END:STANDARD
END:VTIMEZONE
BEGIN:VEVENT
DTSTART;TZID=America/New_York:20260815T100000
DTEND;TZID=America/New_York:20260815T120000
DTSTAMP:20260419T223904
CREATED:20260227T045223Z
LAST-MODIFIED:20260227T045223Z
UID:18551-1786788000-1786795200@visitmathews.com
SUMMARY:Wharf to Wharf Swim
DESCRIPTION:Swimmer Categories – the one mile swim will start in waves at 10am\, based on the following categories: \n\nPUFFERFISH uses swim aids/ swim fins/ flotation device. You’re not a strong swimmer OR just want to relax in the water and will feel much more comfortable completing the one-mile distance if you use a swim aid\, such as fins\, a vest or even a floatie raft. \n\nTUNA will not use swim aids. You know you can complete the one mile swim and will not be using any swim aid\, including swim fins\, just my swimsuit\, cap & goggles.
URL:https://visitmathews.com/event/wharf-to-wharf-swim-5/
LOCATION:Williams Wharf Landing\, 1039 Williams Wharf Road\, Mathews\, VA\, 23109\, United States
CATEGORIES:Health & Fitness,Outdoor,Sports
ATTACH;FMTTYPE=image/jpeg:https://visitmathews.com/wp-content/uploads/2026/02/img_9323.jpg
ORGANIZER;CN="Mathews Outdoor Club":MAILTO:christine@mocva.net
END:VEVENT
END:VCALENDAR