BEGIN:VCALENDAR
VERSION:2.0
PRODID:-//Mathews County Visitor Center - ECPv6.15.20//NONSGML v1.0//EN
CALSCALE:GREGORIAN
METHOD:PUBLISH
X-ORIGINAL-URL:https://visitmathews.com
X-WR-CALDESC:Events for Mathews County Visitor Center
REFRESH-INTERVAL;VALUE=DURATION:PT1H
X-Robots-Tag:noindex
X-PUBLISHED-TTL:PT1H
BEGIN:VTIMEZONE
TZID:America/New_York
BEGIN:DAYLIGHT
TZOFFSETFROM:-0500
TZOFFSETTO:-0400
TZNAME:EDT
DTSTART:20250309T070000
END:DAYLIGHT
BEGIN:STANDARD
TZOFFSETFROM:-0400
TZOFFSETTO:-0500
TZNAME:EST
DTSTART:20251102T060000
END:STANDARD
BEGIN:DAYLIGHT
TZOFFSETFROM:-0500
TZOFFSETTO:-0400
TZNAME:EDT
DTSTART:20260308T070000
END:DAYLIGHT
BEGIN:STANDARD
TZOFFSETFROM:-0400
TZOFFSETTO:-0500
TZNAME:EST
DTSTART:20261101T060000
END:STANDARD
BEGIN:DAYLIGHT
TZOFFSETFROM:-0500
TZOFFSETTO:-0400
TZNAME:EDT
DTSTART:20270314T070000
END:DAYLIGHT
BEGIN:STANDARD
TZOFFSETFROM:-0400
TZOFFSETTO:-0500
TZNAME:EST
DTSTART:20271107T060000
END:STANDARD
END:VTIMEZONE
BEGIN:VEVENT
DTSTART;TZID=America/New_York:20260704T103000
DTEND;TZID=America/New_York:20260704T123000
DTSTAMP:20260419T205906
CREATED:20260130T173222Z
LAST-MODIFIED:20260130T173222Z
UID:18451-1783161000-1783168200@visitmathews.com
SUMMARY:1.776 Mile Walk/ Run
DESCRIPTION:Join the Mathews VA250 in celebrating the Semiquincentennial of our nation with a patriotic walk/run and picnic – ALL FREE – on July 4th! Stay tuned for more info- but mark your calendars for this historic event!
URL:https://visitmathews.com/event/1-776-mile-walk-run/
LOCATION:Courthouse Square\, Court St\, Mathews\, VA\, 23109\, United States
CATEGORIES:Community Events,History,Outdoor,Sports
ATTACH;FMTTYPE=image/png:https://visitmathews.com/wp-content/uploads/2026/01/Walk_Run-Poster.png
END:VEVENT
BEGIN:VEVENT
DTSTART;VALUE=DATE:20260705
DTEND;VALUE=DATE:20260706
DTSTAMP:20260419T205906
CREATED:20260219T174312Z
LAST-MODIFIED:20260219T174312Z
UID:18496-1783209600-1783295999@visitmathews.com
SUMMARY:Community Fireworks Show
DESCRIPTION:
URL:https://visitmathews.com/event/community-fireworks-show/
LOCATION:VA
CATEGORIES:Community Events,Holiday/ Seasonal,Outdoor,Youth
END:VEVENT
BEGIN:VEVENT
DTSTART;TZID=America/New_York:20260710T170000
DTEND;TZID=America/New_York:20260710T200000
DTSTAMP:20260419T205906
CREATED:20260227T040849Z
LAST-MODIFIED:20260227T040849Z
UID:18532-1783702800-1783713600@visitmathews.com
SUMMARY:Oyster Seed Hatchery Tours & Tastings
DESCRIPTION:Every other Friday from May through June\, visitors can experience a tour and tasting experience at Oyster Seed Holdings to see how farm-raised oysters get their start. Guests will start with a 30 minute immersive tour of our facility\, one of the largest producers of oyster seed on the east coast. \nTickets include a serving of raw and cooked oysters shared with your tour group paired with local wines at our water side oyster eatery\, The Hatchery Food Truck\, while enjoying views of Milford Haven at Callis Wharf.
URL:https://visitmathews.com/event/oyster-seed-hatchery-tours-tastings-6/
LOCATION:Oyster Seed Holdings\, 425 Callis Wharf Rd\, Grimstead\, VA\, 23064\, United States
CATEGORIES:Educational,Food & Drink,Outdoor
ATTACH;FMTTYPE=image/png:https://visitmathews.com/wp-content/uploads/2026/02/2026-OSH-Oyster-Hatchery-Tours-scaled.png
ORGANIZER;CN="Oyster Seed Holdings":MAILTO:nfo@oysterseedholdings.com
END:VEVENT
BEGIN:VEVENT
DTSTART;TZID=America/New_York:20260712T140000
DTEND;TZID=America/New_York:20260712T160000
DTSTAMP:20260419T205906
CREATED:20260227T043110Z
LAST-MODIFIED:20260227T043110Z
UID:18539-1783864800-1783872000@visitmathews.com
SUMMARY:Faerie Tea
DESCRIPTION:Faerie Tea returns to The Bay School on Sunday\, July 12!\n\nBy popular demand\, our enchanting annual Faerie Tea is back—an afternoon of whimsy\, tea\, and fae-inspired fun you won’t want to miss. From 2:00 to 4:00 pm\, faerie-dressed guests will enjoy delightful teas and tasties\, games\, door prizes\, raffles\, and a silent auction.\n\nExpect lively fae and tea lore\, creative activities\, and a chance to browse a magical selection of faerie-inspired treasures in the Art Speaks Gallery. Costumes are highly encouraged\, with recognition for our most fabulously dressed faeries!\n\nJoin us for a charming afternoon filled with imagination\, community\, and a little bit of faerie magic.
URL:https://visitmathews.com/event/faerie-tea-3/
LOCATION:Bay School Community Arts Center\, 279 Main Street \, Mathews\, VA\, 23109\, United States
CATEGORIES:Arts & Cultural,Community Events,Food & Drink,Youth
ATTACH;FMTTYPE=image/jpeg:https://visitmathews.com/wp-content/uploads/2026/02/634261040_1353370930142075_9134960879897861250_n.jpg
ORGANIZER;CN="Bay School Comunity Arts Center":MAILTO:pamdoss@bayschool-arts.com
END:VEVENT
BEGIN:VEVENT
DTSTART;TZID=America/New_York:20260724T170000
DTEND;TZID=America/New_York:20260724T210000
DTSTAMP:20260419T205906
CREATED:20260227T041119Z
LAST-MODIFIED:20260227T041119Z
UID:18534-1784912400-1784926800@visitmathews.com
SUMMARY:Oyster Seed Hatchery Tours & Tastings
DESCRIPTION:Every other Friday from May through June\, visitors can experience a tour and tasting experience at Oyster Seed Holdings to see how farm-raised oysters get their start. Guests will start with a 30 minute immersive tour of our facility\, one of the largest producers of oyster seed on the east coast. \nTickets include a serving of raw and cooked oysters shared with your tour group paired with local wines at our water side oyster eatery\, The Hatchery Food Truck\, while enjoying views of Milford Haven at Callis Wharf.
URL:https://visitmathews.com/event/oyster-seed-hatchery-tours-tastings-7/
LOCATION:Oyster Seed Holdings\, 425 Callis Wharf Rd\, Grimstead\, VA\, 23064\, United States
CATEGORIES:Educational,Food & Drink,Outdoor
ATTACH;FMTTYPE=image/png:https://visitmathews.com/wp-content/uploads/2026/02/2026-OSH-Oyster-Hatchery-Tours-scaled.png
ORGANIZER;CN="Oyster Seed Holdings":MAILTO:nfo@oysterseedholdings.com
END:VEVENT
END:VCALENDAR