BEGIN:VCALENDAR
VERSION:2.0
PRODID:-//Mathews County Visitor Center - ECPv6.15.20//NONSGML v1.0//EN
CALSCALE:GREGORIAN
METHOD:PUBLISH
X-ORIGINAL-URL:https://visitmathews.com
X-WR-CALDESC:Events for Mathews County Visitor Center
REFRESH-INTERVAL;VALUE=DURATION:PT1H
X-Robots-Tag:noindex
X-PUBLISHED-TTL:PT1H
BEGIN:VTIMEZONE
TZID:America/New_York
BEGIN:DAYLIGHT
TZOFFSETFROM:-0500
TZOFFSETTO:-0400
TZNAME:EDT
DTSTART:20250309T070000
END:DAYLIGHT
BEGIN:STANDARD
TZOFFSETFROM:-0400
TZOFFSETTO:-0500
TZNAME:EST
DTSTART:20251102T060000
END:STANDARD
BEGIN:DAYLIGHT
TZOFFSETFROM:-0500
TZOFFSETTO:-0400
TZNAME:EDT
DTSTART:20260308T070000
END:DAYLIGHT
BEGIN:STANDARD
TZOFFSETFROM:-0400
TZOFFSETTO:-0500
TZNAME:EST
DTSTART:20261101T060000
END:STANDARD
BEGIN:DAYLIGHT
TZOFFSETFROM:-0500
TZOFFSETTO:-0400
TZNAME:EDT
DTSTART:20270314T070000
END:DAYLIGHT
BEGIN:STANDARD
TZOFFSETFROM:-0400
TZOFFSETTO:-0500
TZNAME:EST
DTSTART:20271107T060000
END:STANDARD
END:VTIMEZONE
BEGIN:VEVENT
DTSTART;TZID=America/New_York:20260207T100000
DTEND;TZID=America/New_York:20260207T160000
DTSTAMP:20260419T125822
CREATED:20260120T004954Z
LAST-MODIFIED:20260120T005104Z
UID:18436-1770458400-1770480000@visitmathews.com
SUMMARY:Cupcake Wars!
DESCRIPTION:This friendly\, community competition will let bakers shine in two areas: flavor and artistry. Both professionals and amateurs are invited to participate and will be judged separately by our guest celebrity judge. \nEach baker will present two dozen of their fanciest and tastiest cupcakes. There is no theme to this first competition. One cupcake from each entrant will be used for judging and the rest will be made available for sale to the public. \nThe entry fee to compete is $10\, with these funds going to cash awards for the winners in four categories: best tasting and most artistic in amateur and professional. Register to participate at the ticket link. \nCupcakes will be available for sale from 10:00am until they’re gone – grab some for later to top off your chili at the Chili Cook-Off! Judging will take place around 1:30pm. Cupcakes will cost $5 each or $20 for a box of 4. \nRegister to participate here.
URL:https://visitmathews.com/event/cupcake-wars/
LOCATION:Bay School Community Arts Center\, 279 Main Street \, Mathews\, VA\, 23109\, United States
CATEGORIES:Arts & Cultural,Community Events,Food & Drink
ATTACH;FMTTYPE=image/jpeg:https://visitmathews.com/wp-content/uploads/2021/04/Cupcake-decorating.jpg
ORGANIZER;CN="Bay School Comunity Arts Center":MAILTO:pamdoss@bayschool-arts.com
END:VEVENT
BEGIN:VEVENT
DTSTART;TZID=America/New_York:20260207T100000
DTEND;TZID=America/New_York:20260207T160000
DTSTAMP:20260419T125822
CREATED:20260131T004647Z
LAST-MODIFIED:20260131T004647Z
UID:18460-1770458400-1770480000@visitmathews.com
SUMMARY:Bling Hair at Cattails
DESCRIPTION:Bling Hair will be setup inside Cattails available to do walk-ins.\nBling Hair is hair tinsel tied to one strand of your hair and it falls out when you shed that hair. No guarantee\, everyone is different. Kids don’t tend to keep it as long as adults.\nYour hair needs to have some length and be free of hair products like hair spray\, leave in conditioners\, and oils.\nAfterwards you can do as you would normally do (brush\, wash\, blow dry\, flat iron & curl at a low heat\, color\, and even bleach).\nPrice Sheet is listed below.
URL:https://visitmathews.com/event/bling-hair-at-cattails/
LOCATION:Cattails\, 16 Church Street\, Mathews\, VA\, 23109\, United States
CATEGORIES:Business,Community Events,Shopping
ATTACH;FMTTYPE=image/jpeg:https://visitmathews.com/wp-content/uploads/2026/01/623363882_26756199210637027_630076395306247299_n.jpg
END:VEVENT
BEGIN:VEVENT
DTSTART;TZID=America/New_York:20260207T163000
DTEND;TZID=America/New_York:20260207T193000
DTSTAMP:20260419T125822
CREATED:20260119T211713Z
LAST-MODIFIED:20260119T211713Z
UID:18426-1770481800-1770492600@visitmathews.com
SUMMARY:10th Annual Rotary Chili Cook Off
DESCRIPTION:Join several community organizations in Rotary’s 10th Annual\, All-You-Can-Eat Chili Cook-Off!\n\nThese organizations raise funds that then go back into the community! A great way to see friends and neighbors during the cold winter months on Super Bowl weekend.\n\nTaste the different delicious chilis\, then go back to the ones you liked the most and have more chili along with corn bread and dessert. Beer and wine are available for a fee.\n\nTickets are $25 per person. Last year the event drew in over 500 attendees.\n\nAs in years past\, prizes are awarded for “Judges’ Choice” and “People’s Choice.” Prizes as $200 donations to the winning participant organizations!
URL:https://visitmathews.com/event/10th-annual-rotary-chili-cook-off/
LOCATION:Piankatank Ruritan Club\, 7138 Buckley Hall Road\, Mathews\, VA\, 23109\, United States
CATEGORIES:Community Events,Food & Drink
ATTACH;FMTTYPE=image/jpeg:https://visitmathews.com/wp-content/uploads/2026/01/608636550_876469198298788_1641241973172800171_n.jpg
END:VEVENT
BEGIN:VEVENT
DTSTART;TZID=America/New_York:20260214T160000
DTEND;TZID=America/New_York:20260214T180000
DTSTAMP:20260419T125822
CREATED:20260131T003513Z
LAST-MODIFIED:20260131T003513Z
UID:18457-1771084800-1771092000@visitmathews.com
SUMMARY:Sparkling Wine & Chocolate Tasting
DESCRIPTION:Celebrate Valentine’s Day and Lily’s Birthday with this free event\, sponsored by Lily Valentine!
URL:https://visitmathews.com/event/sparkling-wine-chocolate-tasting/
LOCATION:Lily Valentine Antiques & Upscale Clutter\, 20 Church Street\, Mathews\, VA\, 23109\, United States
CATEGORIES:Community Events,Food & Drink,Holiday/ Seasonal
ATTACH;FMTTYPE=image/jpeg:https://visitmathews.com/wp-content/uploads/2026/01/624718543_18391988071198742_2389029674556324084_n.jpg
END:VEVENT
BEGIN:VEVENT
DTSTART;VALUE=DATE:20260218
DTEND;VALUE=DATE:20260219
DTSTAMP:20260419T125822
CREATED:20260131T012136Z
LAST-MODIFIED:20260131T012136Z
UID:18474-1771372800-1771459199@visitmathews.com
SUMMARY:Williams Wharf Lecture Series w/ Lewie Lawrence
DESCRIPTION:
URL:https://visitmathews.com/event/williams-wharf-lecture-series-w-lewie-lawrence/
LOCATION:Williams Wharf Landing\, 1039 Williams Wharf Road\, Mathews\, VA\, 23109\, United States
CATEGORIES:Community Events,Educational
ATTACH;FMTTYPE=image/jpeg:https://visitmathews.com/wp-content/uploads/2025/01/VIMS_LEctureSeries25_feb-e1769822470196.jpg
ORGANIZER;CN="Mathews Land Conservancy":MAILTO:info@mathewslandconservancy.org
END:VEVENT
BEGIN:VEVENT
DTSTART;TZID=America/New_York:20260218T180000
DTEND;TZID=America/New_York:20260218T190000
DTSTAMP:20260419T125822
CREATED:20260211T145043Z
LAST-MODIFIED:20260211T145043Z
UID:18483-1771437600-1771441200@visitmathews.com
SUMMARY:MLC Lecture Series: Dredge Program
DESCRIPTION:Join the Mathews Land Conservancy and Lewie Lawrence as he discusses this essential initiative focused on improving navigation and preserving the local waterway ecosystem. Learn about the program’s goals to enhance boating safety\, support the regional economy\, and protect environmental health through sustained dredging practices. This event is free and open to the public.
URL:https://visitmathews.com/event/mlc-lecture-series-dredge-program/
LOCATION:Williams Wharf Landing\, 1039 Williams Wharf Road\, Mathews\, VA\, 23109\, United States
CATEGORIES:Community Events,Educational
ATTACH;FMTTYPE=image/jpeg:https://visitmathews.com/wp-content/uploads/2026/02/VIMS_LEctureSeries26_feb-scaled.jpg
ORGANIZER;CN="Mathews Land Conservancy":MAILTO:info@mathewslandconservancy.org
END:VEVENT
BEGIN:VEVENT
DTSTART;TZID=America/New_York:20260221T160000
DTEND;TZID=America/New_York:20260221T180000
DTSTAMP:20260419T125822
CREATED:20260219T175825Z
LAST-MODIFIED:20260219T175825Z
UID:18501-1771689600-1771696800@visitmathews.com
SUMMARY:Chili When It's Chilly!
DESCRIPTION:Warm up with the West Mathews Community League for a chili fundraiser to help raise money to replace the windows in the Peninsula School building. Includes chili\, cornbread\, sides and dessert! $15 to dine-in\, $10 for take-out.
URL:https://visitmathews.com/event/chili-when-its-chilly-2/
LOCATION:Peninsula School- Bohannon\, 4905 E. River Road\, Bohannon\, VA\, 23021\, United States
CATEGORIES:Community Events,Food & Drink
ATTACH;FMTTYPE=image/png:https://visitmathews.com/wp-content/uploads/2026/02/Screenshot-2026-02-19-at-12.51.20-PM.png
END:VEVENT
BEGIN:VEVENT
DTSTART;TZID=America/New_York:20260227T170000
DTEND;TZID=America/New_York:20260227T190000
DTSTAMP:20260419T125822
CREATED:20260227T034815Z
LAST-MODIFIED:20260227T034815Z
UID:18512-1772211600-1772218800@visitmathews.com
SUMMARY:Bits & Pieces Opening Reception
DESCRIPTION:Bits & Pieces opens Friday\, February 27th.\nEntries were created from collage\, junk art\, assemblage\, and mixed media in a range of interesting media including fiber\, photographs\, hanging art\, paintings\, wearables\, 3-D\, pottery\, multimedia\, collage and jewelry.\nBits & Pieces will be available for viewing and shopping on the Bay School website\, as well as in person in the Art Speaks Gallery.\nOpening Reception will be held February 27th from 5-7:00 pm. Come out and enjoy food\, drinks\, art\, artists and great company!\nBits & Pieces runs from February 27- March 23rd from 5 -7:00 pm.
URL:https://visitmathews.com/event/bits-pieces-opening-reception/
LOCATION:Bay School Community Arts Center\, 279 Main Street \, Mathews\, VA\, 23109\, United States
CATEGORIES:Art Shows,Arts & Cultural,Food & Drink
ATTACH;FMTTYPE=image/jpeg:https://visitmathews.com/wp-content/uploads/2026/02/10774436792951460731.jpeg
ORGANIZER;CN="Bay School Comunity Arts Center":MAILTO:pamdoss@bayschool-arts.com
END:VEVENT
END:VCALENDAR