BEGIN:VCALENDAR
VERSION:2.0
PRODID:-//Mathews County Visitor Center - ECPv6.15.20//NONSGML v1.0//EN
CALSCALE:GREGORIAN
METHOD:PUBLISH
X-WR-CALNAME:Mathews County Visitor Center
X-ORIGINAL-URL:https://visitmathews.com
X-WR-CALDESC:Events for Mathews County Visitor Center
REFRESH-INTERVAL;VALUE=DURATION:PT1H
X-Robots-Tag:noindex
X-PUBLISHED-TTL:PT1H
BEGIN:VTIMEZONE
TZID:America/New_York
BEGIN:DAYLIGHT
TZOFFSETFROM:-0500
TZOFFSETTO:-0400
TZNAME:EDT
DTSTART:20140309T070000
END:DAYLIGHT
BEGIN:STANDARD
TZOFFSETFROM:-0400
TZOFFSETTO:-0500
TZNAME:EST
DTSTART:20141102T060000
END:STANDARD
BEGIN:DAYLIGHT
TZOFFSETFROM:-0500
TZOFFSETTO:-0400
TZNAME:EDT
DTSTART:20150308T070000
END:DAYLIGHT
BEGIN:STANDARD
TZOFFSETFROM:-0400
TZOFFSETTO:-0500
TZNAME:EST
DTSTART:20151101T060000
END:STANDARD
BEGIN:DAYLIGHT
TZOFFSETFROM:-0500
TZOFFSETTO:-0400
TZNAME:EDT
DTSTART:20160313T070000
END:DAYLIGHT
BEGIN:STANDARD
TZOFFSETFROM:-0400
TZOFFSETTO:-0500
TZNAME:EST
DTSTART:20161106T060000
END:STANDARD
END:VTIMEZONE
BEGIN:VTIMEZONE
TZID:UTC
BEGIN:STANDARD
TZOFFSETFROM:+0000
TZOFFSETTO:+0000
TZNAME:UTC
DTSTART:20140101T000000
END:STANDARD
END:VTIMEZONE
BEGIN:VEVENT
DTSTART;TZID=America/New_York:20150627T090000
DTEND;TZID=America/New_York:20150627T154500
DTSTAMP:20260419T123119
CREATED:20150427T045655Z
LAST-MODIFIED:20150427T045935Z
UID:1607-1435395600-1435419900@visitmathews.com
SUMMARY:Gwynn's Island Festival - 67th Annual
DESCRIPTION:
URL:https://visitmathews.com/event/gwynns-island-festival/
LOCATION:Gwynn’s Island Civic Center\, 1996 Old Ferry Rd.\, Gwynn\, VA\, 23066\, United States
CATEGORIES:Art Shows,Community Events,Food & Drink,Live Music,Outdoor,Sports
ATTACH;FMTTYPE=image/jpeg:https://visitmathews.com/wp-content/uploads/2015/04/gwynnsislandfest.jpg
END:VEVENT
BEGIN:VEVENT
DTSTART;TZID=America/New_York:20150627T090000
DTEND;TZID=America/New_York:20150627T154500
DTSTAMP:20260419T123119
CREATED:20150427T045546Z
LAST-MODIFIED:20150427T045546Z
UID:1606-1435395600-1435419900@visitmathews.com
SUMMARY:5K Kukini Run - Gwynn's Island Festival
DESCRIPTION:
URL:https://visitmathews.com/event/5k-kukini-run-gwynns-island-festival/
LOCATION:Gwynn’s Island Civic Center\, 1996 Old Ferry Rd.\, Gwynn\, VA\, 23066\, United States
CATEGORIES:Arts & Cultural,Community Events,Food & Drink,Health & Fitness,Live Music,Outdoor
ATTACH;FMTTYPE=image/jpeg:https://visitmathews.com/wp-content/uploads/2015/04/gwynnsislandfest.jpg
END:VEVENT
BEGIN:VEVENT
DTSTART;TZID=America/New_York:20150626T163000
DTEND;TZID=America/New_York:20150626T190000
DTSTAMP:20260419T123119
CREATED:20150427T045259Z
LAST-MODIFIED:20150427T045259Z
UID:1603-1435336200-1435345200@visitmathews.com
SUMMARY:Chicken Dinner - Gwynn's Island Festival
DESCRIPTION:
URL:https://visitmathews.com/event/chicken-dinner-gwynns-island-festival/
LOCATION:Gwynn’s Island Civic Center\, 1996 Old Ferry Rd.\, Gwynn\, VA\, 23066\, United States
CATEGORIES:Community Events,Food & Drink
ATTACH;FMTTYPE=image/jpeg:https://visitmathews.com/wp-content/uploads/2015/04/gwynnsislandfest.jpg
END:VEVENT
BEGIN:VEVENT
DTSTART;TZID=America/New_York:20150625T190000
DTEND;TZID=America/New_York:20150625T203000
DTSTAMP:20260419T123119
CREATED:20150602T211837Z
LAST-MODIFIED:20150603T003433Z
UID:1759-1435258800-1435264200@visitmathews.com
SUMMARY:Bagels & Fraylox Klezmer Band - "Jazzy\, Jewish Folk Music That Rocks!"
DESCRIPTION:Bagels & Fraylox Klezmer Band will feature in “Soothin’ Summer Sounds”\, an annual series of live musical events\, at the Mathews Memorial Library. This year’s theme “Play It Again…” takes a trip down memory lane based on a survey following the conclusions of last year’s programs to determine audience favorites since launching the series in 2005. \nAll events are free and followed by refreshments. Sponsored by the Friends of the Library.
URL:https://visitmathews.com/event/bagels-fraylox-klezmer-band-jazzy-jewish-folk-music-rocks/
LOCATION:Mathews Memorial Library\, 251 Main Street\, Mathews\, VA\, 23109\, United States
CATEGORIES:Library Events,Live Music
ATTACH;FMTTYPE=image/jpeg:https://visitmathews.com/wp-content/uploads/2015/06/Bagels-Fraylox-Band.jpg
ORGANIZER;CN="Mathews Memorial Library":MAILTO:staff@mathewslibrary.org
END:VEVENT
BEGIN:VEVENT
DTSTART;TZID=America/New_York:20150620T200000
DTEND;TZID=America/New_York:20150620T220000
DTSTAMP:20260419T123119
CREATED:20150427T044534Z
LAST-MODIFIED:20150427T044534Z
UID:1602-1434830400-1434837600@visitmathews.com
SUMMARY:40th Anniversary Show at Donk's
DESCRIPTION:Live music and celebration.
URL:https://visitmathews.com/event/40th-anniversary-show-at-donks-2/
LOCATION:Donk’s Theater\, 8259 Buckley Hall Road\, Hudgins\, VA\, 23076\, United States
CATEGORIES:Live Music
END:VEVENT
BEGIN:VEVENT
DTSTART;TZID=America/New_York:20150619T090000
DTEND;TZID=America/New_York:20150619T120000
DTSTAMP:20260419T123119
CREATED:20150602T003813Z
LAST-MODIFIED:20150603T003853Z
UID:1755-1434704400-1434715200@visitmathews.com
SUMMARY:11th Annual Mathews Memorial Library Highland Games & Picnic
DESCRIPTION:The Highland Games have been in existence since before the dawn of Christianity. In those days\, the gatherings were essentially war games designed to select the best warriors in each family tribe or clan. Participants in our Highland games will compete in fun and challenging Celtic tests of strength\, endurance and skill. \nPrizes are awarded by age group 6 to 14\, games include:\nTurning the Caber • Sheaf Toss • Clachneart • Tug-of-war
URL:https://visitmathews.com/event/11th-annual-mathews-memorial-library-highland-games-picnic/
LOCATION:Mathews Memorial Library\, 251 Main Street\, Mathews\, VA\, 23109\, United States
CATEGORIES:Arts & Cultural,Library Events,Outdoor,Sports
ATTACH;FMTTYPE=image/jpeg:https://visitmathews.com/wp-content/uploads/2015/06/bag-pipe-group.jpg
ORGANIZER;CN="Mathews Memorial Library":MAILTO:staff@mathewslibrary.org
END:VEVENT
BEGIN:VEVENT
DTSTART;TZID=America/New_York:20150613T100000
DTEND;TZID=America/New_York:20150613T160000
DTSTAMP:20260419T123119
CREATED:20150527T195529Z
LAST-MODIFIED:20150602T004637Z
UID:1744-1434189600-1434211200@visitmathews.com
SUMMARY:Historic Church Tour
DESCRIPTION:Nine historic churches will showcase Mathews’ culture\, architecture and history.\n\nFor Details Visit: Mathews County Historical Society \nTickets Available at:  Cattails\, Chesapeake Bank\, Flowers from the Heart\, Hudgins Pharmacy and the Mathews County Visitor and Information Center.
URL:https://visitmathews.com/event/historic-church-tour/
LOCATION:Mathews Visitor Center\, 239 Main Street\, Mathews\, VA\, 23109\, United States
CATEGORIES:Arts & Cultural,Community Events,History
ATTACH;FMTTYPE=image/jpeg:https://visitmathews.com/wp-content/uploads/2015/05/historicchurches.jpg
END:VEVENT
BEGIN:VEVENT
DTSTART;TZID=America/New_York:20150606T200000
DTEND;TZID=America/New_York:20150606T220000
DTSTAMP:20260419T123119
CREATED:20150427T043521Z
LAST-MODIFIED:20150427T043521Z
UID:1594-1433620800-1433628000@visitmathews.com
SUMMARY:40th Anniversary Show at Donk's
DESCRIPTION:Live music and celebration.
URL:https://visitmathews.com/event/40th-anniversary-show-at-donks/
LOCATION:Donk’s Theater\, 8259 Buckley Hall Road\, Hudgins\, VA\, 23076\, United States
CATEGORIES:Live Music
END:VEVENT
BEGIN:VEVENT
DTSTART;TZID=America/New_York:20150530T130000
DTEND;TZID=America/New_York:20150530T160000
DTSTAMP:20260419T123119
CREATED:20150509T084247Z
LAST-MODIFIED:20150509T085251Z
UID:1701-1432990800-1433001600@visitmathews.com
SUMMARY:Deadrise 5k at Williams Wharf
DESCRIPTION:Deadrise 5k and 1k fun run at Williams Wharf. – Enjoy the vistas at Williams Wharf and get a good run in while you’re at it. This event is for everyone of all ages and the course will be flat and fast. This will be a timed event. The setting is absolutely gorgeous presented on the East River in Mathews County. Enjoy the party afterwards with music\, food & beverage on the waterfront.
URL:https://visitmathews.com/event/deadrise-5k/
LOCATION:Williams Wharf\, 1039 Williams Wharf Road\, Mathews\, VA\, 23109\, United States
CATEGORIES:Food & Drink,Health & Fitness,Outdoor,Sports
ATTACH;FMTTYPE=image/jpeg:https://visitmathews.com/wp-content/uploads/2015/05/multisport.jpg
END:VEVENT
BEGIN:VEVENT
DTSTART;TZID=America/New_York:20150530T080000
DTEND;TZID=America/New_York:20150530T160000
DTSTAMP:20260419T123119
CREATED:20150427T024725Z
LAST-MODIFIED:20150524T070715Z
UID:1587-1432972800-1433001600@visitmathews.com
SUMMARY:Mathews Community Wide Yard Sale
DESCRIPTION:Print/Download Yard Sale Map & Directions\nHUGE YARD\, BARN AND COLLECTIBLES SALE \nMain Street Mathews & various county locations – Rain or shine !! Like the Post Office ~ nothing will stop the treasure shopping!! Free Admission to Buyers! \nPrint/Download – Yard Sale Map & Directions \nContact Janice Jones for more info. 804-815-9044
URL:https://visitmathews.com/event/mathews-community-wide-yard-sale/
LOCATION:Mathews Visitor Center\, 239 Main Street\, Mathews\, VA\, 23109\, United States
CATEGORIES:Community Events,Outdoor
ATTACH;FMTTYPE=image/jpeg:https://visitmathews.com/wp-content/uploads/2015/04/YARDSALE1.jpg
END:VEVENT
BEGIN:VEVENT
DTSTART;TZID=America/New_York:20150530T080000
DTEND;TZID=America/New_York:20150530T140000
DTSTAMP:20260419T123119
CREATED:20150427T042858Z
LAST-MODIFIED:20150427T042858Z
UID:1589-1432972800-1432994400@visitmathews.com
SUMMARY:Annual Yard Sale at Bay School
DESCRIPTION:Bay School Community Arts Center – We will have artwork\, frames\, and art and craft supplies for sale. Great conversations about what to make from these treasures are free! The money raised will be used to fund free summer art programming for kids.  \nIf you’d like to donate your gently used art-related items\, please give us a call. (804) 725-1278
URL:https://visitmathews.com/event/annual-yard-sale-at-bay-school/
LOCATION:Bay School Community Arts Center\, 279 Main Street \, Mathews\, VA\, 23109\, United States
CATEGORIES:Community Events,Outdoor
END:VEVENT
BEGIN:VEVENT
DTSTART;TZID=America/New_York:20150523T200000
DTEND;TZID=America/New_York:20150523T220000
DTSTAMP:20260419T123119
CREATED:20150427T022823Z
LAST-MODIFIED:20150523T203746Z
UID:1586-1432411200-1432418400@visitmathews.com
SUMMARY:Steve Motley at Donk's
DESCRIPTION:Donk’s Theater presents: Steve Motley\, harmonica & blues performer. 8pm
URL:https://visitmathews.com/event/steve-motley-at-donks/
LOCATION:Donk’s Theater\, 8259 Buckley Hall Road\, Hudgins\, VA\, 23076\, United States
CATEGORIES:Live Music
END:VEVENT
BEGIN:VEVENT
DTSTART;TZID=America/New_York:20150516T190000
DTEND;TZID=America/New_York:20150516T190000
DTSTAMP:20260419T123119
CREATED:20150512T145533Z
LAST-MODIFIED:20150512T145637Z
UID:1709-1431802800-1431802800@visitmathews.com
SUMMARY:Soldiers in Gray - Musical
DESCRIPTION:Award winning one man musical play recounting a soldier’s life and emotions surrounding the Civil War.  Admission is free and refreshments will be served\,  Sesquicentennial and UDC presentation.
URL:https://visitmathews.com/event/soldiers-gray-musical/
LOCATION:Westville Christian Church\, 261 Main St.\, Mathews\, VA\, United States
CATEGORIES:Arts & Cultural,Community Events,History,Live Music
ORGANIZER;CN="Mathews County Sesquicentennial Committee":MAILTO:mssugardancer@aol.com
END:VEVENT
BEGIN:VEVENT
DTSTART;TZID=America/New_York:20150516T170000
DTEND;TZID=America/New_York:20150516T210000
DTSTAMP:20260419T123119
CREATED:20150427T013949Z
LAST-MODIFIED:20150427T022605Z
UID:1584-1431795600-1431810000@visitmathews.com
SUMMARY:Seafood Feast & Party at the Wharf
DESCRIPTION:Come give a proper send off to cyclists of the Tour de Chesapeake. Great food\, live music and dancing at Williams Wharf. \nFREE ADMISSION AND OPEN TO THE PUBLIC \n\nFresh seafood by Merroir. Choices include TBA. Available for purchase on site – this company takes credit cards.\nBeer\, Wine and soft drinks by the Mathews Rotary Club – Cash only please\nLive Music by “Lynda Smith & 7th Street”
URL:https://visitmathews.com/event/seafood-feast-party-at-the-wharf/
LOCATION:Williams Wharf\, 1039 Williams Wharf Road\, Mathews\, VA\, 23109\, United States
CATEGORIES:Community Events,Food & Drink,Live Music
ORGANIZER;CN="Lynda Smith Greve":MAILTO:mclc@3bubbas.com
END:VEVENT
BEGIN:VEVENT
DTSTART;TZID=America/New_York:20150516T100000
DTEND;TZID=America/New_York:20150516T170000
DTSTAMP:20260419T123119
CREATED:20150311T220230Z
LAST-MODIFIED:20150311T220230Z
UID:122-1431770400-1431795600@visitmathews.com
SUMMARY:Art de Tour
DESCRIPTION:More than a dozen local artists and home business owners will gather at Williams Wharf to show off their creations and wares. Purchase special treasures from their vast and varied collections! This event takes place during the Tour de Chesapeake Cycling event.
URL:https://visitmathews.com/event/art-de-tour/
LOCATION:Williams Wharf\, 1039 Williams Wharf Road\, Mathews\, VA\, 23109\, United States
CATEGORIES:Art Shows,Community Events
ATTACH;FMTTYPE=image/jpeg:https://visitmathews.com/wp-content/uploads/2015/03/artdetourlogo2015.jpg
ORGANIZER;CN="Lynda Smith Greve":MAILTO:mclc@3bubbas.com
END:VEVENT
BEGIN:VEVENT
DTSTART;TZID=America/New_York:20150516T100000
DTEND;TZID=America/New_York:20150516T160000
DTSTAMP:20260419T123119
CREATED:20150514T191237Z
LAST-MODIFIED:20150514T191237Z
UID:1713-1431770400-1431792000@visitmathews.com
SUMMARY:Ceramics Open House - Bay School
DESCRIPTION:Join us to experience everything clay!  Local ceramic artists will be on hand to show their wares\, demonstrate how they create their art\, and guide future potters through fun hands-on activities for adults and kids\, on and off the potter’s wheel.  If you already love clay\, this is a great time to hang out in the studio with fellow ceramists.
URL:https://visitmathews.com/event/ceramics-open-house-bay-school/
LOCATION:Bay School Community Arts Center\, 279 Main Street \, Mathews\, VA\, 23109\, United States
CATEGORIES:Arts & Cultural
ATTACH;FMTTYPE=image/jpeg:https://visitmathews.com/wp-content/uploads/2015/05/Ceramics-Open-House-2015.jpg
END:VEVENT
BEGIN:VEVENT
DTSTART;TZID=America/New_York:20150515T160000
DTEND;TZID=America/New_York:20150517T101500
DTSTAMP:20260419T123119
CREATED:20150311T195107Z
LAST-MODIFIED:20150423T004950Z
UID:109-1431705600-1431857700@visitmathews.com
SUMMARY:Tour de Chesapeake Cycling Event
DESCRIPTION:Celebrate the arrival of spring with a weekend of scenic cycling – great FLAT routes with views of the water everywhere you turn\, delicious local eats\, toe-tapping music\, and nice\, down-home folks to help you with whatever you need! The County of Mathews\, the Mathews Land Conservancy\, and the Mathews Visitor Center are your hosts for this event.
URL:https://visitmathews.com/event/tour-de-chesapeake-cycling-event/
LOCATION:Thomas Hunter Middle School\,  387 Church Street\, Mathews\, VA\,  23109\, United States
CATEGORIES:Community Events,Food & Drink,Health & Fitness,Live Music,Outdoor
ATTACH;FMTTYPE=image/jpeg:https://visitmathews.com/wp-content/uploads/2015/03/TDC-Logo2012.jpg
ORGANIZER;CN="Lynda Smith Greve":MAILTO:mclc@3bubbas.com
END:VEVENT
BEGIN:VEVENT
DTSTART;TZID=America/New_York:20150512T180000
DTEND;TZID=America/New_York:20150512T190000
DTSTAMP:20260419T123119
CREATED:20150504T191601Z
LAST-MODIFIED:20150504T191601Z
UID:1684-1431453600-1431457200@visitmathews.com
SUMMARY:Discussion of 2015 General Assembly Session
DESCRIPTION:Sen. Lynwood Lewis\, Jr. will discuss the 2015 General Assembly Session at the Historic Courthouse.
URL:https://visitmathews.com/event/discussion-of-2015-general-assembly-session/
LOCATION:Courthouse Square\, Court St\, Mathews\, VA\, 23109\, United States
CATEGORIES:Community Events
END:VEVENT
BEGIN:VEVENT
DTSTART;TZID=America/New_York:20150512T090000
DTEND;TZID=America/New_York:20150512T143000
DTSTAMP:20260419T123119
CREATED:20150504T191158Z
LAST-MODIFIED:20150504T191158Z
UID:1683-1431421200-1431441000@visitmathews.com
SUMMARY:Mathews County Triad Safety Forum
DESCRIPTION:Call Sheriff’s office to register. 804-725-7177
URL:https://visitmathews.com/event/mathews-county-triad-safety-forum/
LOCATION:VA
CATEGORIES:Community Events
END:VEVENT
BEGIN:VEVENT
DTSTART;TZID=America/New_York:20150509T200000
DTEND;TZID=America/New_York:20150509T220000
DTSTAMP:20260419T123119
CREATED:20150427T012028Z
LAST-MODIFIED:20150427T012028Z
UID:1581-1431201600-1431208800@visitmathews.com
SUMMARY:The Original Rhondels  at Donk's
DESCRIPTION:Donk’s Theater presents The Original Rhondels at 8pm\, May 9th.
URL:https://visitmathews.com/event/the-original-rhondels-at-donks/
LOCATION:Donk’s Theater\, 8259 Buckley Hall Road\, Hudgins\, VA\, 23076\, United States
CATEGORIES:Arts & Cultural,Live Music
ATTACH;FMTTYPE=image/jpeg:https://visitmathews.com/wp-content/uploads/2015/04/rhondels.jpg
END:VEVENT
BEGIN:VEVENT
DTSTART;TZID=America/New_York:20150502T100000
DTEND;TZID=America/New_York:20150502T233000
DTSTAMP:20260419T123119
CREATED:20150425T005937Z
LAST-MODIFIED:20150425T005937Z
UID:1541-1430560800-1430609400@visitmathews.com
SUMMARY:Rain Barrel Making Workshop
DESCRIPTION:Mathews Master Gardeners present RAIN BARREL MAKING WORKSHOP This rain barrels making workshop is a hands on experience in how to construct a rain barrel. Held in the old Court House Green where you can also shop the Farmers Market at the same time! Come learn how to be a part of the solution to environmental challenges. Rain barrels and supplies must be purchased in advance by calling the Virginia Cooperative Extension Office at 804-725-7196. Reservations are a must! Limited to the first 20 participants. The fee is $35.00 and your registration check should be sent to the Mathews Extension Office\, P.O. Box 569\, Mathews VA 23109.
URL:https://visitmathews.com/event/rain-barrel-making-workshop/
LOCATION:Courthouse Square\, Court St\, Mathews\, VA\, 23109\, United States
CATEGORIES:Community Events,Outdoor
END:VEVENT
BEGIN:VEVENT
DTSTART;TZID=America/New_York:20150502T090000
DTEND;TZID=America/New_York:20150502T130000
DTSTAMP:20260419T123119
CREATED:20150425T010323Z
LAST-MODIFIED:20150425T010323Z
UID:1542-1430557200-1430571600@visitmathews.com
SUMMARY:Countywide Spring Clean Up
DESCRIPTION:Bags available at visitor’s center. Call 725-4229
URL:https://visitmathews.com/event/countywide-spring-clean-up/
LOCATION:Mathews Visitor Center\, 239 Main Street\, Mathews\, VA\, 23109\, United States
CATEGORIES:Community Events,Outdoor
END:VEVENT
BEGIN:VEVENT
DTSTART;TZID=America/New_York:20150502T080000
DTEND;TZID=America/New_York:20150502T160000
DTSTAMP:20260419T123119
CREATED:20150425T005555Z
LAST-MODIFIED:20150426T064732Z
UID:1540-1430553600-1430582400@visitmathews.com
SUMMARY:MHS Crew Regatta
DESCRIPTION:27TH ANNUAL MHS REGATTA – Mathews Mathews High School Crew Regatta at Williams Wharf\, Open to the public\, $8 parking fee; food available. \nFor more information contact Lynda Smith Greve\, 804-725-9685 or mclc@3bubbas.com
URL:https://visitmathews.com/event/mhs-crew-regatta/
LOCATION:Williams Wharf\, 1039 Williams Wharf Road\, Mathews\, VA\, 23109\, United States
CATEGORIES:Community Events,Food & Drink,Outdoor,Sports
ATTACH;FMTTYPE=image/jpeg:https://visitmathews.com/wp-content/uploads/2015/04/crew.jpg
ORGANIZER;CN="Lynda Smith Greve":MAILTO:mclc@3bubbas.com
END:VEVENT
BEGIN:VEVENT
DTSTART;TZID=America/New_York:20150502T040000
DTEND;TZID=America/New_York:20150502T190000
DTSTAMP:20260419T123119
CREATED:20150425T003212Z
LAST-MODIFIED:20150427T083439Z
UID:1536-1430539200-1430593200@visitmathews.com
SUMMARY:Art Speaks on the Bay Opening Reception
DESCRIPTION:The Bay School ART SPEAKS ON THE BAY 2015 Opening Reception Saturday\, May 2\, 4-7 pm Prize Money: $3\,200 Juror and Judge: Jill Jensen For more information please call 804-725-1278 or visit The Bay School Website
URL:https://visitmathews.com/event/art-speaks-on-the-bay/
LOCATION:Bay School Community Arts Center\, 279 Main Street \, Mathews\, VA\, 23109\, United States
CATEGORIES:Art Shows,Arts & Cultural
ATTACH;FMTTYPE=image/jpeg:https://visitmathews.com/wp-content/uploads/2015/04/bayschool-1.jpg
END:VEVENT
BEGIN:VEVENT
DTSTART;VALUE=DATE:20150502
DTEND;VALUE=DATE:20150503
DTSTAMP:20260419T123119
CREATED:20150425T004645Z
LAST-MODIFIED:20150425T004855Z
UID:1538-1430524800-1430611199@visitmathews.com
SUMMARY:Shop Local Day
DESCRIPTION:Specials & discounts available at participating merchants throughout Mathews and surrounding counties. Sponsored by Chesapeake Bank
URL:https://visitmathews.com/event/shop-local-day/
LOCATION:VA
CATEGORIES:Community Events
ATTACH;FMTTYPE=image/jpeg:https://visitmathews.com/wp-content/uploads/2015/04/shoplocal.jpg
END:VEVENT
BEGIN:VEVENT
DTSTART;TZID=America/New_York:20150427T080000
DTEND;TZID=America/New_York:20150427T170000
DTSTAMP:20260419T123119
CREATED:20150427T054616Z
LAST-MODIFIED:20150427T074202Z
UID:1624-1430121600-1430154000@visitmathews.com
SUMMARY:Party at the Wharf
DESCRIPTION:PARTY AT THE WHARF – Williams Wharf Landing\, Open to the public\, $5 at the gate\, great band and dancing\, food available for purchase\, cash bar For more information contact Lynda Smith Greve\, 804-725-9685 or mclc@3bubbas.com
URL:https://visitmathews.com/event/party-at-the-wharf/
LOCATION:Williams Wharf\, 1039 Williams Wharf Road\, Mathews\, VA\, 23109\, United States
CATEGORIES:Community Events,Food & Drink,Live Music,Outdoor
END:VEVENT
BEGIN:VEVENT
DTSTART;TZID=America/New_York:20150427T080000
DTEND;TZID=America/New_York:20150427T170000
DTSTAMP:20260419T123119
CREATED:20150427T043350Z
LAST-MODIFIED:20150427T081436Z
UID:1590-1430121600-1430154000@visitmathews.com
SUMMARY:Clean the Bay Day
DESCRIPTION:Chesapeake Bay Foundation & Local Partners – Volunteers sought to clean shorelines-focus group for Millford Haven & Piankatank River  \nCoordination base is Gwynn’s Island boat ramp call John Reese at 540-433-9358 for details
URL:https://visitmathews.com/event/clean-the-bay-day/
LOCATION:Gwynn’s Island Boat Ramp\, 384 Old Ferry Rd\, Gwynn\, VA\, 23109\, United States
CATEGORIES:Community Events,Outdoor
ATTACH;FMTTYPE=image/png:https://visitmathews.com/wp-content/uploads/2015/04/cbf-logo.png
END:VEVENT
BEGIN:VEVENT
DTSTART;TZID=America/New_York:20150425T100000
DTEND;TZID=America/New_York:20150425T130000
DTSTAMP:20260419T123119
CREATED:20150423T073917Z
LAST-MODIFIED:20150424T233619Z
UID:1433-1429956000-1429966800@visitmathews.com
SUMMARY:Tompkins Cottage Open
DESCRIPTION:Open every Saturday\, 10am-1pm\, April – October  \nTake a look inside the historic Tompkins Cottage for a glimpse into the lifestyle and early folk architecture of the 1800’s. \nLearn more about Tompkins Cottage
URL:https://visitmathews.com/event/tompkins-cottage-open/
LOCATION:Tompkins Cottage\, Brickbat Road\, Mathews\, VA\, 23109\, United States
CATEGORIES:Arts & Cultural,History
ATTACH;FMTTYPE=image/jpeg:https://visitmathews.com/wp-content/uploads/2015/04/tompkins-cottage.jpg
END:VEVENT
BEGIN:VEVENT
DTSTART;TZID=UTC:20150425T093000
DTEND;TZID=UTC:20150425T140000
DTSTAMP:20260419T123119
CREATED:20150422T222532Z
LAST-MODIFIED:20241111T135633Z
UID:1158-1429954200-1429970400@visitmathews.com
SUMMARY:Used Book Sale
DESCRIPTION:Every Saturday 9:30-2:00\, Orrell Building Book Store behind the Visitor’s Center.\nThousands of books — most are only $1 \nLearn more about the Friends of the Mathews Memorial Library:\nwww.friendsofmathewslibrary.org\nBook Store: 725-0808
URL:https://visitmathews.com/event/used-book-sale/
LOCATION:Friends of the Mathews Memorial Library\, 68 Maple Avenue\, Mathews\, VA\, 23109\, United States
CATEGORIES:Library Events
ATTACH;FMTTYPE=image/jpeg:https://visitmathews.com/wp-content/uploads/2015/04/book-store-interior.jpg
ORGANIZER;CN="Friends of the Mathews Memorial Library":MAILTO:friendsofmathewslibrary@gmail.com
END:VEVENT
BEGIN:VEVENT
DTSTART;TZID=America/New_York:20150425T090000
DTEND;TZID=America/New_York:20150425T130000
DTSTAMP:20260419T123119
CREATED:20150423T064430Z
LAST-MODIFIED:20150423T064509Z
UID:1403-1429952400-1429966800@visitmathews.com
SUMMARY:Farmer's Market
DESCRIPTION:At Historic Courthouse Square every Saturday through the end of October. All products sold at the market are made\, grown\, or baked by regional growers and vendors.
URL:https://visitmathews.com/event/farmers-market/
LOCATION:Courthouse Square\, Court St\, Mathews\, VA\, 23109\, United States
CATEGORIES:Community Events,Food & Drink,Health & Fitness,Outdoor
ATTACH;FMTTYPE=image/jpeg:https://visitmathews.com/wp-content/uploads/2015/04/mathews-farmers-market.jpg
END:VEVENT
END:VCALENDAR