BEGIN:VCALENDAR
VERSION:2.0
PRODID:-//Mathews County Visitor Center - ECPv6.15.20//NONSGML v1.0//EN
CALSCALE:GREGORIAN
METHOD:PUBLISH
X-WR-CALNAME:Mathews County Visitor Center
X-ORIGINAL-URL:https://visitmathews.com
X-WR-CALDESC:Events for Mathews County Visitor Center
REFRESH-INTERVAL;VALUE=DURATION:PT1H
X-Robots-Tag:noindex
X-PUBLISHED-TTL:PT1H
BEGIN:VTIMEZONE
TZID:America/New_York
BEGIN:DAYLIGHT
TZOFFSETFROM:-0500
TZOFFSETTO:-0400
TZNAME:EDT
DTSTART:20140309T070000
END:DAYLIGHT
BEGIN:STANDARD
TZOFFSETFROM:-0400
TZOFFSETTO:-0500
TZNAME:EST
DTSTART:20141102T060000
END:STANDARD
BEGIN:DAYLIGHT
TZOFFSETFROM:-0500
TZOFFSETTO:-0400
TZNAME:EDT
DTSTART:20150308T070000
END:DAYLIGHT
BEGIN:STANDARD
TZOFFSETFROM:-0400
TZOFFSETTO:-0500
TZNAME:EST
DTSTART:20151101T060000
END:STANDARD
BEGIN:DAYLIGHT
TZOFFSETFROM:-0500
TZOFFSETTO:-0400
TZNAME:EDT
DTSTART:20160313T070000
END:DAYLIGHT
BEGIN:STANDARD
TZOFFSETFROM:-0400
TZOFFSETTO:-0500
TZNAME:EST
DTSTART:20161106T060000
END:STANDARD
END:VTIMEZONE
BEGIN:VEVENT
DTSTART;TZID=America/New_York:20150921T163000
DTEND;TZID=America/New_York:20150921T203000
DTSTAMP:20260419T083803
CREATED:20150825T234657Z
LAST-MODIFIED:20150831T231002Z
UID:2000-1442853000-1442867400@visitmathews.com
SUMMARY:Paddle for Peace
DESCRIPTION:Sunset paddle at 6 pm. \nPicnic from 4:30 pm to 8:30 pm \nhttps://www.facebook.com/events/110685829281679/
URL:https://visitmathews.com/event/paddle-for-peace/
LOCATION:Williams Wharf\, 1039 Williams Wharf Road\, Mathews\, VA\, 23109\, United States
CATEGORIES:Art Shows,Arts & Cultural,Community Events,Health & Fitness,Live Music,Outdoor,Sports
ORGANIZER;CN="Mathews Community":MAILTO:Jamt225@gmail.com
END:VEVENT
BEGIN:VEVENT
DTSTART;TZID=America/New_York:20150916T060000
DTEND;TZID=America/New_York:20150917T180000
DTSTAMP:20260419T083803
CREATED:20150827T152514Z
LAST-MODIFIED:20150917T062230Z
UID:2027-1442383200-1442512800@visitmathews.com
SUMMARY:The Amazing Raise
DESCRIPTION:Help the Mathews County Visitor & Information Center raise $5\,000 in 36 hours!!!\nWe want to restore the original staircase in Sibley’s General Store. \nUse the form below or click here: www.theamazingraise.org.\n \nwww.theamazingraise.org.
URL:https://visitmathews.com/event/the-amazing-raise/
LOCATION:Mathews Visitor Center\, 239 Main Street\, Mathews\, VA\, 23109\, United States
CATEGORIES:Community Events
ATTACH;FMTTYPE=image/png:https://visitmathews.com/wp-content/uploads/2015/08/amazingraise-1433164812.759-arlogooutline.png
END:VEVENT
BEGIN:VEVENT
DTSTART;TZID=America/New_York:20150913T150000
DTEND;TZID=America/New_York:20150913T170000
DTSTAMP:20260419T083803
CREATED:20150825T234134Z
LAST-MODIFIED:20150825T234134Z
UID:2002-1442156400-1442163600@visitmathews.com
SUMMARY:Concerts by the Bay - "Caravan of Thieves"
DESCRIPTION:Caravan of Thieves entertains\, dazzles\, and defies classification.  Their driving jazz rhythms\, acoustic guitars\, upright bass\, and violin lay the foundation for mesmerizing vocal harmonies and fantastic stories.  They are theatrical and humorous\, musical and intense.
URL:https://visitmathews.com/event/concerts-bay-caravan-thieves/
LOCATION:Mathews High School\, 9889 Buckley Hall Rd\, Mathews\, VA\, 23109\, United States
CATEGORIES:Arts & Cultural,Live Music
ORGANIZER;CN="CONCERTS BY THE BAY INC.":MAILTO:concertsbythebay22@gmail.com
END:VEVENT
BEGIN:VEVENT
DTSTART;TZID=America/New_York:20150913T120000
DTEND;TZID=America/New_York:20150913T160000
DTSTAMP:20260419T083803
CREATED:20150427T054848Z
LAST-MODIFIED:20150427T054848Z
UID:1625-1442145600-1442160000@visitmathews.com
SUMMARY:Wharf to Wharf Swim
DESCRIPTION:Mathews Land Conservancy 9th ANNUAL L. WAYNE HUDGINS WHARF TO WHARF SWIM 1400 meter open water swim across the East River from Williams Wharf to Hicks Wharf and back – swimmers must have $100 minimum sponsorship to swim. Benefits Mathews Land Conservncy Boathouse fund. Call for details Lynda Smith Greve\, 804-725-9685 or mclc@3bubbas.com
URL:https://visitmathews.com/event/wharf-to-wharf-swim/
LOCATION:Williams Wharf\, 1039 Williams Wharf Road\, Mathews\, VA\, 23109\, United States
CATEGORIES:Community Events,Health & Fitness,Outdoor,Sports
END:VEVENT
BEGIN:VEVENT
DTSTART;TZID=America/New_York:20150912T200000
DTEND;TZID=America/New_York:20150912T223000
DTSTAMP:20260419T083803
CREATED:20150820T174145Z
LAST-MODIFIED:20150820T174145Z
UID:1981-1442088000-1442097000@visitmathews.com
SUMMARY:Talent Search at Donk's Theater
DESCRIPTION:Show off your vocal talent with the house band (or by yourself)!  This event will be judged and monetary prizes given!  For more information\, visit www.donkstheater.com.
URL:https://visitmathews.com/event/talent-search-donks-theater/
LOCATION:Donk’s Theater\, 8259 Buckley Hall Road\, Hudgins\, VA\, 23076\, United States
CATEGORIES:Arts & Cultural,Live Music
ATTACH;FMTTYPE=image/jpeg:https://visitmathews.com/wp-content/uploads/2015/08/donkslogo.jpg
ORGANIZER;CN="Lynda Smith Greve":MAILTO:mclc@3bubbas.com
END:VEVENT
BEGIN:VEVENT
DTSTART;TZID=America/New_York:20150912T090000
DTEND;TZID=America/New_York:20150912T160000
DTSTAMP:20260419T083803
CREATED:20150829T233330Z
LAST-MODIFIED:20150831T230549Z
UID:2042-1442048400-1442073600@visitmathews.com
SUMMARY:Civil War Living History at Fort Nonsense Heritage Day
DESCRIPTION:Various Living History activities will take place at Fort Nonsense\, including Confederate artillery firing and drills\, Confederate infantry firing and drills\, CSA Doctor with medical supplies and tools\, artist and author Henry Kidd will have an exhibit and items for sale\, UDC members will participate in period attire\, period music and dance in the pavilion at 11:00 A.M.\, and other numerous activities
URL:https://visitmathews.com/event/civil-war-living-history/
LOCATION:Fort Nonsense\, corner of Route 14 and route 3 in Mathews County  \, Mathews County \, VA\, United States
CATEGORIES:Arts & Cultural,History,Outdoor
END:VEVENT
BEGIN:VEVENT
DTSTART;TZID=America/New_York:20150912T073000
DTEND;TZID=America/New_York:20150912T091500
DTSTAMP:20260419T083803
CREATED:20150727T185544Z
LAST-MODIFIED:20150727T185544Z
UID:1890-1442043000-1442049300@visitmathews.com
SUMMARY:10K/5K+/1 Mile Fun Run - Mathews Market Days
DESCRIPTION:Presented by Bank of America and Kloke Group\, Mathews Market Days races feature three course options this year: 10K\, 5K+ and 1 Mile Fun Run. Early bird fees are due 8/30\, though registration is available through race day. Help the Mathews Family YMCA ensure ALL youth and families have the opportunity to learn\, thrive and grow.
URL:https://visitmathews.com/event/10k5k1-mile-fun-run-mathews-market-days/
LOCATION:Mathews Family YMCA\, 10746 Buckley HallRoad\, Mathews\, VA\, 23109\, United States
CATEGORIES:Community Events,Health & Fitness,Outdoor,Sports
ATTACH;FMTTYPE=image/jpeg:https://visitmathews.com/wp-content/uploads/2015/07/IMG_3789.jpg
END:VEVENT
BEGIN:VEVENT
DTSTART;TZID=America/New_York:20150911T170000
DTEND;TZID=America/New_York:20150911T213000
DTSTAMP:20260419T083803
CREATED:20150820T173912Z
LAST-MODIFIED:20150820T173912Z
UID:1978-1441990800-1442007000@visitmathews.com
SUMMARY:Party at the Wharf
DESCRIPTION:Join us for a Party under the stars at the Riverfront Pavilion at Williams Wharf Landing (1039 Williams Wharf Road\, Mathews\, VA 23109). Dance to the music of 7th Street. Beer/wine cash bar available. Food available. Bring a chair or enjoy a seat at one of our picnic tables. $5 at the gate. Kids are free. This event benefits the Williams Wharf Project.
URL:https://visitmathews.com/event/party-at-the-wharf-2/
LOCATION:Williams Wharf\, 1039 Williams Wharf Road\, Mathews\, VA\, 23109\, United States
CATEGORIES:Community Events,Food & Drink,Live Music,Outdoor
ATTACH;FMTTYPE=image/jpeg:https://visitmathews.com/wp-content/uploads/2015/08/2011party1-e1459361440324.jpg
ORGANIZER;CN="Mathews Land Conservancy":MAILTO:info@mathewslandconservancy.org
END:VEVENT
BEGIN:VEVENT
DTSTART;VALUE=DATE:20150911
DTEND;VALUE=DATE:20150913
DTSTAMP:20260419T083803
CREATED:20150311T202443Z
LAST-MODIFIED:20150311T231605Z
UID:112-1441929600-1442102399@visitmathews.com
SUMMARY:Mathews Market Days
DESCRIPTION:The streets of Mathews come alive with ART and CRAFT Exhibitors featuring the work of outstanding local artists | Classic Cruisers Show N’ Shine CAR SHOW | FOOD delicacies including Seafood\, Burgers\, Dogs\, Funnel Cakes\, Fried Donuts\, Kettle Korn and mmmmore! | HOME GOODS Product Fair | YOUTH Corner | PET Parade |  YMCA The Real Crab Race | Spelling BEES | KARAOKE & Youth DANCE | LIVE Musical Entertainment throughout | Saturday Night Live Street DANCE
URL:https://visitmathews.com/event/mathews-market-days/
LOCATION:Mathews Visitor Center\, 239 Main Street\, Mathews\, VA\, 23109\, United States
CATEGORIES:Art Shows,Community Events,Food & Drink,Live Music,Outdoor
ATTACH;FMTTYPE=image/jpeg:https://visitmathews.com/wp-content/uploads/2015/03/marketdaysimage.jpg
ORGANIZER;CN="Mathews Market Days Committee":MAILTO:mathewsmarketdays@gmail.com
END:VEVENT
BEGIN:VEVENT
DTSTART;TZID=America/New_York:20150905T150000
DTEND;TZID=America/New_York:20150905T170000
DTSTAMP:20260419T083803
CREATED:20150828T170253Z
LAST-MODIFIED:20150828T170840Z
UID:2033-1441465200-1441472400@visitmathews.com
SUMMARY:Summer Concert Series
DESCRIPTION:Concert Series to help benefit the Gloucester-Mathews Care Clinic Dental Program.\nFeaturing: The Tom Euler Trio\nGenre: High- Energy Blues Band\nwww.tomeuler.com \nTickets: $20 in advance or $25 at the door for adults.  Children under 12 FREE. \nFood\, Cash Bar with Wine and Beer. \nFood provided by Creekside Catering Company. \nDon’t forget to bring your lawn chairs. \nTickets are available at Brent & Becky’s\, Juan’s or GMCC.
URL:https://visitmathews.com/event/summer-concert-series/
LOCATION:Brent and Beckys\, 7900 Daffodil Lane\, Gloucester\, VA\, 23061\, United States
CATEGORIES:Food & Drink,Live Music
ATTACH;FMTTYPE=image/png:https://visitmathews.com/wp-content/uploads/2015/08/8-13-2015.png
END:VEVENT
BEGIN:VEVENT
DTSTART;TZID=America/New_York:20150903T190000
DTEND;TZID=America/New_York:20150903T210000
DTSTAMP:20260419T083804
CREATED:20150823T205317Z
LAST-MODIFIED:20150823T205317Z
UID:1994-1441306800-1441314000@visitmathews.com
SUMMARY:The Marx Brothers: “A Night at the Opera”
DESCRIPTION:The Marx Brothers — Groucho\, Harpo and Chico — wreak havoc in the opera house in one of their biggest hits. This film contains perhaps the greatest Marx comedy bit ever: the crowded stateroom scene. This was the first MGM film for the Marxes.
URL:https://visitmathews.com/event/marx-brothers-night-opera/
LOCATION:The Halcyon Theater\, 40 court Street \, Mathews\, VA\, VA\, 23109\, United States
CATEGORIES:Arts & Cultural
END:VEVENT
BEGIN:VEVENT
DTSTART;TZID=America/New_York:20150829T200000
DTEND;TZID=America/New_York:20150829T220000
DTSTAMP:20260419T083804
CREATED:20150427T054433Z
LAST-MODIFIED:20150427T054433Z
UID:1623-1440878400-1440885600@visitmathews.com
SUMMARY:Farren Winter at Donk's
DESCRIPTION:Donks Theater presents: Farren Winter
URL:https://visitmathews.com/event/farren-winter-at-donks/
LOCATION:Donk’s Theater\, 8259 Buckley Hall Road\, Hudgins\, VA\, 23076\, United States
CATEGORIES:Live Music
END:VEVENT
BEGIN:VEVENT
DTSTART;TZID=America/New_York:20150827T160000
DTEND;TZID=America/New_York:20150827T173000
DTSTAMP:20260419T083804
CREATED:20150603T004526Z
LAST-MODIFIED:20150603T004526Z
UID:1764-1440691200-1440696600@visitmathews.com
SUMMARY:Virginia Symphony Ambrosia Quartet - "VSO Chamber Music Ensemble"
DESCRIPTION:Virginia Symphony Ambrosia Quartet will feature in “Soothin’ Summer Sounds”\, an annual series of live musical events\, at the Mathews Memorial Library. This year’s theme “Play It Again…” takes a trip down memory lane based on a survey following the conclusions of last year’s programs to determine audience favorites since launching the series in 2005. \nAll events are free and followed by refreshments. Sponsored by the Friends of the Library.
URL:https://visitmathews.com/event/virginia-symphony-ambrosia-quartet-vso-chamber-music-ensemble/
LOCATION:Mathews Memorial Library\, 251 Main Street\, Mathews\, VA\, 23109\, United States
CATEGORIES:Library Events,Live Music
ATTACH;FMTTYPE=image/jpeg:https://visitmathews.com/wp-content/uploads/2015/06/Virginia-Symphony-Ambrosia-Quartet.jpg
ORGANIZER;CN="Mathews Memorial Library":MAILTO:staff@mathewslibrary.org
END:VEVENT
BEGIN:VEVENT
DTSTART;TZID=America/New_York:20150820T190000
DTEND;TZID=America/New_York:20150820T210000
DTSTAMP:20260419T083804
CREATED:20150717T181559Z
LAST-MODIFIED:20150717T181559Z
UID:1876-1440097200-1440104400@visitmathews.com
SUMMARY:The Lincoln Summer Cottage
DESCRIPTION:Power point and presentation by Ms. Callie Hawkins\, the curator of the Lincoln Summer Cottage. This is where President Lincoln went to get away from the White House.
URL:https://visitmathews.com/event/lincoln-summer-cottage/
LOCATION:Kingston Episcopal Parish House\, 370 Main Street \, Mathews Courthouse\, VA\, 23125\, United States
CATEGORIES:History
END:VEVENT
BEGIN:VEVENT
DTSTART;TZID=America/New_York:20150815T200000
DTEND;TZID=America/New_York:20150815T220000
DTSTAMP:20260419T083804
CREATED:20150427T054305Z
LAST-MODIFIED:20150427T054305Z
UID:1622-1439668800-1439676000@visitmathews.com
SUMMARY:Lynda Smith at Donk's
DESCRIPTION:Donk’s Theater presents: Lynda Smith
URL:https://visitmathews.com/event/lynda-smith-at-donks/
LOCATION:Donk’s Theater\, 8259 Buckley Hall Road\, Hudgins\, VA\, 23076\, United States
CATEGORIES:Live Music
END:VEVENT
BEGIN:VEVENT
DTSTART;TZID=America/New_York:20150815T190000
DTEND;TZID=America/New_York:20150815T220000
DTSTAMP:20260419T083804
CREATED:20150427T054152Z
LAST-MODIFIED:20150427T054152Z
UID:1621-1439665200-1439676000@visitmathews.com
SUMMARY:Summer Music & Deck Party
DESCRIPTION:White Dog Bistro 2014 SUMMER MUSIC AND DECK PARTY The White Dog is celebrating summer with tunes from Toby & Larry. Come enjoy dinner or a drink at the bar while you sway to the tunes. No worries ~ The tide won’t get your chair! 804-725-7680
URL:https://visitmathews.com/event/summer-music-deck-party-3/
LOCATION:The White Dog Bistro\, 68 Church St\, Mathews\, VA\, 23109\, United States
CATEGORIES:Food & Drink,Live Music,Outdoor
END:VEVENT
BEGIN:VEVENT
DTSTART;TZID=America/New_York:20150814T153000
DTEND;TZID=America/New_York:20150814T183000
DTSTAMP:20260419T083804
CREATED:20150807T080843Z
LAST-MODIFIED:20150810T004821Z
UID:1945-1439566200-1439577000@visitmathews.com
SUMMARY:Children's Art Show Reception
DESCRIPTION:The Bay School will exhibit a children’s art show from August 14-22. \nWe want to celebrate and show off the creative talents of our young students. Please see the details below and encourage your budding artist to exhibit their artwork in the show. \nPlease join us for the reception\nFriday\, Aug 14\, 3:30-6:30pm \nThis year we will be installing art work from our summer camps on the new Thomas Hunter Middle School Nature Trail!\nJoin us for a Nature Art Walk during the Friday reception or any time Saturday\, August 15. Find your masterpiece in nature! \nFor more information please contact the Bay School\nwww.bayschool-arts.com\n804-725-1278
URL:https://visitmathews.com/event/call-young-artists-childrens-art-show/
LOCATION:Bay School Community Arts Center\, 279 Main Street \, Mathews\, VA\, 23109\, United States
CATEGORIES:Art Shows,Arts & Cultural,Food & Drink
ATTACH;FMTTYPE=image/jpeg:https://visitmathews.com/wp-content/uploads/2015/08/DSC09126.jpg
ORGANIZER;CN="Pam Doss":MAILTO:pamdoss@bayschool-arts.com
END:VEVENT
BEGIN:VEVENT
DTSTART;TZID=America/New_York:20150807T190000
DTEND;TZID=America/New_York:20150807T210000
DTSTAMP:20260419T083804
CREATED:20150808T000351Z
LAST-MODIFIED:20150808T000351Z
UID:1961-1438974000-1438981200@visitmathews.com
SUMMARY:Voter Forum
DESCRIPTION:Candidates for office in Mathews County will appear in a moderated forum. After opening statements\, each candidate will answer questions focused on issues relevant to the County. Presented by the Gwynn’s Island Civic League. Free and open to the public.
URL:https://visitmathews.com/event/voter-forum/
LOCATION:Gwynn’s Island Civic Center\, 1996 Old Ferry Rd.\, Gwynn\, VA\, 23066\, United States
CATEGORIES:Community Events
ATTACH;FMTTYPE=image/jpeg:https://visitmathews.com/wp-content/uploads/2015/08/Civic-Ctr-11.jpeg
ORGANIZER;CN="Gwynn's Island Civic League":MAILTO:gwynnsislandfestival@gmail.com
END:VEVENT
BEGIN:VEVENT
DTSTART;TZID=America/New_York:20150801T200000
DTEND;TZID=America/New_York:20150801T220000
DTSTAMP:20260419T083804
CREATED:20150427T054014Z
LAST-MODIFIED:20150427T054014Z
UID:1620-1438459200-1438466400@visitmathews.com
SUMMARY:Nashville's John Berry at Donk's
DESCRIPTION:Donk’s Theater Nashville’s JOHN BERRY intersection of Routes 198 & 223\, Hudgins For ticket information 804-725-7760 or www.donkstheater.com
URL:https://visitmathews.com/event/nashvilles-john-berry-at-donks/
LOCATION:Donk’s Theater\, 8259 Buckley Hall Road\, Hudgins\, VA\, 23076\, United States
CATEGORIES:Live Music
END:VEVENT
BEGIN:VEVENT
DTSTART;TZID=America/New_York:20150726T130000
DTEND;TZID=America/New_York:20150726T160000
DTSTAMP:20260419T083804
CREATED:20150427T053811Z
LAST-MODIFIED:20150427T084317Z
UID:1619-1437915600-1437926400@visitmathews.com
SUMMARY:Summer Music & Car Show
DESCRIPTION:White Dog Bistro and Vintage Gallery 2015 SUMMER MUSIC AND CAR SHOW The White Dog is celebrating summer ~ Come hear Mike Wend and check out the beautiful vintage/classic cars on display. The White Dog Bistro will be open for Lunch with Entertainment from 12-3:30 and Dinner from 4-8pm. Donations will support the Gloucester & Mathews Humane Society\, Mathews Rescue Squad\, Police Dept. & Fire Dept. For more details or to join the Mathew’s Automotive Club call MAC 570-350-1422 or 804-725-7680
URL:https://visitmathews.com/event/summer-music-car-show-2/
LOCATION:The White Dog Bistro\, 68 Church St\, Mathews\, VA\, 23109\, United States
CATEGORIES:Food & Drink,Live Music,Outdoor
ATTACH;FMTTYPE=image/jpeg:https://visitmathews.com/wp-content/uploads/2015/02/mathews-car-show.jpg
END:VEVENT
BEGIN:VEVENT
DTSTART;TZID=America/New_York:20150725T160000
DTEND;TZID=America/New_York:20150725T180000
DTSTAMP:20260419T083804
CREATED:20150621T064144Z
LAST-MODIFIED:20150621T064144Z
UID:1826-1437840000-1437847200@visitmathews.com
SUMMARY:Women in Art - Closing Reception
DESCRIPTION:Women in the Arts – June 27 – July 25\nThis exhibition highlights the work of women who have dedicated their careers to the arts\, whether they’ve been at it for decades or are just starting out. Bay School staff are included in this show. There will be a “soft” opening during our normal business hours on June 27\, and a closing reception on Saturday\, July 25\, from 4-6pm. \nMondays 9:00am – 1:00pm\nTuesday – Saturday 10:00am – 4:00pm \nFeatured Artists:\nJill Jensen – Lynchburg printmaking/fiber art\nSusan Singer – Richmond oil portraits of women\nJanet Griffin – Gloucester tapestry weaving\nKatie Maloney – Cologne ceramics\nKathleen Reming – Mathews printmaking\nVirginia Coyle – Mathews acrylic painting\nGrace St. Loius – Mathews acrylic painting\nPam Doss – Gloucester ceramics and mixed media
URL:https://visitmathews.com/event/women-in-art-closing-reception/
LOCATION:Bay School Community Arts Center\, 279 Main Street \, Mathews\, VA\, 23109\, United States
CATEGORIES:Art Shows,Arts & Cultural
ORGANIZER;CN="Pam Doss":MAILTO:pamdoss@bayschool-arts.com
END:VEVENT
BEGIN:VEVENT
DTSTART;TZID=America/New_York:20150725T080000
DTEND;TZID=America/New_York:20150725T120000
DTSTAMP:20260419T083804
CREATED:20150604T040030Z
LAST-MODIFIED:20150605T163956Z
UID:1768-1437811200-1437825600@visitmathews.com
SUMMARY:YMCA Yard Sale
DESCRIPTION:The YMCA will host a yard sale to send kids back to school shopping.
URL:https://visitmathews.com/event/ymca-yard-sale/
LOCATION:YMCA-Hudgins Property (Behind Donk’s Theater)\, Hudgins\, VA\, United States
CATEGORIES:Outdoor
END:VEVENT
BEGIN:VEVENT
DTSTART;TZID=America/New_York:20150718T200000
DTEND;TZID=America/New_York:20150718T220000
DTSTAMP:20260419T083804
CREATED:20150427T053458Z
LAST-MODIFIED:20150427T053458Z
UID:1617-1437249600-1437256800@visitmathews.com
SUMMARY:Talent Search at Donk's
DESCRIPTION:Donk’s Theater Talent Search
URL:https://visitmathews.com/event/talent-search-at-donks/
LOCATION:Donk’s Theater\, 8259 Buckley Hall Road\, Hudgins\, VA\, 23076\, United States
CATEGORIES:Live Music
END:VEVENT
BEGIN:VEVENT
DTSTART;TZID=America/New_York:20150718T190000
DTEND;TZID=America/New_York:20150718T220000
DTSTAMP:20260419T083804
CREATED:20150427T053702Z
LAST-MODIFIED:20150427T053702Z
UID:1618-1437246000-1437256800@visitmathews.com
SUMMARY:Summer Music & Deck Party
DESCRIPTION:White Dog Bistro 2015 SUMMER MUSIC AND DECK PARTY The White Dog is celebrating summer with tunes from ‘Three Sound’. Come enjoy dinner or a drink at the bar while you sway to the tunes. No worries ~ The tide won’t get your chair! 804-725-7680
URL:https://visitmathews.com/event/summer-music-deck-party-2/
LOCATION:The White Dog Bistro\, 68 Church St\, Mathews\, VA\, 23109\, United States
CATEGORIES:Food & Drink,Live Music,Outdoor
END:VEVENT
BEGIN:VEVENT
DTSTART;TZID=America/New_York:20150718T103000
DTEND;TZID=America/New_York:20150718T113000
DTSTAMP:20260419T083804
CREATED:20150604T035839Z
LAST-MODIFIED:20150604T035839Z
UID:1766-1437215400-1437219000@visitmathews.com
SUMMARY:Jonathan Austin – Magician & Juggler Extraordinaire
DESCRIPTION:Jonathan Austin has been a full time professional Magician/Juggler for over 20 years. His show includes juggling\, magic tricks\, a tall unicycle\, jokes\, gags\, comedy with lots of audience participation and rapport.
URL:https://visitmathews.com/event/jonathan-austin-magician-juggler-extraordinaire/
LOCATION:Mathews Memorial Library\, 251 Main Street\, Mathews\, VA\, 23109\, United States
CATEGORIES:Library Events
ATTACH;FMTTYPE=image/jpeg:https://visitmathews.com/wp-content/uploads/2015/06/jonathan-austin.jpg
ORGANIZER;CN="Mathews Memorial Library":MAILTO:staff@mathewslibrary.org
END:VEVENT
BEGIN:VEVENT
DTSTART;TZID=America/New_York:20150717T160000
DTEND;TZID=America/New_York:20150717T190000
DTSTAMP:20260419T083804
CREATED:20150606T214022Z
LAST-MODIFIED:20150606T214254Z
UID:1774-1437148800-1437159600@visitmathews.com
SUMMARY:Fish Fry for GMCC
DESCRIPTION:Friday Night Fish Fry July 17th at Piankatank Ruritan Club \nSmoked Pork & Shrimp Dinner with Fixin’s \nTake Out: 4:00pm – 5:00 pm \nEat-In: 5:00pm – 7:00pm \nAdults $17\, Children under 12 – $10 \nTickets available at Gloucester Mathews Care Clinic \nAll proceeds benefit GMCC
URL:https://visitmathews.com/event/fish-fry-for-gmcc/
LOCATION:Piankatank Ruritan Club\, 7138 Buckley Hall Road\, Mathews\, VA\, 23109\, United States
ATTACH;FMTTYPE=image/jpeg:https://visitmathews.com/wp-content/uploads/2015/06/fishfry2015.jpg
END:VEVENT
BEGIN:VEVENT
DTSTART;TZID=America/New_York:20150716T190000
DTEND;TZID=America/New_York:20150716T203000
DTSTAMP:20260419T083804
CREATED:20150603T002035Z
LAST-MODIFIED:20150603T002035Z
UID:1761-1437073200-1437078600@visitmathews.com
SUMMARY:Art Muroff & Friends - "A Classy Jazz Act"
DESCRIPTION:Art Muroff & Friends will feature in “Soothin’ Summer Sounds”\, an annual series of live musical events\, at the Mathews Memorial Library. This year’s theme “Play It Again…” takes a trip down memory lane based on a survey following the conclusions of last year’s programs to determine audience favorites since launching the series in 2005. \nAll events are free and followed by refreshments. Sponsored by the Friends of the Library.
URL:https://visitmathews.com/event/art-muroff-friends-classy-jazz-act/
LOCATION:Mathews Memorial Library\, 251 Main Street\, Mathews\, VA\, 23109\, United States
CATEGORIES:Library Events,Live Music
ATTACH;FMTTYPE=image/jpeg:https://visitmathews.com/wp-content/uploads/2015/06/Art-Muroff-Friends.jpg
ORGANIZER;CN="Mathews Memorial Library":MAILTO:staff@mathewslibrary.org
END:VEVENT
BEGIN:VEVENT
DTSTART;VALUE=DATE:20150716
DTEND;VALUE=DATE:20150717
DTSTAMP:20260419T083804
CREATED:20150626T010839Z
LAST-MODIFIED:20151107T002516Z
UID:1830-1437004800-1437091199@visitmathews.com
SUMMARY:3rd Thursday - Shop Local Day
DESCRIPTION:Chesapeake Bank’s biannual Shop Local Day celebrations were such a success that we’re going from a twice a year event to a once a month event called 3rd Thursday. On the third Thursday of every month throughout the entire year local participating retail\, service and professional businesses will serve up special offers and incentives. Just go to the 3rd Thursday Directory to see the list of participating businesses. Create your customized list by region and category and print. And then\, keep it local every 3rd Thursday.
URL:https://visitmathews.com/event/3rd-thursday/
LOCATION:VA
CATEGORIES:Community Events
ATTACH;FMTTYPE=image/jpeg:https://visitmathews.com/wp-content/uploads/2015/06/3RDTHURS_BUCK_2Color.jpg
ORGANIZER;CN="Chesapeake Bank":MAILTO:info@chesbank.com
END:VEVENT
BEGIN:VEVENT
DTSTART;TZID=America/New_York:20150704T210000
DTEND;TZID=America/New_York:20150704T220000
DTSTAMP:20260419T083804
CREATED:20150427T052852Z
LAST-MODIFIED:20150626T011845Z
UID:1611-1436043600-1436047200@visitmathews.com
SUMMARY:16th Annual Fireworks Celebration
DESCRIPTION:MATHEWS 16th ANNUAL FIREWORKS CELEBRATION at Mathews High School – Food Vendors with traditional Independence Day fare. \nFree Admission – Shuttle bus service from Thomas Hunter starting at 7pm to MHS. \nRoad closes at MHS 8:30pm \nRain dates are the 5th and 6th. For details call Charles at 725-3236
URL:https://visitmathews.com/event/16th-annual-fireworks-celebration/
LOCATION:Mathews High School\, 9889 Buckley Hall Rd\, Mathews\, VA\, 23109\, United States
CATEGORIES:Community Events,Food & Drink,Outdoor
ATTACH;FMTTYPE=image/jpeg:https://visitmathews.com/wp-content/uploads/2015/04/fireworks.jpg
END:VEVENT
BEGIN:VEVENT
DTSTART;TZID=America/New_York:20150704T200000
DTEND;TZID=America/New_York:20150704T220000
DTSTAMP:20260419T083804
CREATED:20150427T053251Z
LAST-MODIFIED:20150427T053251Z
UID:1616-1436040000-1436047200@visitmathews.com
SUMMARY:Patriotic Show at Donk's
DESCRIPTION:Donk’s Theater PATRIOTIC SHOW First half will be patriotic music and second half will feature an entertainer and drummer whose versatility can touch your heart one minute and have you dancing in your seats the next!  \nIntersection of Routes 198 & 223\, Hudgins  \nFor ticket information 804-725-7760 or www.donkstheater.com
URL:https://visitmathews.com/event/patriotic-show-at-donks/
LOCATION:Donk’s Theater\, 8259 Buckley Hall Road\, Hudgins\, VA\, 23076\, United States
CATEGORIES:Live Music
END:VEVENT
END:VCALENDAR