BEGIN:VCALENDAR
VERSION:2.0
PRODID:-//Mathews County Visitor Center - ECPv6.15.20//NONSGML v1.0//EN
CALSCALE:GREGORIAN
METHOD:PUBLISH
X-ORIGINAL-URL:https://visitmathews.com
X-WR-CALDESC:Events for Mathews County Visitor Center
REFRESH-INTERVAL;VALUE=DURATION:PT1H
X-Robots-Tag:noindex
X-PUBLISHED-TTL:PT1H
BEGIN:VTIMEZONE
TZID:America/New_York
BEGIN:DAYLIGHT
TZOFFSETFROM:-0500
TZOFFSETTO:-0400
TZNAME:EDT
DTSTART:20250309T070000
END:DAYLIGHT
BEGIN:STANDARD
TZOFFSETFROM:-0400
TZOFFSETTO:-0500
TZNAME:EST
DTSTART:20251102T060000
END:STANDARD
BEGIN:DAYLIGHT
TZOFFSETFROM:-0500
TZOFFSETTO:-0400
TZNAME:EDT
DTSTART:20260308T070000
END:DAYLIGHT
BEGIN:STANDARD
TZOFFSETFROM:-0400
TZOFFSETTO:-0500
TZNAME:EST
DTSTART:20261101T060000
END:STANDARD
BEGIN:DAYLIGHT
TZOFFSETFROM:-0500
TZOFFSETTO:-0400
TZNAME:EDT
DTSTART:20270314T070000
END:DAYLIGHT
BEGIN:STANDARD
TZOFFSETFROM:-0400
TZOFFSETTO:-0500
TZNAME:EST
DTSTART:20271107T060000
END:STANDARD
END:VTIMEZONE
BEGIN:VEVENT
DTSTART;VALUE=DATE:20260502
DTEND;VALUE=DATE:20260504
DTSTAMP:20260421T094631
CREATED:20260408T125142Z
LAST-MODIFIED:20260408T125142Z
UID:18610-1777680000-1777852799@visitmathews.com
SUMMARY:May Faire 2026
DESCRIPTION:A Coastal Celebration of America’s 250th\nFor nearly a decade\, May Faire has brought families to the heart of Mathews each spring—drawing neighbors and visitors to Court Green and Main Street for a weekend of music\, makers\, food\, and shared tradition. \nIn 2026\, as America marks its 250th anniversary\, the Mathews Museum celebrates VA250 with a hands-on weekend of demonstrations\, interactive activities\, entertainment\, and coastal storytelling—highlighting the spirit and heritage of our community. \nVisit the website for more details of activities
URL:https://visitmathews.com/event/may-faire-2026/
LOCATION:Mathews Historic Courthouse\, 27 Court Street\, Mathews\, VA\, 23109\, United States
CATEGORIES:Community Events,Food & Drink,History,Holiday/ Seasonal,Outdoor,Shopping,Youth
ATTACH;FMTTYPE=image/jpeg:https://visitmathews.com/wp-content/uploads/2026/04/647557284_122117780277174256_685906490497377405_n.jpg
ORGANIZER;CN="Mathews Museum":MAILTO:mathewsvamuseum@gmail.com
END:VEVENT
BEGIN:VEVENT
DTSTART;TZID=America/New_York:20260502T090000
DTEND;TZID=America/New_York:20260502T160000
DTSTAMP:20260421T094631
CREATED:20260227T042644Z
LAST-MODIFIED:20260227T042644Z
UID:18536-1777712400-1777737600@visitmathews.com
SUMMARY:Family Art & Clay Festival
DESCRIPTION:This year’s Family Art & Clay Festival coincides with Mathews May Faire Celebration.\n\nAlong the Bay School driveway\, you’ll find free art activities for kids and adults and artisan vendors showcasing their craft.\nIn and out of the pottery studio\, participate in or watch our annual Raku Firing or the new Clay Olympics.\n\nRaku Firing – Participants at the raku firing were able to choose a bisque-fired pot or small figurine to glaze and then watch it be fired to 1800°F in less than an hour! Potters who preferred to fire something of their own were able to bring their own pot or small sculptural piece to glaze and fire. Kids or adults who didn’t want to do raku\, had the option to paint a bisque-fired pot with acrylic paint and take it home with no need of a firing. Glaze and fire our pot for $30\, your own pot for $15\, or paint a pot for $10.\n\nClay Olympics – Launched in 2025 as a pottery throwdown\, this year we are adding hand-building challenges to the competition. Participants will compete in a series of challenges that test their skill and artistry\, hoping to advance to the next round and win it all. Enter the Olympics for $10 or cheer on your favorite competitor!
URL:https://visitmathews.com/event/family-art-clay-festival/
LOCATION:Bay School Community Arts Center\, 279 Main Street \, Mathews\, VA\, 23109\, United States
CATEGORIES:Art Shows,Arts & Cultural,Community Events,Outdoor,Youth
ATTACH;FMTTYPE=image/jpeg:https://visitmathews.com/wp-content/uploads/2026/02/635135528_1353365660142602_3289356232687478040_n.jpg
ORGANIZER;CN="Bay School Comunity Arts Center":MAILTO:pamdoss@bayschool-arts.com
END:VEVENT
BEGIN:VEVENT
DTSTART;TZID=America/New_York:20260502T160000
DTEND;TZID=America/New_York:20260502T173000
DTSTAMP:20260421T094631
CREATED:20260131T005442Z
LAST-MODIFIED:20260314T212436Z
UID:18464-1777737600-1777743000@visitmathews.com
SUMMARY:Now Showing: Mathews Dance Studio Recital
DESCRIPTION:
URL:https://visitmathews.com/event/mathews-dance-studio-recital/
LOCATION:Harry M. Ward Auditorium  – Mathews High School\, 9889 Buckley Hall Rd\, Mathews\, VA\, 23109\, United States
CATEGORIES:Arts & Cultural,Community Events,Youth
ATTACH;FMTTYPE=image/jpeg:https://visitmathews.com/wp-content/uploads/2026/01/IMG_0376.jpg
END:VEVENT
END:VCALENDAR