BEGIN:VCALENDAR
VERSION:2.0
PRODID:-//Mathews County Visitor Center - ECPv6.15.20//NONSGML v1.0//EN
CALSCALE:GREGORIAN
METHOD:PUBLISH
X-WR-CALNAME:Mathews County Visitor Center
X-ORIGINAL-URL:https://visitmathews.com
X-WR-CALDESC:Events for Mathews County Visitor Center
REFRESH-INTERVAL;VALUE=DURATION:PT1H
X-Robots-Tag:noindex
X-PUBLISHED-TTL:PT1H
BEGIN:VTIMEZONE
TZID:America/New_York
BEGIN:DAYLIGHT
TZOFFSETFROM:-0500
TZOFFSETTO:-0400
TZNAME:EDT
DTSTART:20240310T070000
END:DAYLIGHT
BEGIN:STANDARD
TZOFFSETFROM:-0400
TZOFFSETTO:-0500
TZNAME:EST
DTSTART:20241103T060000
END:STANDARD
BEGIN:DAYLIGHT
TZOFFSETFROM:-0500
TZOFFSETTO:-0400
TZNAME:EDT
DTSTART:20250309T070000
END:DAYLIGHT
BEGIN:STANDARD
TZOFFSETFROM:-0400
TZOFFSETTO:-0500
TZNAME:EST
DTSTART:20251102T060000
END:STANDARD
BEGIN:DAYLIGHT
TZOFFSETFROM:-0500
TZOFFSETTO:-0400
TZNAME:EDT
DTSTART:20260308T070000
END:DAYLIGHT
BEGIN:STANDARD
TZOFFSETFROM:-0400
TZOFFSETTO:-0500
TZNAME:EST
DTSTART:20261101T060000
END:STANDARD
END:VTIMEZONE
BEGIN:VEVENT
DTSTART;TZID=America/New_York:20251101T100000
DTEND;TZID=America/New_York:20251101T180000
DTSTAMP:20260421T155245
CREATED:20250926T142655Z
LAST-MODIFIED:20250926T142655Z
UID:18019-1761991200-1762020000@visitmathews.com
SUMMARY:Visit Belmont Pumpkin Farm!
DESCRIPTION:HAYRIDES\, CORN MAZES & TREASURE HUNTS \nTake a hayride out to the pumpkin fields\, wander through one of the corn mazes\, hike the sunflower trail. Try the Farm Treasure Hunt! \nPUMPKINS\, SUNFLOWERS & ZINNIAS TO PICK \nFind your favorite pumpkin for cooking or decorating. We’ve planted 25 varieties\, small & large\, heirloom\, stackers\, and jack-o-lanterns. \nFARM SMOKED BBQ & STREET TACOS\, PUMPKIN FUNNEL CAKE & CIDER DONUTS \nCome hungry! We have farm-smoked pork BBQ & street tacos\, hot dogs\, pumpkin funnel cake and desserts\, cider donuts\, pumpkin spiced kettle corn and more! \n& MORE \nYou can make a scarecrow\, visit with farm animals\, paint a pumpkin & pick-up our famous pumpkin and apple butters & BBQ sauces in the Market. \n  \nLeashed Dogs welcome on the farm Friday evenings only.
URL:https://visitmathews.com/event/visit-belmont-pumpkin-farm-2025-11-01/
LOCATION:Blemont Pumpkin Farm\, 155 Belmont Lane\, North\, VA\, 23128\, United States
CATEGORIES:Holiday/ Seasonal,Outdoor,Youth
ATTACH;FMTTYPE=image/jpeg:https://visitmathews.com/wp-content/uploads/2025/09/550661054_1211370641036289_6355069414581042886_n.jpg
END:VEVENT
BEGIN:VEVENT
DTSTART;TZID=America/New_York:20251102T100000
DTEND;TZID=America/New_York:20251102T180000
DTSTAMP:20260421T155245
CREATED:20250926T142655Z
LAST-MODIFIED:20250926T142655Z
UID:18020-1762077600-1762106400@visitmathews.com
SUMMARY:Visit Belmont Pumpkin Farm!
DESCRIPTION:HAYRIDES\, CORN MAZES & TREASURE HUNTS \nTake a hayride out to the pumpkin fields\, wander through one of the corn mazes\, hike the sunflower trail. Try the Farm Treasure Hunt! \nPUMPKINS\, SUNFLOWERS & ZINNIAS TO PICK \nFind your favorite pumpkin for cooking or decorating. We’ve planted 25 varieties\, small & large\, heirloom\, stackers\, and jack-o-lanterns. \nFARM SMOKED BBQ & STREET TACOS\, PUMPKIN FUNNEL CAKE & CIDER DONUTS \nCome hungry! We have farm-smoked pork BBQ & street tacos\, hot dogs\, pumpkin funnel cake and desserts\, cider donuts\, pumpkin spiced kettle corn and more! \n& MORE \nYou can make a scarecrow\, visit with farm animals\, paint a pumpkin & pick-up our famous pumpkin and apple butters & BBQ sauces in the Market. \n  \nLeashed Dogs welcome on the farm Friday evenings only.
URL:https://visitmathews.com/event/visit-belmont-pumpkin-farm-2025-11-02/
LOCATION:Blemont Pumpkin Farm\, 155 Belmont Lane\, North\, VA\, 23128\, United States
CATEGORIES:Holiday/ Seasonal,Outdoor,Youth
ATTACH;FMTTYPE=image/jpeg:https://visitmathews.com/wp-content/uploads/2025/09/550661054_1211370641036289_6355069414581042886_n.jpg
END:VEVENT
BEGIN:VEVENT
DTSTART;TZID=America/New_York:20251107T150000
DTEND;TZID=America/New_York:20251107T190000
DTSTAMP:20260421T155245
CREATED:20250926T142655Z
LAST-MODIFIED:20250926T143127Z
UID:18008-1762527600-1762542000@visitmathews.com
SUMMARY:Visit Belmont Pumpkin Farm!
DESCRIPTION:HAYRIDES\, CORN MAZES & TREASURE HUNTS \nTake a hayride out to the pumpkin fields\, wander through one of the corn mazes\, hike the sunflower trail. Try the Farm Treasure Hunt! \nPUMPKINS\, SUNFLOWERS & ZINNIAS TO PICK \nFind your favorite pumpkin for cooking or decorating. We’ve planted 25 varieties\, small & large\, heirloom\, stackers\, and jack-o-lanterns. \nFARM SMOKED BBQ & STREET TACOS\, PUMPKIN FUNNEL CAKE & CIDER DONUTS \nCome hungry! We have farm-smoked pork BBQ & street tacos\, hot dogs\, pumpkin funnel cake and desserts\, cider donuts\, pumpkin spiced kettle corn and more! \n& MORE \nYou can make a scarecrow\, visit with farm animals\, paint a pumpkin & pick-up our famous pumpkin and apple butters & BBQ sauces in the Market. \n  \nLeashed Dogs welcome on the farm Friday evenings only.
URL:https://visitmathews.com/event/visit-belmont-pumpkin-farm-2025-11-07/
LOCATION:Blemont Pumpkin Farm\, 155 Belmont Lane\, North\, VA\, 23128\, United States
CATEGORIES:Holiday/ Seasonal,Outdoor,Youth
ATTACH;FMTTYPE=image/jpeg:https://visitmathews.com/wp-content/uploads/2025/09/550661054_1211370641036289_6355069414581042886_n.jpg
END:VEVENT
BEGIN:VEVENT
DTSTART;TZID=America/New_York:20251108T100000
DTEND;TZID=America/New_York:20251108T180000
DTSTAMP:20260421T155245
CREATED:20250926T142655Z
LAST-MODIFIED:20250926T142655Z
UID:18021-1762596000-1762624800@visitmathews.com
SUMMARY:Visit Belmont Pumpkin Farm!
DESCRIPTION:HAYRIDES\, CORN MAZES & TREASURE HUNTS \nTake a hayride out to the pumpkin fields\, wander through one of the corn mazes\, hike the sunflower trail. Try the Farm Treasure Hunt! \nPUMPKINS\, SUNFLOWERS & ZINNIAS TO PICK \nFind your favorite pumpkin for cooking or decorating. We’ve planted 25 varieties\, small & large\, heirloom\, stackers\, and jack-o-lanterns. \nFARM SMOKED BBQ & STREET TACOS\, PUMPKIN FUNNEL CAKE & CIDER DONUTS \nCome hungry! We have farm-smoked pork BBQ & street tacos\, hot dogs\, pumpkin funnel cake and desserts\, cider donuts\, pumpkin spiced kettle corn and more! \n& MORE \nYou can make a scarecrow\, visit with farm animals\, paint a pumpkin & pick-up our famous pumpkin and apple butters & BBQ sauces in the Market. \n  \nLeashed Dogs welcome on the farm Friday evenings only.
URL:https://visitmathews.com/event/visit-belmont-pumpkin-farm-2025-11-08/
LOCATION:Blemont Pumpkin Farm\, 155 Belmont Lane\, North\, VA\, 23128\, United States
CATEGORIES:Holiday/ Seasonal,Outdoor,Youth
ATTACH;FMTTYPE=image/jpeg:https://visitmathews.com/wp-content/uploads/2025/09/550661054_1211370641036289_6355069414581042886_n.jpg
END:VEVENT
BEGIN:VEVENT
DTSTART;TZID=America/New_York:20251109T100000
DTEND;TZID=America/New_York:20251109T180000
DTSTAMP:20260421T155245
CREATED:20250926T142655Z
LAST-MODIFIED:20250926T142655Z
UID:18022-1762682400-1762711200@visitmathews.com
SUMMARY:Visit Belmont Pumpkin Farm!
DESCRIPTION:HAYRIDES\, CORN MAZES & TREASURE HUNTS \nTake a hayride out to the pumpkin fields\, wander through one of the corn mazes\, hike the sunflower trail. Try the Farm Treasure Hunt! \nPUMPKINS\, SUNFLOWERS & ZINNIAS TO PICK \nFind your favorite pumpkin for cooking or decorating. We’ve planted 25 varieties\, small & large\, heirloom\, stackers\, and jack-o-lanterns. \nFARM SMOKED BBQ & STREET TACOS\, PUMPKIN FUNNEL CAKE & CIDER DONUTS \nCome hungry! We have farm-smoked pork BBQ & street tacos\, hot dogs\, pumpkin funnel cake and desserts\, cider donuts\, pumpkin spiced kettle corn and more! \n& MORE \nYou can make a scarecrow\, visit with farm animals\, paint a pumpkin & pick-up our famous pumpkin and apple butters & BBQ sauces in the Market. \n  \nLeashed Dogs welcome on the farm Friday evenings only.
URL:https://visitmathews.com/event/visit-belmont-pumpkin-farm-2025-11-09/
LOCATION:Blemont Pumpkin Farm\, 155 Belmont Lane\, North\, VA\, 23128\, United States
CATEGORIES:Holiday/ Seasonal,Outdoor,Youth
ATTACH;FMTTYPE=image/jpeg:https://visitmathews.com/wp-content/uploads/2025/09/550661054_1211370641036289_6355069414581042886_n.jpg
END:VEVENT
BEGIN:VEVENT
DTSTART;TZID=America/New_York:20251113T183000
DTEND;TZID=America/New_York:20251113T203000
DTSTAMP:20260421T155245
CREATED:20251015T165406Z
LAST-MODIFIED:20251015T165406Z
UID:18090-1763058600-1763065800@visitmathews.com
SUMMARY:MHS Music Dept.'s Dinner & A Show
DESCRIPTION:Join the Mathews High School Music Department for Dinner and Show\, featuring the Jazz Band\, String Orchestra\, {percussion Ensemble and more! \nBaked goods and raffle tickets are available for purchase.
URL:https://visitmathews.com/event/mhs-music-dept-s-dinner-a-show/
LOCATION:Mathews Elementary School\, 347 Church Street\, Mathews\, VA\, 23109\, United States
CATEGORIES:Food & Drink,Live Music,Youth
ATTACH;FMTTYPE=image/jpeg:https://visitmathews.com/wp-content/uploads/2025/10/IMG_6404.jpg
END:VEVENT
BEGIN:VEVENT
DTSTART;TZID=America/New_York:20251114T190000
DTEND;TZID=America/New_York:20251114T200000
DTSTAMP:20260421T155245
CREATED:20251101T160842Z
LAST-MODIFIED:20251101T161020Z
UID:18161-1763146800-1763150400@visitmathews.com
SUMMARY:Frozen Jr!
DESCRIPTION:The Court House Players’ production of the beloved musical Frozen Jr. is coming soon\, and you don’t want to miss it! \nThis wonderful Disney favorite will be presented at 7 p.m. on Friday\, November 14; at 2 p.m. and 7 p.m. on Saturday\, November 15; and at 3 p.m. on Sunday\, November 16\, in Mathews High School’s Harry M. Ward Auditorium\, 9889 Buckley Hall Road\, Mathews. \nTicket prices are $15 for adults and $10 for students. They may be purchased online at courthouseplayers.org\, at CHP ticket outlets (see below)\, or at the door. \nDuring the 2 p.m. show on Saturday\, CHP will do something a bit different. We will present a youth Sing Along Show. Children are invited to dress up in their favorite Disney costume if they like and “Let it Go” as they sing along\, dance in the aisles\, and enjoy the CHP production of Disney’s Frozen Jr. Kids 3 and under are FREE! Those who come in costume will receive a free raffle ticket to win prizes during intermission. Afterward\, the audience is invited to MEET Elsa\, Anna\, Kristoff\, Sven\, and\, of course\, Olaf! This is the perfect show to bring kids to and let them experience live theater presented by members of their own community! You really don’t want to miss it!\n  \n\n\nAbout Frozen Jr. \n\n\nBased on the 2018 Broadway musical\, Frozen Jr. brings the magical land of Arendelle to life. It tells the emotional story of Princesses Anna and Elsa\, who\, when faced with danger\, discover their hidden potential and the powerful bond of sisterhood. \nFrozen Jr. features all of the memorable songs from the animated film\, with music and lyrics by Kristen Anderson-Lopez and Robert Lopez\, along with five new songs written for the Broadway production. Loaded with magic\, adventure\, and plenty of humor\, the show is sure to thaw even the coldest heart.\n  \nWhere to buy tickets \n\n\n Tickets for the show may be purchased online at https://the-court-house-players.square.site. \n\n\nTickets may be purchased in person at any of the following businesses: \nIn Gloucester: \nOffice Supply\, Edgehill Shopping Center\, Main St.\, Gloucester \nHours: 9:30-5:30 Mon-Fri\, 9:30-2 Sat\nPhone: 804-693-4155\n \nFranktronics\, 3618 Geo Wash Mem Hwy\, Hayes\nHours: 9-5:30 Mon-Fri\, closed Sat Phone: 804-642-5233 \nIn Mathews: \nMathews Pharmacy\, 10858 Buckley Hall Road\nHours: 9-6 Mon-Fri\, 9-1 Sat\nPhone: 804-725-2556 \nMathews County Visitor & Information Center\, 239 Main Street\nHours: 10-4 Mon-Sat\, 12-3 Sun\nPhone: 804-725-4229 \nFrozen Jr. is presented through special arrangement with Music Theatre International (MTI). All authorized performance materials are also supplied by MTI. www.mtishows.com \nQuestions? Please contact Lynn Jaeger\, producer\, 804-815-0338 via text or phone call.
URL:https://visitmathews.com/event/18161/
LOCATION:Harry M. Ward Auditorium  – Mathews High School\, 9889 Buckley Hall Rd\, Mathews\, VA\, 23109\, United States
CATEGORIES:Arts & Cultural,Youth
ATTACH;FMTTYPE=image/jpeg:https://visitmathews.com/wp-content/uploads/2025/11/571283284_1265497608940992_44342260570999883_n.jpg
ORGANIZER;CN="Court House Players":MAILTO:info@courthouseplayers.org
END:VEVENT
BEGIN:VEVENT
DTSTART;TZID=America/New_York:20251115T140000
DTEND;TZID=America/New_York:20251115T150000
DTSTAMP:20260421T155245
CREATED:20251101T160842Z
LAST-MODIFIED:20251101T160842Z
UID:18165-1763215200-1763218800@visitmathews.com
SUMMARY:Frozen Jr!
DESCRIPTION:The Court House Players’ production of the beloved musical Frozen Jr. is coming soon\, and you don’t want to miss it! \nThis wonderful Disney favorite will be presented at 7 p.m. on Friday\, November 14; at 2 p.m. and 7 p.m. on Saturday\, November 15; and at 3 p.m. on Sunday\, November 16\, in Mathews High School’s Harry M. Ward Auditorium\, 9889 Buckley Hall Road\, Mathews. \nTicket prices are $15 for adults and $10 for students. They may be purchased online at courthouseplayers.org\, at CHP ticket outlets (see below)\, or at the door. \nDuring the 2 p.m. show on Saturday\, CHP will do something a bit different. We will present a youth Sing Along Show. Children are invited to dress up in their favorite Disney costume if they like and “Let it Go” as they sing along\, dance in the aisles\, and enjoy the CHP production of Disney’s Frozen Jr. Kids 3 and under are FREE! Those who come in costume will receive a free raffle ticket to win prizes during intermission. Afterward\, the audience is invited to MEET Elsa\, Anna\, Kristoff\, Sven\, and\, of course\, Olaf! This is the perfect show to bring kids to and let them experience live theater presented by members of their own community! You really don’t want to miss it!\n  \n\n\nAbout Frozen Jr. \n\n\nBased on the 2018 Broadway musical\, Frozen Jr. brings the magical land of Arendelle to life. It tells the emotional story of Princesses Anna and Elsa\, who\, when faced with danger\, discover their hidden potential and the powerful bond of sisterhood. \nFrozen Jr. features all of the memorable songs from the animated film\, with music and lyrics by Kristen Anderson-Lopez and Robert Lopez\, along with five new songs written for the Broadway production. Loaded with magic\, adventure\, and plenty of humor\, the show is sure to thaw even the coldest heart.\n  \nWhere to buy tickets \n\n\n Tickets for the show may be purchased online at https://the-court-house-players.square.site. \n\n\nTickets may be purchased in person at any of the following businesses: \nIn Gloucester: \nOffice Supply\, Edgehill Shopping Center\, Main St.\, Gloucester \nHours: 9:30-5:30 Mon-Fri\, 9:30-2 Sat\nPhone: 804-693-4155\n \nFranktronics\, 3618 Geo Wash Mem Hwy\, Hayes\nHours: 9-5:30 Mon-Fri\, closed Sat Phone: 804-642-5233 \nIn Mathews: \nMathews Pharmacy\, 10858 Buckley Hall Road\nHours: 9-6 Mon-Fri\, 9-1 Sat\nPhone: 804-725-2556 \nMathews County Visitor & Information Center\, 239 Main Street\nHours: 10-4 Mon-Sat\, 12-3 Sun\nPhone: 804-725-4229 \nFrozen Jr. is presented through special arrangement with Music Theatre International (MTI). All authorized performance materials are also supplied by MTI. www.mtishows.com \nQuestions? Please contact Lynn Jaeger\, producer\, 804-815-0338 via text or phone call.
URL:https://visitmathews.com/event/18161-2025-11-15/
LOCATION:Harry M. Ward Auditorium  – Mathews High School\, 9889 Buckley Hall Rd\, Mathews\, VA\, 23109\, United States
CATEGORIES:Arts & Cultural,Youth
ATTACH;FMTTYPE=image/jpeg:https://visitmathews.com/wp-content/uploads/2025/11/571283284_1265497608940992_44342260570999883_n.jpg
ORGANIZER;CN="Court House Players":MAILTO:info@courthouseplayers.org
END:VEVENT
BEGIN:VEVENT
DTSTART;TZID=America/New_York:20251115T190000
DTEND;TZID=America/New_York:20251115T200000
DTSTAMP:20260421T155245
CREATED:20251101T160842Z
LAST-MODIFIED:20251101T160842Z
UID:18166-1763233200-1763236800@visitmathews.com
SUMMARY:Frozen Jr!
DESCRIPTION:The Court House Players’ production of the beloved musical Frozen Jr. is coming soon\, and you don’t want to miss it! \nThis wonderful Disney favorite will be presented at 7 p.m. on Friday\, November 14; at 2 p.m. and 7 p.m. on Saturday\, November 15; and at 3 p.m. on Sunday\, November 16\, in Mathews High School’s Harry M. Ward Auditorium\, 9889 Buckley Hall Road\, Mathews. \nTicket prices are $15 for adults and $10 for students. They may be purchased online at courthouseplayers.org\, at CHP ticket outlets (see below)\, or at the door. \nDuring the 2 p.m. show on Saturday\, CHP will do something a bit different. We will present a youth Sing Along Show. Children are invited to dress up in their favorite Disney costume if they like and “Let it Go” as they sing along\, dance in the aisles\, and enjoy the CHP production of Disney’s Frozen Jr. Kids 3 and under are FREE! Those who come in costume will receive a free raffle ticket to win prizes during intermission. Afterward\, the audience is invited to MEET Elsa\, Anna\, Kristoff\, Sven\, and\, of course\, Olaf! This is the perfect show to bring kids to and let them experience live theater presented by members of their own community! You really don’t want to miss it!\n  \n\n\nAbout Frozen Jr. \n\n\nBased on the 2018 Broadway musical\, Frozen Jr. brings the magical land of Arendelle to life. It tells the emotional story of Princesses Anna and Elsa\, who\, when faced with danger\, discover their hidden potential and the powerful bond of sisterhood. \nFrozen Jr. features all of the memorable songs from the animated film\, with music and lyrics by Kristen Anderson-Lopez and Robert Lopez\, along with five new songs written for the Broadway production. Loaded with magic\, adventure\, and plenty of humor\, the show is sure to thaw even the coldest heart.\n  \nWhere to buy tickets \n\n\n Tickets for the show may be purchased online at https://the-court-house-players.square.site. \n\n\nTickets may be purchased in person at any of the following businesses: \nIn Gloucester: \nOffice Supply\, Edgehill Shopping Center\, Main St.\, Gloucester \nHours: 9:30-5:30 Mon-Fri\, 9:30-2 Sat\nPhone: 804-693-4155\n \nFranktronics\, 3618 Geo Wash Mem Hwy\, Hayes\nHours: 9-5:30 Mon-Fri\, closed Sat Phone: 804-642-5233 \nIn Mathews: \nMathews Pharmacy\, 10858 Buckley Hall Road\nHours: 9-6 Mon-Fri\, 9-1 Sat\nPhone: 804-725-2556 \nMathews County Visitor & Information Center\, 239 Main Street\nHours: 10-4 Mon-Sat\, 12-3 Sun\nPhone: 804-725-4229 \nFrozen Jr. is presented through special arrangement with Music Theatre International (MTI). All authorized performance materials are also supplied by MTI. www.mtishows.com \nQuestions? Please contact Lynn Jaeger\, producer\, 804-815-0338 via text or phone call.
URL:https://visitmathews.com/event/18161-2025-11-15-2/
LOCATION:Harry M. Ward Auditorium  – Mathews High School\, 9889 Buckley Hall Rd\, Mathews\, VA\, 23109\, United States
CATEGORIES:Arts & Cultural,Youth
ATTACH;FMTTYPE=image/jpeg:https://visitmathews.com/wp-content/uploads/2025/11/571283284_1265497608940992_44342260570999883_n.jpg
ORGANIZER;CN="Court House Players":MAILTO:info@courthouseplayers.org
END:VEVENT
BEGIN:VEVENT
DTSTART;TZID=America/New_York:20251116T120000
DTEND;TZID=America/New_York:20251116T160000
DTSTAMP:20260421T155245
CREATED:20251114T131529Z
LAST-MODIFIED:20251114T131529Z
UID:18176-1763294400-1763308800@visitmathews.com
SUMMARY:ETC. Holiday Open House
DESCRIPTION:Please join ETC. Vintage at their Holiday Open House. There will be Christmas Treasures\, holiday decor\, door prizes\, yummy treats and a visit from Santa.
URL:https://visitmathews.com/event/etc-holiday-open-house/
LOCATION:Etc. Vintage\, 2066 Buckley Hall Road\, Cobbs Creek\, VA\, 23035\, United States
CATEGORIES:Holiday/ Seasonal,Shopping,Youth
ATTACH;FMTTYPE=image/jpeg:https://visitmathews.com/wp-content/uploads/2023/08/303296767_595936862109935_8141913784164470960_n.jpg
END:VEVENT
BEGIN:VEVENT
DTSTART;TZID=America/New_York:20251116T150000
DTEND;TZID=America/New_York:20251116T160000
DTSTAMP:20260421T155245
CREATED:20251101T160842Z
LAST-MODIFIED:20251101T160842Z
UID:18167-1763305200-1763308800@visitmathews.com
SUMMARY:Frozen Jr!
DESCRIPTION:The Court House Players’ production of the beloved musical Frozen Jr. is coming soon\, and you don’t want to miss it! \nThis wonderful Disney favorite will be presented at 7 p.m. on Friday\, November 14; at 2 p.m. and 7 p.m. on Saturday\, November 15; and at 3 p.m. on Sunday\, November 16\, in Mathews High School’s Harry M. Ward Auditorium\, 9889 Buckley Hall Road\, Mathews. \nTicket prices are $15 for adults and $10 for students. They may be purchased online at courthouseplayers.org\, at CHP ticket outlets (see below)\, or at the door. \nDuring the 2 p.m. show on Saturday\, CHP will do something a bit different. We will present a youth Sing Along Show. Children are invited to dress up in their favorite Disney costume if they like and “Let it Go” as they sing along\, dance in the aisles\, and enjoy the CHP production of Disney’s Frozen Jr. Kids 3 and under are FREE! Those who come in costume will receive a free raffle ticket to win prizes during intermission. Afterward\, the audience is invited to MEET Elsa\, Anna\, Kristoff\, Sven\, and\, of course\, Olaf! This is the perfect show to bring kids to and let them experience live theater presented by members of their own community! You really don’t want to miss it!\n  \n\n\nAbout Frozen Jr. \n\n\nBased on the 2018 Broadway musical\, Frozen Jr. brings the magical land of Arendelle to life. It tells the emotional story of Princesses Anna and Elsa\, who\, when faced with danger\, discover their hidden potential and the powerful bond of sisterhood. \nFrozen Jr. features all of the memorable songs from the animated film\, with music and lyrics by Kristen Anderson-Lopez and Robert Lopez\, along with five new songs written for the Broadway production. Loaded with magic\, adventure\, and plenty of humor\, the show is sure to thaw even the coldest heart.\n  \nWhere to buy tickets \n\n\n Tickets for the show may be purchased online at https://the-court-house-players.square.site. \n\n\nTickets may be purchased in person at any of the following businesses: \nIn Gloucester: \nOffice Supply\, Edgehill Shopping Center\, Main St.\, Gloucester \nHours: 9:30-5:30 Mon-Fri\, 9:30-2 Sat\nPhone: 804-693-4155\n \nFranktronics\, 3618 Geo Wash Mem Hwy\, Hayes\nHours: 9-5:30 Mon-Fri\, closed Sat Phone: 804-642-5233 \nIn Mathews: \nMathews Pharmacy\, 10858 Buckley Hall Road\nHours: 9-6 Mon-Fri\, 9-1 Sat\nPhone: 804-725-2556 \nMathews County Visitor & Information Center\, 239 Main Street\nHours: 10-4 Mon-Sat\, 12-3 Sun\nPhone: 804-725-4229 \nFrozen Jr. is presented through special arrangement with Music Theatre International (MTI). All authorized performance materials are also supplied by MTI. www.mtishows.com \nQuestions? Please contact Lynn Jaeger\, producer\, 804-815-0338 via text or phone call.
URL:https://visitmathews.com/event/18161-2025-11-16/
LOCATION:Harry M. Ward Auditorium  – Mathews High School\, 9889 Buckley Hall Rd\, Mathews\, VA\, 23109\, United States
CATEGORIES:Arts & Cultural,Youth
ATTACH;FMTTYPE=image/jpeg:https://visitmathews.com/wp-content/uploads/2025/11/571283284_1265497608940992_44342260570999883_n.jpg
ORGANIZER;CN="Court House Players":MAILTO:info@courthouseplayers.org
END:VEVENT
BEGIN:VEVENT
DTSTART;TZID=America/New_York:20251122T130000
DTEND;TZID=America/New_York:20251122T170000
DTSTAMP:20260421T155245
CREATED:20251114T135107Z
LAST-MODIFIED:20251114T135107Z
UID:18186-1763816400-1763830800@visitmathews.com
SUMMARY:Christmas Comes to Gwynn's Island
DESCRIPTION:Join us on Gwynn’s Island to kick-off your Holiday Season! The Gwynn’s Island Museum and Civic Center will be decorated and offer several photo opportunities for friends and family! \nGet some Christmas shopping done early – the Museum will have new ornaments and merchandise for purchase. 100% of proceeds directly benefit the Gwynn’s Island Museum
URL:https://visitmathews.com/event/christmas-comes-to-gwynns-island-2/
LOCATION:Gwynn’s Island Museum\, State Rte 633\, Gwynn\, VA\, 23066\, United States
CATEGORIES:Holiday/ Seasonal,Youth
ATTACH;FMTTYPE=application/pdf:https://visitmathews.com/wp-content/uploads/2025/11/2025-Christmas-Gwynn-Island_Flyer-1.pdf
ORGANIZER;CN="Gwynn's Island Civic League Foundation":MAILTO:GICLFoundationVA@gmail.com
END:VEVENT
BEGIN:VEVENT
DTSTART;TZID=America/New_York:20251129T080000
DTEND;TZID=America/New_York:20251129T170000
DTSTAMP:20260421T155245
CREATED:20251130T030651Z
LAST-MODIFIED:20251130T030651Z
UID:18317-1764403200-1764435600@visitmathews.com
SUMMARY:Breakfast with Santa
DESCRIPTION:Join LIFT Mathews for Breakfast with Santa! \nRSVP to: liftmathews@gmail.com or 804-694-0509
URL:https://visitmathews.com/event/breakfast-with-santa/
LOCATION:Central United Methodist Church\, 121 Church St\, Mathews\, VA\, 23109\, United States
CATEGORIES:Holiday/ Seasonal,Youth
ATTACH;FMTTYPE=image/jpeg:https://visitmathews.com/wp-content/uploads/2025/11/IMG_7309.jpg
ORGANIZER;CN="LIFT Mathews":MAILTO:liftmathews@gmail.com
END:VEVENT
END:VCALENDAR