BEGIN:VCALENDAR
VERSION:2.0
PRODID:-//Mathews County Visitor Center - ECPv6.15.20//NONSGML v1.0//EN
CALSCALE:GREGORIAN
METHOD:PUBLISH
X-WR-CALNAME:Mathews County Visitor Center
X-ORIGINAL-URL:https://visitmathews.com
X-WR-CALDESC:Events for Mathews County Visitor Center
REFRESH-INTERVAL;VALUE=DURATION:PT1H
X-Robots-Tag:noindex
X-PUBLISHED-TTL:PT1H
BEGIN:VTIMEZONE
TZID:America/New_York
BEGIN:DAYLIGHT
TZOFFSETFROM:-0500
TZOFFSETTO:-0400
TZNAME:EDT
DTSTART:20240310T070000
END:DAYLIGHT
BEGIN:STANDARD
TZOFFSETFROM:-0400
TZOFFSETTO:-0500
TZNAME:EST
DTSTART:20241103T060000
END:STANDARD
BEGIN:DAYLIGHT
TZOFFSETFROM:-0500
TZOFFSETTO:-0400
TZNAME:EDT
DTSTART:20250309T070000
END:DAYLIGHT
BEGIN:STANDARD
TZOFFSETFROM:-0400
TZOFFSETTO:-0500
TZNAME:EST
DTSTART:20251102T060000
END:STANDARD
BEGIN:DAYLIGHT
TZOFFSETFROM:-0500
TZOFFSETTO:-0400
TZNAME:EDT
DTSTART:20260308T070000
END:DAYLIGHT
BEGIN:STANDARD
TZOFFSETFROM:-0400
TZOFFSETTO:-0500
TZNAME:EST
DTSTART:20261101T060000
END:STANDARD
END:VTIMEZONE
BEGIN:VEVENT
DTSTART;TZID=America/New_York:20250713T140000
DTEND;TZID=America/New_York:20250713T160000
DTSTAMP:20260422T002351
CREATED:20250528T212353Z
LAST-MODIFIED:20250528T212353Z
UID:17677-1752415200-1752422400@visitmathews.com
SUMMARY:Faerie Tea
DESCRIPTION:Bring Your Own Teacup • Faerie Dress Encouraged\, Tea & Faerie-Inspired Tasties • Games & Activities • Door Prizes • Learn Fae & Tea Lore • Silent Auction •  Vendors • Make a necklace with Virginia Coyle • Faerie Shopping Boutique • Raffles\n\nSign up for Faerie Hair for an additional $20\, by appointment only.
URL:https://visitmathews.com/event/faerie-tea-2/
LOCATION:Bay School Community Arts Center\, 279 Main Street \, Mathews\, VA\, 23109\, United States
CATEGORIES:Arts & Cultural,Food & Drink,Youth
ATTACH;FMTTYPE=image/jpeg:https://visitmathews.com/wp-content/uploads/2025/05/487506261_1091934346285736_1626793051954701743_n.jpg
ORGANIZER;CN="Bay School Comunity Arts Center":MAILTO:pamdoss@bayschool-arts.com
END:VEVENT
BEGIN:VEVENT
DTSTART;TZID=America/New_York:20250731T110000
DTEND;TZID=America/New_York:20250731T210000
DTSTAMP:20260422T002351
CREATED:20250730T150647Z
LAST-MODIFIED:20250730T150958Z
UID:17827-1753959600-1753995600@visitmathews.com
SUMMARY:Dine to Donate Doubleheader
DESCRIPTION:
URL:https://visitmathews.com/event/dine-to-donate-doubleheader/
LOCATION:Mathews Grill & Deli\, 296 Main Street\, Mathews\, VA\, 23109\, United States
CATEGORIES:Community Events,Food & Drink,Youth
ATTACH;FMTTYPE=image/jpeg:https://visitmathews.com/wp-content/uploads/2025/07/519878609_1241035247819937_3336636439646192913_n.jpg
ORGANIZER;CN="Gwynn's Island Civic League":MAILTO:gwynnsislandfestival@gmail.com
END:VEVENT
END:VCALENDAR