BEGIN:VCALENDAR
VERSION:2.0
PRODID:-//Mathews County Visitor Center - ECPv6.15.20//NONSGML v1.0//EN
CALSCALE:GREGORIAN
METHOD:PUBLISH
X-WR-CALNAME:Mathews County Visitor Center
X-ORIGINAL-URL:https://visitmathews.com
X-WR-CALDESC:Events for Mathews County Visitor Center
REFRESH-INTERVAL;VALUE=DURATION:PT1H
X-Robots-Tag:noindex
X-PUBLISHED-TTL:PT1H
BEGIN:VTIMEZONE
TZID:America/New_York
BEGIN:DAYLIGHT
TZOFFSETFROM:-0500
TZOFFSETTO:-0400
TZNAME:EDT
DTSTART:20230312T070000
END:DAYLIGHT
BEGIN:STANDARD
TZOFFSETFROM:-0400
TZOFFSETTO:-0500
TZNAME:EST
DTSTART:20231105T060000
END:STANDARD
BEGIN:DAYLIGHT
TZOFFSETFROM:-0500
TZOFFSETTO:-0400
TZNAME:EDT
DTSTART:20240310T070000
END:DAYLIGHT
BEGIN:STANDARD
TZOFFSETFROM:-0400
TZOFFSETTO:-0500
TZNAME:EST
DTSTART:20241103T060000
END:STANDARD
BEGIN:DAYLIGHT
TZOFFSETFROM:-0500
TZOFFSETTO:-0400
TZNAME:EDT
DTSTART:20250309T070000
END:DAYLIGHT
BEGIN:STANDARD
TZOFFSETFROM:-0400
TZOFFSETTO:-0500
TZNAME:EST
DTSTART:20251102T060000
END:STANDARD
END:VTIMEZONE
BEGIN:VEVENT
DTSTART;TZID=America/New_York:20241026T140000
DTEND;TZID=America/New_York:20241026T160000
DTSTAMP:20260422T162513
CREATED:20241015T190703Z
LAST-MODIFIED:20241015T190956Z
UID:16877-1729951200-1729958400@visitmathews.com
SUMMARY:Howl-A-Palooza
DESCRIPTION:Goosebumps @ the Library Party\, followed by Main Street Trick or Treat! \nHead to the library for creepy crafts\, ghoulish games\, scary snacks\, and a costume contest\, and then head out to Main Street for a Trick or Treat Parade! \nThe winners of the Jack-O’-Lantern contest will be announced at 2 pm.
URL:https://visitmathews.com/event/howl-a-palooza-6/
LOCATION:Mathews Memorial Library\, 251 Main Street\, Mathews\, VA\, 23109\, United States
CATEGORIES:Holiday/ Seasonal,Library Events,Youth
ATTACH;FMTTYPE=image/jpeg:https://visitmathews.com/wp-content/uploads/2024/10/IMG_3756-1.jpg
ORGANIZER;CN="Mathews Memorial Library":MAILTO:staff@mathewslibrary.org
END:VEVENT
BEGIN:VEVENT
DTSTART;TZID=America/New_York:20241031T170000
DTEND;TZID=America/New_York:20241031T190000
DTSTAMP:20260422T162513
CREATED:20241015T191342Z
LAST-MODIFIED:20241015T191342Z
UID:16883-1730394000-1730401200@visitmathews.com
SUMMARY:Mathews Chapel UMC & LIFT Mathews Trunk or Treat
DESCRIPTION:Head over to Mathews Chapel for their Trunk or Treat event!
URL:https://visitmathews.com/event/mathews-chapel-umc-lift-mathews-trunk-or-treat/
LOCATION:Mathews\, VA\, 23109\, United States
CATEGORIES:Holiday/ Seasonal,Outdoor,Youth
ATTACH;FMTTYPE=image/jpeg:https://visitmathews.com/wp-content/uploads/2024/10/IMG_3763.jpg
END:VEVENT
BEGIN:VEVENT
DTSTART;TZID=America/New_York:20241031T173000
DTEND;TZID=America/New_York:20241031T190000
DTSTAMP:20260422T162513
CREATED:20241015T190857Z
LAST-MODIFIED:20241015T190857Z
UID:16879-1730395800-1730401200@visitmathews.com
SUMMARY:Mathews Baptist Church's Trunk or Treat
DESCRIPTION:Join Mathews Baptist for its annual Trunk or Treat!
URL:https://visitmathews.com/event/mathews-baptist-churchs-trunk-or-treat/
LOCATION:Mathews Baptist Church\, 8284 Buckley Hall Road\, Hudgins\, VA\, 23076\, Select a Country:
CATEGORIES:Holiday/ Seasonal,Outdoor,Youth
ATTACH;FMTTYPE=image/jpeg:https://visitmathews.com/wp-content/uploads/2024/10/IMG_3762.jpg
END:VEVENT
END:VCALENDAR