BEGIN:VCALENDAR
VERSION:2.0
PRODID:-//Mathews County Visitor Center - ECPv6.15.20//NONSGML v1.0//EN
CALSCALE:GREGORIAN
METHOD:PUBLISH
X-ORIGINAL-URL:https://visitmathews.com
X-WR-CALDESC:Events for Mathews County Visitor Center
REFRESH-INTERVAL;VALUE=DURATION:PT1H
X-Robots-Tag:noindex
X-PUBLISHED-TTL:PT1H
BEGIN:VTIMEZONE
TZID:America/New_York
BEGIN:DAYLIGHT
TZOFFSETFROM:-0500
TZOFFSETTO:-0400
TZNAME:EDT
DTSTART:20230312T070000
END:DAYLIGHT
BEGIN:STANDARD
TZOFFSETFROM:-0400
TZOFFSETTO:-0500
TZNAME:EST
DTSTART:20231105T060000
END:STANDARD
BEGIN:DAYLIGHT
TZOFFSETFROM:-0500
TZOFFSETTO:-0400
TZNAME:EDT
DTSTART:20240310T070000
END:DAYLIGHT
BEGIN:STANDARD
TZOFFSETFROM:-0400
TZOFFSETTO:-0500
TZNAME:EST
DTSTART:20241103T060000
END:STANDARD
BEGIN:DAYLIGHT
TZOFFSETFROM:-0500
TZOFFSETTO:-0400
TZNAME:EDT
DTSTART:20250309T070000
END:DAYLIGHT
BEGIN:STANDARD
TZOFFSETFROM:-0400
TZOFFSETTO:-0500
TZNAME:EST
DTSTART:20251102T060000
END:STANDARD
END:VTIMEZONE
BEGIN:VEVENT
DTSTART;VALUE=DATE:20240709
DTEND;VALUE=DATE:20240803
DTSTAMP:20260422T191754
CREATED:20240620T163555Z
LAST-MODIFIED:20240620T163652Z
UID:16419-1720483200-1722643199@visitmathews.com
SUMMARY:The Adventure Begins @ the Library!
DESCRIPTION:Join the fun with the Mathews Memorial Library’s The Adventure Begins summer programs! \nFrom Adventures in Nature\, to Adventures in Imagination\, Adventures in Travel and Adventures Close to Home\, there’s something for everyone! Activities include Lemonade Lectures\, Tales to be Told\, Discovery Days and Creative Activities- check out the list below to see the offerings\, dates and times\, and contact the Library to register. All activities are free. \n*REGISTRATION FOR TUESDAY\, THURSDAY & FRIDAY EVENTS IS FOR AGES 6-12 ONLY/ WEDNESDAYS FOR AGES 5 & YOUNGER ONLY* \n \n 
URL:https://visitmathews.com/event/the-adventure-begins-the-library/
LOCATION:Mathews Memorial Library\, 251 Main Street\, Mathews\, VA\, 23109\, United States
CATEGORIES:Educational,Library Events,Youth
ATTACH;FMTTYPE=image/jpeg:https://visitmathews.com/wp-content/uploads/2024/06/The-Adventure-Begins-Flyer.jpg
ORGANIZER;CN="Mathews Memorial Library":MAILTO:staff@mathewslibrary.org
END:VEVENT
BEGIN:VEVENT
DTSTART;TZID=America/New_York:20240806T100000
DTEND;TZID=America/New_York:20240806T110000
DTSTAMP:20260422T191754
CREATED:20240723T180227Z
LAST-MODIFIED:20240723T180227Z
UID:16594-1722938400-1722942000@visitmathews.com
SUMMARY:Teen Writer's Workshop
DESCRIPTION:Join the Mathews Memorial Library for a Creative Writing Workshop and author talk with Shannon Dunlop\, author of Right Here\, Right Now. \nFree and open to youth ages 12-18! \n 
URL:https://visitmathews.com/event/teen-writers-workshop/
LOCATION:Mathews Memorial Library\, 251 Main Street\, Mathews\, VA\, 23109\, United States
CATEGORIES:Educational,Library Events,Youth
ATTACH;FMTTYPE=application/pdf:https://visitmathews.com/wp-content/uploads/2024/07/Author-Event-Dunlap.pdf
ORGANIZER;CN="Mathews Memorial Library":MAILTO:staff@mathewslibrary.org
END:VEVENT
BEGIN:VEVENT
DTSTART;TZID=America/New_York:20240806T160000
DTEND;TZID=America/New_York:20240806T200000
DTSTAMP:20260422T191754
CREATED:20240415T162801Z
LAST-MODIFIED:20240723T181247Z
UID:16137-1722960000-1722974400@visitmathews.com
SUMMARY:National Night Out 2024
DESCRIPTION:National Night Out will be held on the football field of Mathews High School with games\, music\, food trucks\, sno-cones and more. This event is held across the county to build relationships between families in our community and law enforcement.
URL:https://visitmathews.com/event/national-night-out-2024/
LOCATION:Mathews High School\, 9889 Buckley Hall Rd\, Mathews\, VA\, 23109\, United States
CATEGORIES:Community Events,Outdoor,Youth
ATTACH;FMTTYPE=image/jpeg:https://visitmathews.com/wp-content/uploads/2024/04/451713816_882802150549747_3302661632429845855_n.jpg
END:VEVENT
BEGIN:VEVENT
DTSTART;TZID=America/New_York:20240817T100000
DTEND;TZID=America/New_York:20240817T150000
DTSTAMP:20260422T191754
CREATED:20240627T012737Z
LAST-MODIFIED:20240627T012955Z
UID:16525-1723888800-1723906800@visitmathews.com
SUMMARY:Ice Cream\, Art & Drama
DESCRIPTION:Ice Cream Social\n11 AM-3 PM\nBeat the heat with something sweet! $10 for a handmade ceramic bowl filled with your choice of ice cream and toppings to help Clay by the Bay Ceramics Guild raise money for improvements to our pottery studio. \nKids’ Art Show and Market\n10 AM-3 PM\nExplore and celebrate the work of our next generation of artists! All work was created in our Summer Art Camps.  Student vendors also will be selling their work! \nArtisan Market\n10AM-3PM\nShop a wide variety of arts and crafts inside and outside our gallery! \nTheatre Camp Performance\nNoon\nStudents will be performing two\, one-act plays based on C.S. Lewis’ The Chronicles of Narnia and Lewis Carroll’s Alice in Wonderland on the backyard stage!
URL:https://visitmathews.com/event/ice-cream-art-drama/
LOCATION:Bay School Community Arts Center\, 279 Main Street \, Mathews\, VA\, 23109\, United States
CATEGORIES:Arts & Cultural,Community Events,Food & Drink,Youth
ATTACH;FMTTYPE=image/png:https://visitmathews.com/wp-content/uploads/2024/06/Screenshot-2024-06-26-at-9.29.23-PM.png
ORGANIZER;CN="Bay School Comunity Arts Center":MAILTO:pamdoss@bayschool-arts.com
END:VEVENT
END:VCALENDAR