BEGIN:VCALENDAR
VERSION:2.0
PRODID:-//Mathews County Visitor Center - ECPv6.15.20//NONSGML v1.0//EN
CALSCALE:GREGORIAN
METHOD:PUBLISH
X-ORIGINAL-URL:https://visitmathews.com
X-WR-CALDESC:Events for Mathews County Visitor Center
REFRESH-INTERVAL;VALUE=DURATION:PT1H
X-Robots-Tag:noindex
X-PUBLISHED-TTL:PT1H
BEGIN:VTIMEZONE
TZID:America/New_York
BEGIN:DAYLIGHT
TZOFFSETFROM:-0500
TZOFFSETTO:-0400
TZNAME:EDT
DTSTART:20230312T070000
END:DAYLIGHT
BEGIN:STANDARD
TZOFFSETFROM:-0400
TZOFFSETTO:-0500
TZNAME:EST
DTSTART:20231105T060000
END:STANDARD
BEGIN:DAYLIGHT
TZOFFSETFROM:-0500
TZOFFSETTO:-0400
TZNAME:EDT
DTSTART:20240310T070000
END:DAYLIGHT
BEGIN:STANDARD
TZOFFSETFROM:-0400
TZOFFSETTO:-0500
TZNAME:EST
DTSTART:20241103T060000
END:STANDARD
BEGIN:DAYLIGHT
TZOFFSETFROM:-0500
TZOFFSETTO:-0400
TZNAME:EDT
DTSTART:20250309T070000
END:DAYLIGHT
BEGIN:STANDARD
TZOFFSETFROM:-0400
TZOFFSETTO:-0500
TZNAME:EST
DTSTART:20251102T060000
END:STANDARD
END:VTIMEZONE
BEGIN:VEVENT
DTSTART;VALUE=DATE:20240709
DTEND;VALUE=DATE:20240803
DTSTAMP:20260422T205847
CREATED:20240620T163555Z
LAST-MODIFIED:20240620T163652Z
UID:16419-1720483200-1722643199@visitmathews.com
SUMMARY:The Adventure Begins @ the Library!
DESCRIPTION:Join the fun with the Mathews Memorial Library’s The Adventure Begins summer programs! \nFrom Adventures in Nature\, to Adventures in Imagination\, Adventures in Travel and Adventures Close to Home\, there’s something for everyone! Activities include Lemonade Lectures\, Tales to be Told\, Discovery Days and Creative Activities- check out the list below to see the offerings\, dates and times\, and contact the Library to register. All activities are free. \n*REGISTRATION FOR TUESDAY\, THURSDAY & FRIDAY EVENTS IS FOR AGES 6-12 ONLY/ WEDNESDAYS FOR AGES 5 & YOUNGER ONLY* \n \n 
URL:https://visitmathews.com/event/the-adventure-begins-the-library/
LOCATION:Mathews Memorial Library\, 251 Main Street\, Mathews\, VA\, 23109\, United States
CATEGORIES:Educational,Library Events,Youth
ATTACH;FMTTYPE=image/jpeg:https://visitmathews.com/wp-content/uploads/2024/06/The-Adventure-Begins-Flyer.jpg
ORGANIZER;CN="Mathews Memorial Library":MAILTO:staff@mathewslibrary.org
END:VEVENT
BEGIN:VEVENT
DTSTART;VALUE=DATE:20240722
DTEND;VALUE=DATE:20240727
DTSTAMP:20260422T205847
CREATED:20240620T170341Z
LAST-MODIFIED:20240709T133253Z
UID:16426-1721606400-1722038399@visitmathews.com
SUMMARY:The Adventure Begins: C2K Camp Week
DESCRIPTION:Join the Coalition4Kids in their summer camp at the Mathews Memorial Library and the Bay School Community Arts Center\, for ages 6-12! This free camp runs from 10 am – 4 pm daily\, and starts each day with activities at the Library\, before heading to the Bay School for the afternoon after lunch! Register by July 5th at the library!
URL:https://visitmathews.com/event/the-adventure-beginsl-c2k-camp-week/
LOCATION:Mathews Memorial Library\, 251 Main Street\, Mathews\, VA\, 23109\, United States
CATEGORIES:Arts & Cultural,Educational,Library Events,Youth
ATTACH;FMTTYPE=image/jpeg:https://visitmathews.com/wp-content/uploads/2024/06/C4K-Camp-Week-Flyer.jpg
ORGANIZER;CN="Mathews Memorial Library":MAILTO:staff@mathewslibrary.org
END:VEVENT
END:VCALENDAR