BEGIN:VCALENDAR
VERSION:2.0
PRODID:-//Mathews County Visitor Center - ECPv6.15.20//NONSGML v1.0//EN
CALSCALE:GREGORIAN
METHOD:PUBLISH
X-ORIGINAL-URL:https://visitmathews.com
X-WR-CALDESC:Events for Mathews County Visitor Center
REFRESH-INTERVAL;VALUE=DURATION:PT1H
X-Robots-Tag:noindex
X-PUBLISHED-TTL:PT1H
BEGIN:VTIMEZONE
TZID:America/New_York
BEGIN:DAYLIGHT
TZOFFSETFROM:-0500
TZOFFSETTO:-0400
TZNAME:EDT
DTSTART:20230312T070000
END:DAYLIGHT
BEGIN:STANDARD
TZOFFSETFROM:-0400
TZOFFSETTO:-0500
TZNAME:EST
DTSTART:20231105T060000
END:STANDARD
BEGIN:DAYLIGHT
TZOFFSETFROM:-0500
TZOFFSETTO:-0400
TZNAME:EDT
DTSTART:20240310T070000
END:DAYLIGHT
BEGIN:STANDARD
TZOFFSETFROM:-0400
TZOFFSETTO:-0500
TZNAME:EST
DTSTART:20241103T060000
END:STANDARD
BEGIN:DAYLIGHT
TZOFFSETFROM:-0500
TZOFFSETTO:-0400
TZNAME:EDT
DTSTART:20250309T070000
END:DAYLIGHT
BEGIN:STANDARD
TZOFFSETFROM:-0400
TZOFFSETTO:-0500
TZNAME:EST
DTSTART:20251102T060000
END:STANDARD
END:VTIMEZONE
BEGIN:VEVENT
DTSTART;TZID=America/New_York:20240609T130000
DTEND;TZID=America/New_York:20240609T160000
DTSTAMP:20260422T222402
CREATED:20240426T020010Z
LAST-MODIFIED:20240527T201125Z
UID:16218-1717938000-1717948800@visitmathews.com
SUMMARY:Saltwater Learn to Fish Day
DESCRIPTION:Fishing & Learning Stations\, children will be required to wear life jackets while fishing.  \nParticipants will be asked to sign a waiver.  \nRefreshments provided!  \nRain or Shine (the fish don’t care)! 
URL:https://visitmathews.com/event/saltwater-learn-to-fish-day/
LOCATION:Williams Wharf Landing\, 1039 Williams Wharf Road\, Mathews\, VA\, 23109\, United States
CATEGORIES:Community Events,Educational,Outdoor,Sports,Youth
ATTACH;FMTTYPE=application/pdf:https://visitmathews.com/wp-content/uploads/2024/04/L2SF_Flyer.pdf
ORGANIZER;CN="Mathews Land Conservancy":MAILTO:info@mathewslandconservancy.org
END:VEVENT
BEGIN:VEVENT
DTSTART;TZID=America/New_York:20240609T130000
DTEND;TZID=America/New_York:20240609T160000
DTSTAMP:20260422T222402
CREATED:20240515T024741Z
LAST-MODIFIED:20240515T024741Z
UID:16267-1717938000-1717948800@visitmathews.com
SUMMARY:Family Port Fun Day!
DESCRIPTION:Join Mathews Parks & Facilities for a Family Fun Day at Port Fun Park! There will be activities on the new basketball courts\, lessons and play time on the pickleball courts\, an adult fitness trail\, playground activities and the Mathews Memorial Library’s Trail Tales! There will also be vendor giveaways and snow cones from Pelican’s Snoballs.
URL:https://visitmathews.com/event/family-port-fun-day/
LOCATION:Port Fun Park\, 9763 Buckley Hall Road\, Mathews\, VA\, 23109\, United States
CATEGORIES:Community Events,Outdoor,Sports,Youth
ATTACH;FMTTYPE=image/png:https://visitmathews.com/wp-content/uploads/2024/05/Screenshot-2024-05-14-at-10.43.49-PM.png
END:VEVENT
BEGIN:VEVENT
DTSTART;TZID=America/New_York:20240614T100000
DTEND;TZID=America/New_York:20240614T120000
DTSTAMP:20260422T222402
CREATED:20240607T124819Z
LAST-MODIFIED:20240607T124901Z
UID:16288-1718359200-1718366400@visitmathews.com
SUMMARY:20th Annual Highland Games & Picnic
DESCRIPTION:Games\, picnic\, prizes\, + a free shirt for registered kids. Featuring the Kilmarnock Pipe Band. Register online: https://www.mathewslibrary.org/library-services/forms/highland-games-registration
URL:https://visitmathews.com/event/20th-annual-highland-games-picnic/
LOCATION:Piankatank Ruritan Club\, 7138 Buckley Hall Road\, Mathews\, VA\, 23109\, United States
CATEGORIES:Community Events,Library Events,Live Music,Outdoor,Youth
ATTACH;FMTTYPE=image/jpeg:https://visitmathews.com/wp-content/uploads/2024/06/Highland-Games-2024.jpg
ORGANIZER;CN="Mathews Memorial Library":MAILTO:staff@mathewslibrary.org
END:VEVENT
BEGIN:VEVENT
DTSTART;VALUE=DATE:20240624
DTEND;VALUE=DATE:20240629
DTSTAMP:20260422T222402
CREATED:20240620T165907Z
LAST-MODIFIED:20240620T165907Z
UID:16423-1719187200-1719619199@visitmathews.com
SUMMARY:The Adventure Begins: Teen Summer Program
DESCRIPTION:Register today for the Teen Summer Program at the Mathews Memorial Library! This free program is daily from 10 am- 2 pm\, and open to ages 12-17. \nThere will be many activities\, including: nature safety\, learning to LARP\, cosplay social\, archery\, Library Olympics\, fantasy writing & art\, tips for reading to learn\, games & crafts\, and making new friends!
URL:https://visitmathews.com/event/the-adventure-begins-teen-summer-program/
LOCATION:Mathews Memorial Library\, 251 Main Street\, Mathews\, VA\, 23109\, United States
CATEGORIES:Educational,Library Events,Youth
ATTACH;FMTTYPE=image/jpeg:https://visitmathews.com/wp-content/uploads/2024/06/Teen-Summer-Program-2024-Flyer.jpg
ORGANIZER;CN="Mathews Memorial Library":MAILTO:staff@mathewslibrary.org
END:VEVENT
END:VCALENDAR