BEGIN:VCALENDAR
VERSION:2.0
PRODID:-//Mathews County Visitor Center - ECPv6.15.20//NONSGML v1.0//EN
CALSCALE:GREGORIAN
METHOD:PUBLISH
X-WR-CALNAME:Mathews County Visitor Center
X-ORIGINAL-URL:https://visitmathews.com
X-WR-CALDESC:Events for Mathews County Visitor Center
REFRESH-INTERVAL;VALUE=DURATION:PT1H
X-Robots-Tag:noindex
X-PUBLISHED-TTL:PT1H
BEGIN:VTIMEZONE
TZID:America/New_York
BEGIN:DAYLIGHT
TZOFFSETFROM:-0500
TZOFFSETTO:-0400
TZNAME:EDT
DTSTART:20230312T070000
END:DAYLIGHT
BEGIN:STANDARD
TZOFFSETFROM:-0400
TZOFFSETTO:-0500
TZNAME:EST
DTSTART:20231105T060000
END:STANDARD
BEGIN:DAYLIGHT
TZOFFSETFROM:-0500
TZOFFSETTO:-0400
TZNAME:EDT
DTSTART:20240310T070000
END:DAYLIGHT
BEGIN:STANDARD
TZOFFSETFROM:-0400
TZOFFSETTO:-0500
TZNAME:EST
DTSTART:20241103T060000
END:STANDARD
BEGIN:DAYLIGHT
TZOFFSETFROM:-0500
TZOFFSETTO:-0400
TZNAME:EDT
DTSTART:20250309T070000
END:DAYLIGHT
BEGIN:STANDARD
TZOFFSETFROM:-0400
TZOFFSETTO:-0500
TZNAME:EST
DTSTART:20251102T060000
END:STANDARD
END:VTIMEZONE
BEGIN:VEVENT
DTSTART;TZID=America/New_York:20240414T180000
DTEND;TZID=America/New_York:20240414T200000
DTSTAMP:20260423T012419
CREATED:20240327T182104Z
LAST-MODIFIED:20240328T165240Z
UID:16019-1713117600-1713124800@visitmathews.com
SUMMARY:Community Musical Event
DESCRIPTION:Join the Westville Christian Church for a community musical event! Talent from across Mathews and the area will perform- a love offering will be taken\, and every penny of the money will be used to send special needs children to Craig Springs Camp this summer! The camp is situated in the western part of the state\, and is a wonderful opportunity for these kids. Each camper must have an individual qualified counselor and special equipment\, and the West Mathews Church’s goal is to sponsor the cost for five kids this year! The music will be really really good and the donations will be for a really\, really good cause!
URL:https://visitmathews.com/event/community-musical-event/
LOCATION:Westville Christian Church\, 261 Main St.\, Mathews\, VA\, United States
CATEGORIES:Arts & Cultural,Community Events,Live Music,Youth
END:VEVENT
BEGIN:VEVENT
DTSTART;TZID=America/New_York:20240420T100000
DTEND;TZID=America/New_York:20240420T150000
DTSTAMP:20260423T012419
CREATED:20240327T150421Z
LAST-MODIFIED:20240327T150421Z
UID:16016-1713607200-1713625200@visitmathews.com
SUMMARY:Family Art Festival
DESCRIPTION:Come create with the Bay School!\n\nA day of artistic fun in The Bay School Backyard – art activities\, live music\, food vendors\, raku firing\, and beer from Gloucester Brewing Company- fun for all ages!\n\nBring your favorite lawn chairs\, and be ready to dance and groove to live music on the Bay School’s backyard stage while enjoying lunch from Hungry Hungry Arrow. Or take part in the annual Raku Firing Fundraiser while you are there!\n\nProceeds from this event support the Bay School’s free OpenArts After School program and the pay-what-you-can Summer Art Camps. Help the Bay School succeed in providing equitable access to the arts to all children.\n\nAdmission is free- activity tickets\, food and beverage\, and raku firing are available for purchase. Sponsored by Dominion Energy and Chesapeake Bank.
URL:https://visitmathews.com/event/family-art-festival-2/
LOCATION:Bay School Community Arts Center\, 279 Main Street \, Mathews\, VA\, 23109\, United States
CATEGORIES:Arts & Cultural,Community Events,Outdoor,Youth
ATTACH;FMTTYPE=image/jpeg:https://visitmathews.com/wp-content/uploads/2024/03/434187856_828214675991039_8966345213498792624_n.jpg
ORGANIZER;CN="Bay School Comunity Arts Center":MAILTO:pamdoss@bayschool-arts.com
END:VEVENT
END:VCALENDAR