BEGIN:VCALENDAR
VERSION:2.0
PRODID:-//Mathews County Visitor Center - ECPv6.15.20//NONSGML v1.0//EN
CALSCALE:GREGORIAN
METHOD:PUBLISH
X-ORIGINAL-URL:https://visitmathews.com
X-WR-CALDESC:Events for Mathews County Visitor Center
REFRESH-INTERVAL;VALUE=DURATION:PT1H
X-Robots-Tag:noindex
X-PUBLISHED-TTL:PT1H
BEGIN:VTIMEZONE
TZID:America/New_York
BEGIN:DAYLIGHT
TZOFFSETFROM:-0500
TZOFFSETTO:-0400
TZNAME:EDT
DTSTART:20230312T070000
END:DAYLIGHT
BEGIN:STANDARD
TZOFFSETFROM:-0400
TZOFFSETTO:-0500
TZNAME:EST
DTSTART:20231105T060000
END:STANDARD
BEGIN:DAYLIGHT
TZOFFSETFROM:-0500
TZOFFSETTO:-0400
TZNAME:EDT
DTSTART:20240310T070000
END:DAYLIGHT
BEGIN:STANDARD
TZOFFSETFROM:-0400
TZOFFSETTO:-0500
TZNAME:EST
DTSTART:20241103T060000
END:STANDARD
BEGIN:DAYLIGHT
TZOFFSETFROM:-0500
TZOFFSETTO:-0400
TZNAME:EDT
DTSTART:20250309T070000
END:DAYLIGHT
BEGIN:STANDARD
TZOFFSETFROM:-0400
TZOFFSETTO:-0500
TZNAME:EST
DTSTART:20251102T060000
END:STANDARD
END:VTIMEZONE
BEGIN:VEVENT
DTSTART;TZID=America/New_York:20240307T070000
DTEND;TZID=America/New_York:20240307T190000
DTSTAMP:20260423T030224
CREATED:20240223T154342Z
LAST-MODIFIED:20240223T154342Z
UID:15834-1709794800-1709838000@visitmathews.com
SUMMARY:Dine to Donate
DESCRIPTION:Join the Gwynn’s Island Civic League at Howard-Dooley Cafe for a fundraiser for the Mathews High School Music Department! \nAll dine-in and take-out meals for the whole day will directly benefit the MHS Music Department!
URL:https://visitmathews.com/event/dine-to-donate/
LOCATION:Howard-Dooley Cafe\, 9303 Buckley Hall Road\, Mathews\, VA\, 23109\, United States
CATEGORIES:Community Events,Food & Drink,Youth
ATTACH;FMTTYPE=image/heic:https://visitmathews.com/wp-content/uploads/2024/02/IMG_6974.heic
ORGANIZER;CN="Gwynn's Island Civic League":MAILTO:gwynnsislandfestival@gmail.com
END:VEVENT
BEGIN:VEVENT
DTSTART;TZID=America/New_York:20240329T180000
DTEND;TZID=America/New_York:20240329T200000
DTSTAMP:20260423T030224
CREATED:20240319T035509Z
LAST-MODIFIED:20240319T035509Z
UID:16000-1711735200-1711742400@visitmathews.com
SUMMARY:Paint and Sip with Chuck Dickerson
DESCRIPTION:Grab your partner\, friends and family for Zoll Vineyards’ Paint and Sip! This is a family friendly event! \nThe theme for this night is “beach Scene with crashing waves” \nYou will learn how to create your own unique painting using acrylic paints led by Chuck Dickerson- who is an amazing local artist!
URL:https://visitmathews.com/event/paint-and-sip-with-chuck-dickerson/
LOCATION:Zoll Vineyards\, 10309 Vineyard Rd.\, Dutton\, VA\, 23050\, United States
CATEGORIES:Arts & Cultural,Youth
ATTACH;FMTTYPE=image/jpeg:https://visitmathews.com/wp-content/uploads/2024/03/chuck-paint.jpg
END:VEVENT
BEGIN:VEVENT
DTSTART;TZID=America/New_York:20240330T110000
DTEND;TZID=America/New_York:20240330T120000
DTSTAMP:20260423T030224
CREATED:20240205T133129Z
LAST-MODIFIED:20240205T133129Z
UID:15777-1711796400-1711800000@visitmathews.com
SUMMARY:Community Easter Egg Hunt
DESCRIPTION:Children ages 3-10 are welcome to join for the Community Easter Egg Hunt on the Court Green! Costumes are welcome\, and please bring a basket. This free event is open to the whole community\, and the Easter Bunny himself will make an appearance!
URL:https://visitmathews.com/event/community-easter-egg-hunt-3/
LOCATION:Courthouse Square\, Court St\, Mathews\, VA\, 23109\, United States
CATEGORIES:Community Events,Holiday/ Seasonal,Youth
ATTACH;FMTTYPE=image/png:https://visitmathews.com/wp-content/uploads/2024/02/mathews-community.png
ORGANIZER;CN="Mathews County Visitor &amp%3B Information Center":MAILTO:mathewsvisitorcenter@gmail.com
END:VEVENT
BEGIN:VEVENT
DTSTART;TZID=America/New_York:20240330T110000
DTEND;TZID=America/New_York:20240330T120000
DTSTAMP:20260423T030224
CREATED:20240328T145005Z
LAST-MODIFIED:20240328T145005Z
UID:16022-1711796400-1711800000@visitmathews.com
SUMMARY:Zoll's Easter Egg Hunt
DESCRIPTION:Join Zoll Vineyards for an Easter Egg Hunt!
URL:https://visitmathews.com/event/zolls-easter-egg-hunt/
LOCATION:Zoll Vineyards\, 10309 Vineyard Rd.\, Dutton\, VA\, 23050\, United States
CATEGORIES:Community Events,Holiday/ Seasonal,Youth
ATTACH;FMTTYPE=image/jpeg:https://visitmathews.com/wp-content/uploads/2024/03/White-Contest-Easter-Egg-Hunt-Flyer-1-scaled.jpg
END:VEVENT
BEGIN:VEVENT
DTSTART;TZID=America/New_York:20240330T110000
DTEND;TZID=America/New_York:20240330T200000
DTSTAMP:20260423T030224
CREATED:20240319T035733Z
LAST-MODIFIED:20240319T035733Z
UID:16004-1711796400-1711828800@visitmathews.com
SUMMARY:Zoll's Easter Egg Hunt & Brunch
DESCRIPTION:Join Zoll Vineyards for their free Easter Egg hunt- everyone is welcome! There will be plenty of eggs to go around\, with a brunch menu served all day.
URL:https://visitmathews.com/event/zolls-easter-egg-hunt-brunch/
LOCATION:Zoll Vineyards\, 10309 Vineyard Rd.\, Dutton\, VA\, 23050\, United States
CATEGORIES:Community Events,Food & Drink,Holiday/ Seasonal,Youth
ATTACH;FMTTYPE=image/jpeg:https://visitmathews.com/wp-content/uploads/2024/03/easter-banner.jpg
END:VEVENT
END:VCALENDAR