BEGIN:VCALENDAR
VERSION:2.0
PRODID:-//Mathews County Visitor Center - ECPv6.15.20//NONSGML v1.0//EN
CALSCALE:GREGORIAN
METHOD:PUBLISH
X-ORIGINAL-URL:https://visitmathews.com
X-WR-CALDESC:Events for Mathews County Visitor Center
REFRESH-INTERVAL;VALUE=DURATION:PT1H
X-Robots-Tag:noindex
X-PUBLISHED-TTL:PT1H
BEGIN:VTIMEZONE
TZID:America/New_York
BEGIN:DAYLIGHT
TZOFFSETFROM:-0500
TZOFFSETTO:-0400
TZNAME:EDT
DTSTART:20230312T070000
END:DAYLIGHT
BEGIN:STANDARD
TZOFFSETFROM:-0400
TZOFFSETTO:-0500
TZNAME:EST
DTSTART:20231105T060000
END:STANDARD
BEGIN:DAYLIGHT
TZOFFSETFROM:-0500
TZOFFSETTO:-0400
TZNAME:EDT
DTSTART:20240310T070000
END:DAYLIGHT
BEGIN:STANDARD
TZOFFSETFROM:-0400
TZOFFSETTO:-0500
TZNAME:EST
DTSTART:20241103T060000
END:STANDARD
BEGIN:DAYLIGHT
TZOFFSETFROM:-0500
TZOFFSETTO:-0400
TZNAME:EDT
DTSTART:20250309T070000
END:DAYLIGHT
BEGIN:STANDARD
TZOFFSETFROM:-0400
TZOFFSETTO:-0500
TZNAME:EST
DTSTART:20251102T060000
END:STANDARD
END:VTIMEZONE
BEGIN:VEVENT
DTSTART;TZID=America/New_York:20240226T080000
DTEND;TZID=America/New_York:20240226T170000
DTSTAMP:20260423T043140
CREATED:20240226T191657Z
LAST-MODIFIED:20240226T191657Z
UID:15845-1708934400-1708966800@visitmathews.com
SUMMARY:Family Movie Night: Peter Rabbit
DESCRIPTION:Meet Your Kids at the Bay School for a Movie Night! Friday\, March 1. \nThe kids can take the bus from school or you can drop them off at 3:00 at Mathews Memorial Library for rabbit time. They will read Peter Rabbit and another book about rabbits\, learn about rabbits\, and do two rabbit crafts. We will provide a snack or you can send one with your child. \nAt 4:30 the kids will come to the Bay School to paint Peter Rabbit on a canvas. \nAt 5:30 we will serve pizza with sides of rabbit-friendly veggies\, of course. If your child can’t eat pizza\, please bring them something they can have for dinner. Parents\, join us in the gallery for eats\, drinks\, and paint your own rabbit if you like. The movie will be shown in the classroom when the kids finish dinner. \nThis event is fun for the whole family\, with food\, drink\, and fresh popcorn. \nThis event is free for Bay School members and kids and $5 for adult non-members. Popcorn\, soft drinks\, and pizza for the kids are included; alcoholic drinks and adult pizza will have an additional charge. \nWe will have a carpet on the floor\, but bring pillows and/or blankets for your kids to get cozy in the classroom. \nPlease reserve your FREE or PAID tickets with us so we have a head count to have enough of everything.
URL:https://visitmathews.com/event/family-movie-night-peter-rabbit/
LOCATION:Bay School Community Arts Center\, 279 Main Street \, Mathews\, VA\, 23109\, United States
CATEGORIES:Community Events,Holiday/ Seasonal,Library Events,Youth
ATTACH;FMTTYPE=image/png:https://visitmathews.com/wp-content/uploads/2024/02/Screenshot-2024-02-26-at-2.04.02-PM.png
ORGANIZER;CN="Bay School Comunity Arts Center":MAILTO:pamdoss@bayschool-arts.com
END:VEVENT
END:VCALENDAR