BEGIN:VCALENDAR
VERSION:2.0
PRODID:-//Mathews County Visitor Center - ECPv6.15.20//NONSGML v1.0//EN
CALSCALE:GREGORIAN
METHOD:PUBLISH
X-ORIGINAL-URL:https://visitmathews.com
X-WR-CALDESC:Events for Mathews County Visitor Center
REFRESH-INTERVAL;VALUE=DURATION:PT1H
X-Robots-Tag:noindex
X-PUBLISHED-TTL:PT1H
BEGIN:VTIMEZONE
TZID:America/New_York
BEGIN:DAYLIGHT
TZOFFSETFROM:-0500
TZOFFSETTO:-0400
TZNAME:EDT
DTSTART:20240310T070000
END:DAYLIGHT
BEGIN:STANDARD
TZOFFSETFROM:-0400
TZOFFSETTO:-0500
TZNAME:EST
DTSTART:20241103T060000
END:STANDARD
BEGIN:DAYLIGHT
TZOFFSETFROM:-0500
TZOFFSETTO:-0400
TZNAME:EDT
DTSTART:20250309T070000
END:DAYLIGHT
BEGIN:STANDARD
TZOFFSETFROM:-0400
TZOFFSETTO:-0500
TZNAME:EST
DTSTART:20251102T060000
END:STANDARD
BEGIN:DAYLIGHT
TZOFFSETFROM:-0500
TZOFFSETTO:-0400
TZNAME:EDT
DTSTART:20260308T070000
END:DAYLIGHT
BEGIN:STANDARD
TZOFFSETFROM:-0400
TZOFFSETTO:-0500
TZNAME:EST
DTSTART:20261101T060000
END:STANDARD
END:VTIMEZONE
BEGIN:VEVENT
DTSTART;TZID=America/New_York:20250112T120000
DTEND;TZID=America/New_York:20250112T160000
DTSTAMP:20260421T093456
CREATED:20241212T133131Z
LAST-MODIFIED:20241212T150850Z
UID:17106-1736683200-1736697600@visitmathews.com
SUMMARY:ETC. Vintage's Second Sunday Artist Day!
DESCRIPTION:It is cold outside! Are you wishing for warmer weather? Do you have shells sitting around and want an idea of how to put them to good use? You can turn your shells into beautiful magnets! Join us on Sunday\, January 12\, 2025 from 12 to 4 PM and artisan Rebecca Suzanne Wheeler can guide you in turning your idea into reality. She can also paint your idea for you or if you just want to participate\, she will have a selection of shells\, paints\, and glass pieces. Come for some fun\, art  and the best shopping at ETC. Vintage!
URL:https://visitmathews.com/event/etc-vintages-second-sunday-artist-day/
LOCATION:Mathews\, VA\, 23109\, United States
CATEGORIES:Arts & Cultural,Shopping
ATTACH;FMTTYPE=image/jpeg:https://visitmathews.com/wp-content/uploads/2024/12/EV_SS_Artisan-RSW.jpg
END:VEVENT
BEGIN:VEVENT
DTSTART;VALUE=DATE:20250117
DTEND;VALUE=DATE:20250202
DTSTAMP:20260421T093456
CREATED:20250115T191152Z
LAST-MODIFIED:20250115T191152Z
UID:17251-1737072000-1738454399@visitmathews.com
SUMMARY:Crafted in Clay
DESCRIPTION:Crafted in Clay is a yearly pop-up pottery event\, from Jan. 17th- Feb.1. Shop for unique\, decorative and functional pottery. Pottery pricing will range from full price to sale and seconds pricing.
URL:https://visitmathews.com/event/crafted-in-clay/
LOCATION:Bay School Community Arts Center\, 279 Main Street \, Mathews\, VA\, 23109\, United States
CATEGORIES:Art Shows,Arts & Cultural,Business,Shopping
ATTACH;FMTTYPE=image/jpeg:https://visitmathews.com/wp-content/uploads/2025/01/0-1.jpeg
ORGANIZER;CN="Bay School Comunity Arts Center":MAILTO:pamdoss@bayschool-arts.com
END:VEVENT
END:VCALENDAR