BEGIN:VCALENDAR
VERSION:2.0
PRODID:-//Mathews County Visitor Center - ECPv6.15.20//NONSGML v1.0//EN
CALSCALE:GREGORIAN
METHOD:PUBLISH
X-WR-CALNAME:Mathews County Visitor Center
X-ORIGINAL-URL:https://visitmathews.com
X-WR-CALDESC:Events for Mathews County Visitor Center
REFRESH-INTERVAL;VALUE=DURATION:PT1H
X-Robots-Tag:noindex
X-PUBLISHED-TTL:PT1H
BEGIN:VTIMEZONE
TZID:America/New_York
BEGIN:DAYLIGHT
TZOFFSETFROM:-0500
TZOFFSETTO:-0400
TZNAME:EDT
DTSTART:20230312T070000
END:DAYLIGHT
BEGIN:STANDARD
TZOFFSETFROM:-0400
TZOFFSETTO:-0500
TZNAME:EST
DTSTART:20231105T060000
END:STANDARD
BEGIN:DAYLIGHT
TZOFFSETFROM:-0500
TZOFFSETTO:-0400
TZNAME:EDT
DTSTART:20240310T070000
END:DAYLIGHT
BEGIN:STANDARD
TZOFFSETFROM:-0400
TZOFFSETTO:-0500
TZNAME:EST
DTSTART:20241103T060000
END:STANDARD
BEGIN:DAYLIGHT
TZOFFSETFROM:-0500
TZOFFSETTO:-0400
TZNAME:EDT
DTSTART:20250309T070000
END:DAYLIGHT
BEGIN:STANDARD
TZOFFSETFROM:-0400
TZOFFSETTO:-0500
TZNAME:EST
DTSTART:20251102T060000
END:STANDARD
END:VTIMEZONE
BEGIN:VEVENT
DTSTART;TZID=America/New_York:20241208T120000
DTEND;TZID=America/New_York:20241208T160000
DTSTAMP:20260421T112703
CREATED:20240627T174121Z
LAST-MODIFIED:20240627T174121Z
UID:16545-1733659200-1733673600@visitmathews.com
SUMMARY:2nd Sunday at ETC!
DESCRIPTION:Shopping\, Fairy Hair Flare and Two Salty River Chicks Jus Catch’n Up food truck!
URL:https://visitmathews.com/event/2nd-sunday-at-etc/
LOCATION:Etc. Vintage\, 2066 Buckley Hall Road\, Cobbs Creek\, VA\, 23035\, United States
CATEGORIES:Food & Drink,Shopping
END:VEVENT
BEGIN:VEVENT
DTSTART;TZID=America/New_York:20241208T120000
DTEND;TZID=America/New_York:20241208T160000
DTSTAMP:20260421T112703
CREATED:20241119T152702Z
LAST-MODIFIED:20241119T152702Z
UID:17039-1733659200-1733673600@visitmathews.com
SUMMARY:December 2nd Sunday @ ETC. Vintage!
DESCRIPTION:Come get your *Holiday Sparkle* on at the Fairy Hair event at Etc. Vintage! The Two Salty River Chic’s food truck will also be on site. Be sure to swing by for some snacks\, shopping and sparkles!
URL:https://visitmathews.com/event/december-2nd-sunday-etc-vintage/
LOCATION:Etc. Vintage\, 2066 Buckley Hall Road\, Cobbs Creek\, VA\, 23035\, United States
CATEGORIES:Food & Drink,Holiday/ Seasonal,Shopping
ATTACH;FMTTYPE=image/jpeg:https://visitmathews.com/wp-content/uploads/2024/11/Fairy-Hair_December-2024.jpg
END:VEVENT
BEGIN:VEVENT
DTSTART;TZID=America/New_York:20241213T160000
DTEND;TZID=America/New_York:20241213T190000
DTSTAMP:20260421T112703
CREATED:20241129T184406Z
LAST-MODIFIED:20241129T184406Z
UID:17061-1734105600-1734116400@visitmathews.com
SUMMARY:Holiday Open Wagon
DESCRIPTION:Join Gypsy’s Wagon for a Holiday Open Wagon event! Visit many vendors in one shop\, and enjoy refreshments and treats! The shop opens at 10 am\, and is participating in the Main Street Holiday Night Market! You can enter to win a $25 gift certificate with every purchase all day\, with two winners to be announced on December 19th!
URL:https://visitmathews.com/event/holiday-open-wagon/
LOCATION:Gypsy’s Wagon\, 302 Main Street\, Mathews\, VA\, 23109\, United States
CATEGORIES:Holiday/ Seasonal,Shopping
ATTACH;FMTTYPE=image/jpeg:https://visitmathews.com/wp-content/uploads/2024/11/HOLIDAY-OPEN-WAGON-FLYER-scaled.jpg
END:VEVENT
BEGIN:VEVENT
DTSTART;TZID=America/New_York:20241213T170000
DTEND;TZID=America/New_York:20241213T190000
DTSTAMP:20260421T112703
CREATED:20241119T160535Z
LAST-MODIFIED:20241203T183525Z
UID:17042-1734109200-1734116400@visitmathews.com
SUMMARY:Main Street Holiday Night Market & Tree Lighting
DESCRIPTION:Shops will be open until 7 pm\, with refreshments. \nPick up a punch-card and find the hidden blue crabs in each shop\, and be entered into a drawing for a family prize basket. \nCarolers will sing along the streets\, and Santa will be taking appearances throughout town! \nJoin the carolers for hot chocolate\, winner announcements\, and tree lighting at Westville Church at 7 pm!
URL:https://visitmathews.com/event/main-street-holiday-night-market-tree-lighting/
LOCATION:Mathews Main Street\, Mathews\, VA\, 23109\, United States
CATEGORIES:Community Events,Holiday/ Seasonal,Outdoor,Shopping,Youth
ATTACH;FMTTYPE=image/jpeg:https://visitmathews.com/wp-content/uploads/2024/11/0-9.jpeg
END:VEVENT
BEGIN:VEVENT
DTSTART;TZID=America/New_York:20241214T140000
DTEND;TZID=America/New_York:20241214T160000
DTSTAMP:20260421T112703
CREATED:20241121T173724Z
LAST-MODIFIED:20241121T173724Z
UID:17049-1734184800-1734192000@visitmathews.com
SUMMARY:The Grinch is Coming to the Cottage!
DESCRIPTION:Stop by Roane’s Antiques at the Cottage after the parade for a complimentary family photo with none other than… THE GRINCH!
URL:https://visitmathews.com/event/the-grinch-is-coming-to-the-cottage/
LOCATION:Roane’s Antiques at the Cottage\, 291 Main Street\, Mathews\, VA\, 23109\, United States
CATEGORIES:Community Events,Holiday/ Seasonal,Shopping,Youth
ATTACH;FMTTYPE=image/jpeg:https://visitmathews.com/wp-content/uploads/2024/11/image000000.jpg
END:VEVENT
BEGIN:VEVENT
DTSTART;TZID=America/New_York:20241216T190000
DTEND;TZID=America/New_York:20241216T200000
DTSTAMP:20260421T112703
CREATED:20241209T173540Z
LAST-MODIFIED:20241209T173540Z
UID:17094-1734375600-1734379200@visitmathews.com
SUMMARY:Sounds of the Season
DESCRIPTION:Celebrate the season with an evening of light classics and holiday music! \nThe enchanting sounds WSO Brass Ensemble will ring through library\, putting those attending in proper mood to enjoy traditional pudding wassail. Celebrate the season with an evening of light classics and holiday music. The enchanting sounds WSO Brass Ensemble will ring through library\, putting those attending in proper mood to enjoy traditional pudding and wassail.
URL:https://visitmathews.com/event/sounds-of-the-season/
LOCATION:Mathews Memorial Library\, 251 Main Street\, Mathews\, VA\, 23109\, United States
CATEGORIES:Front Page Featured,Holiday/ Seasonal,Library Events,Live Music,Shopping
ATTACH;FMTTYPE=application/pdf:https://visitmathews.com/wp-content/uploads/2024/12/Sounds-of-the-Season-Flyer-2024-1.pdf
ORGANIZER;CN="Mathews Memorial Library":MAILTO:staff@mathewslibrary.org
END:VEVENT
END:VCALENDAR