BEGIN:VCALENDAR
VERSION:2.0
PRODID:-//Mathews County Visitor Center - ECPv6.15.20//NONSGML v1.0//EN
CALSCALE:GREGORIAN
METHOD:PUBLISH
X-WR-CALNAME:Mathews County Visitor Center
X-ORIGINAL-URL:https://visitmathews.com
X-WR-CALDESC:Events for Mathews County Visitor Center
REFRESH-INTERVAL;VALUE=DURATION:PT1H
X-Robots-Tag:noindex
X-PUBLISHED-TTL:PT1H
BEGIN:VTIMEZONE
TZID:America/New_York
BEGIN:DAYLIGHT
TZOFFSETFROM:-0500
TZOFFSETTO:-0400
TZNAME:EDT
DTSTART:20230312T070000
END:DAYLIGHT
BEGIN:STANDARD
TZOFFSETFROM:-0400
TZOFFSETTO:-0500
TZNAME:EST
DTSTART:20231105T060000
END:STANDARD
BEGIN:DAYLIGHT
TZOFFSETFROM:-0500
TZOFFSETTO:-0400
TZNAME:EDT
DTSTART:20240310T070000
END:DAYLIGHT
BEGIN:STANDARD
TZOFFSETFROM:-0400
TZOFFSETTO:-0500
TZNAME:EST
DTSTART:20241103T060000
END:STANDARD
BEGIN:DAYLIGHT
TZOFFSETFROM:-0500
TZOFFSETTO:-0400
TZNAME:EDT
DTSTART:20250309T070000
END:DAYLIGHT
BEGIN:STANDARD
TZOFFSETFROM:-0400
TZOFFSETTO:-0500
TZNAME:EST
DTSTART:20251102T060000
END:STANDARD
END:VTIMEZONE
BEGIN:VEVENT
DTSTART;TZID=America/New_York:20241110T120000
DTEND;TZID=America/New_York:20241110T160000
DTSTAMP:20260421T125339
CREATED:20240627T173952Z
LAST-MODIFIED:20240627T173952Z
UID:16543-1731240000-1731254400@visitmathews.com
SUMMARY:ETC. Vintage Holiday Open House
DESCRIPTION:
URL:https://visitmathews.com/event/etc-vintage-holiday-open-house/
LOCATION:Etc. Vintage\, 2066 Buckley Hall Road\, Cobbs Creek\, VA\, 23035\, United States
CATEGORIES:Holiday/ Seasonal,Shopping
ATTACH;FMTTYPE=image/jpeg:https://visitmathews.com/wp-content/uploads/2023/08/303296767_595936862109935_8141913784164470960_n.jpg
END:VEVENT
BEGIN:VEVENT
DTSTART;TZID=America/New_York:20241110T120000
DTEND;TZID=America/New_York:20241110T160000
DTSTAMP:20260421T125339
CREATED:20241017T150928Z
LAST-MODIFIED:20241017T150928Z
UID:16887-1731240000-1731254400@visitmathews.com
SUMMARY:Coastal Christmas Open House
DESCRIPTION:Join ETC. Vintage for a 2nd Sunday Event- the Holiday Open House\, with refreshments provided!
URL:https://visitmathews.com/event/coastal-christmas-open-house/
LOCATION:Etc. Vintage\, 2066 Buckley Hall Road\, Cobbs Creek\, VA\, 23035\, United States
CATEGORIES:Holiday/ Seasonal,Shopping
ATTACH;FMTTYPE=image/jpeg:https://visitmathews.com/wp-content/uploads/2024/10/0-7.jpeg
END:VEVENT
BEGIN:VEVENT
DTSTART;VALUE=DATE:20241113
DTEND;VALUE=DATE:20241114
DTSTAMP:20260421T125339
CREATED:20241018T161130Z
LAST-MODIFIED:20241018T161600Z
UID:16890-1731456000-1731542399@visitmathews.com
SUMMARY:Bay School Holiday Pop-Up Market
DESCRIPTION:Join the Bay School from November 13th – December 31st for their Holiday Pop-Up Market!\n\n\nVendors booths will be set up inside the Bay School with some of the most popular artisans\, and regularly freshened up with new inventory throughout the season!
URL:https://visitmathews.com/event/bay-school-holiday-pop-up-market/
LOCATION:Bay School Community Arts Center\, 279 Main Street \, Mathews\, VA\, 23109\, United States
CATEGORIES:Art Shows,Arts & Cultural,Business,Shopping
ATTACH;FMTTYPE=image/jpeg:https://visitmathews.com/wp-content/uploads/2024/10/463492431_965876425558196_4467062406522214393_n.jpg
ORGANIZER;CN="Bay School Comunity Arts Center":MAILTO:pamdoss@bayschool-arts.com
END:VEVENT
BEGIN:VEVENT
DTSTART;TZID=America/New_York:20241119T170000
DTEND;TZID=America/New_York:20241119T193000
DTSTAMP:20260421T125339
CREATED:20241119T161224Z
LAST-MODIFIED:20241119T161224Z
UID:17046-1732035600-1732044600@visitmathews.com
SUMMARY:Nick of Time Night Shopping Event
DESCRIPTION:Shops will stay open late to help with your last-minute shopping needs! An list of participating shops will be coming soon!
URL:https://visitmathews.com/event/nick-of-time-night-shopping-event/
LOCATION:Mathews Main Street\, Mathews\, VA\, 23109\, United States
CATEGORIES:Holiday/ Seasonal,Shopping
ATTACH;FMTTYPE=image/jpeg:https://visitmathews.com/wp-content/uploads/2024/11/0-8-e1732032731107.jpeg
END:VEVENT
END:VCALENDAR