BEGIN:VCALENDAR
VERSION:2.0
PRODID:-//Mathews County Visitor Center - ECPv6.15.20//NONSGML v1.0//EN
CALSCALE:GREGORIAN
METHOD:PUBLISH
X-WR-CALNAME:Mathews County Visitor Center
X-ORIGINAL-URL:https://visitmathews.com
X-WR-CALDESC:Events for Mathews County Visitor Center
REFRESH-INTERVAL;VALUE=DURATION:PT1H
X-Robots-Tag:noindex
X-PUBLISHED-TTL:PT1H
BEGIN:VTIMEZONE
TZID:America/New_York
BEGIN:DAYLIGHT
TZOFFSETFROM:-0500
TZOFFSETTO:-0400
TZNAME:EDT
DTSTART:20230312T070000
END:DAYLIGHT
BEGIN:STANDARD
TZOFFSETFROM:-0400
TZOFFSETTO:-0500
TZNAME:EST
DTSTART:20231105T060000
END:STANDARD
BEGIN:DAYLIGHT
TZOFFSETFROM:-0500
TZOFFSETTO:-0400
TZNAME:EDT
DTSTART:20240310T070000
END:DAYLIGHT
BEGIN:STANDARD
TZOFFSETFROM:-0400
TZOFFSETTO:-0500
TZNAME:EST
DTSTART:20241103T060000
END:STANDARD
BEGIN:DAYLIGHT
TZOFFSETFROM:-0500
TZOFFSETTO:-0400
TZNAME:EDT
DTSTART:20250309T070000
END:DAYLIGHT
BEGIN:STANDARD
TZOFFSETFROM:-0400
TZOFFSETTO:-0500
TZNAME:EST
DTSTART:20251102T060000
END:STANDARD
END:VTIMEZONE
BEGIN:VEVENT
DTSTART;VALUE=DATE:20240906
DTEND;VALUE=DATE:20240907
DTSTAMP:20260421T171109
CREATED:20240822T152742Z
LAST-MODIFIED:20240822T153242Z
UID:16717-1725580800-1725667199@visitmathews.com
SUMMARY:Mathews Market Days 50th Anniversary
DESCRIPTION: 
URL:https://visitmathews.com/event/mathews-market-days-50th-anniversary/
LOCATION:Mathews\, VA\, 23109\, United States
CATEGORIES:Art Shows,Community Events,Food & Drink,Live Music,Outdoor,Shopping,Youth
ATTACH;FMTTYPE=image/png:https://visitmathews.com/wp-content/uploads/2024/08/Screenshot-2024-08-22-at-11.26.36-AM.png
ORGANIZER;CN="Mathews Market Days Committee":MAILTO:mathewsmarketdays@gmail.com
END:VEVENT
BEGIN:VEVENT
DTSTART;TZID=America/New_York:20240908T120000
DTEND;TZID=America/New_York:20240908T160000
DTSTAMP:20260421T171109
CREATED:20240627T172253Z
LAST-MODIFIED:20240627T172253Z
UID:16539-1725796800-1725811200@visitmathews.com
SUMMARY:September's 2nd Sunday!
DESCRIPTION:Second Sunday at ETC. Vintage\, with On the Flip Side food truck!
URL:https://visitmathews.com/event/septembers-2nd-sunday/
LOCATION:Etc. Vintage\, 2066 Buckley Hall Road\, Cobbs Creek\, VA\, 23035\, United States
CATEGORIES:Food & Drink,Shopping
END:VEVENT
END:VCALENDAR