BEGIN:VCALENDAR
VERSION:2.0
PRODID:-//Mathews County Visitor Center - ECPv6.15.20//NONSGML v1.0//EN
CALSCALE:GREGORIAN
METHOD:PUBLISH
X-WR-CALNAME:Mathews County Visitor Center
X-ORIGINAL-URL:https://visitmathews.com
X-WR-CALDESC:Events for Mathews County Visitor Center
REFRESH-INTERVAL;VALUE=DURATION:PT1H
X-Robots-Tag:noindex
X-PUBLISHED-TTL:PT1H
BEGIN:VTIMEZONE
TZID:America/New_York
BEGIN:DAYLIGHT
TZOFFSETFROM:-0500
TZOFFSETTO:-0400
TZNAME:EDT
DTSTART:20240310T070000
END:DAYLIGHT
BEGIN:STANDARD
TZOFFSETFROM:-0400
TZOFFSETTO:-0500
TZNAME:EST
DTSTART:20241103T060000
END:STANDARD
BEGIN:DAYLIGHT
TZOFFSETFROM:-0500
TZOFFSETTO:-0400
TZNAME:EDT
DTSTART:20250309T070000
END:DAYLIGHT
BEGIN:STANDARD
TZOFFSETFROM:-0400
TZOFFSETTO:-0500
TZNAME:EST
DTSTART:20251102T060000
END:STANDARD
BEGIN:DAYLIGHT
TZOFFSETFROM:-0500
TZOFFSETTO:-0400
TZNAME:EDT
DTSTART:20260308T070000
END:DAYLIGHT
BEGIN:STANDARD
TZOFFSETFROM:-0400
TZOFFSETTO:-0500
TZNAME:EST
DTSTART:20261101T060000
END:STANDARD
END:VTIMEZONE
BEGIN:VEVENT
DTSTART;TZID=America/New_York:20250601T140000
DTEND;TZID=America/New_York:20250601T170000
DTSTAMP:20260424T230202
CREATED:20250528T142143Z
LAST-MODIFIED:20250528T142143Z
UID:17670-1748786400-1748797200@visitmathews.com
SUMMARY:Rotary's Party with a Purpose
DESCRIPTION:Join the Mathews Rotary Club for an afternoon of fun and fundraising with live music on the East River! \nThis event features GOOD SHOT JUDY band\, food trucks\, beer and wine truck\, and dancing at Williams Wharf Landing. \nFood trucks: On the Flip Side\, Small Town Burger and Short Lane Ice Cream. \nBring your own lawn chairs and your dancing shoes!
URL:https://visitmathews.com/event/rotaryspartywithapurpose/
LOCATION:Williams Wharf Landing\, 1039 Williams Wharf Road\, Mathews\, VA\, 23109\, United States
CATEGORIES:Community Events,Food & Drink,Live Music,Outdoor
ATTACH;FMTTYPE=image/png:https://visitmathews.com/wp-content/uploads/2025/05/Screenshot-2025-05-28-at-10.15.36-AM.png
END:VEVENT
BEGIN:VEVENT
DTSTART;TZID=America/New_York:20250606T180000
DTEND;TZID=America/New_York:20250606T200000
DTSTAMP:20260424T230202
CREATED:20250514T190321Z
LAST-MODIFIED:20250514T190321Z
UID:17617-1749232800-1749240000@visitmathews.com
SUMMARY:Live Music by Carolyn August @ The Hatchery
DESCRIPTION:The Hatchery is hosting live music by Carolyn August on Fri 6/6 from 6-8pm.  \nCarolyn is a local Mathews musician who plays not only solo\, but in a band or as a duet with her husband on the occasion. She will be playing the acousitic guitar and singing\, often sharing her own originals and playing covers.
URL:https://visitmathews.com/event/live-music-by-carolyn-august-the-hatchery/
LOCATION:Oyster Seed Holdings\, 425 Callis Wharf Rd\, Grimstead\, VA\, 23064\, United States
CATEGORIES:Food & Drink,Live Music,Outdoor
ATTACH;FMTTYPE=image/png:https://visitmathews.com/wp-content/uploads/2025/05/Carolyn-August-scaled.png
ORGANIZER;CN="The Hatchery":MAILTO:thehatchery@oshoyster.com
END:VEVENT
BEGIN:VEVENT
DTSTART;TZID=America/New_York:20250607T130000
DTEND;TZID=America/New_York:20250607T140000
DTSTAMP:20260424T230202
CREATED:20250415T144301Z
LAST-MODIFIED:20250518T175459Z
UID:17475-1749301200-1749304800@visitmathews.com
SUMMARY:LOVEworks Sign Dedication
DESCRIPTION:Join the Mathews LOVEworks Committee for the ribbon-cutting and dedication of the newest LOVE sign at Liberty Square!
URL:https://visitmathews.com/event/loveworks-sign-dedication/
LOCATION:Liberty Square Complex\, 10622 Buckley Hall Road\, Mathews\, VA\, 23109\, United States
CATEGORIES:Community Events,Outdoor
ATTACH;FMTTYPE=image/jpeg:https://visitmathews.com/wp-content/uploads/2025/04/487794536_10229650349863501_55705228914591745_n.jpg
ORGANIZER;CN="Mathews LOVEworks":MAILTO:Mathewsloveworks@gmail.com
END:VEVENT
BEGIN:VEVENT
DTSTART;TZID=America/New_York:20250608T130000
DTEND;TZID=America/New_York:20250608T150000
DTSTAMP:20260424T230202
CREATED:20250528T135936Z
LAST-MODIFIED:20250528T140710Z
UID:17667-1749387600-1749394800@visitmathews.com
SUMMARY:Saltwater Learn to Fish Day
DESCRIPTION:Join the Mathews Land Conservancy for a chance to learn to fish\, with fishing and learning stations provided by partners. \nRefreshments provided\, rain or shine\, free and open to all! No license required on day of event.
URL:https://visitmathews.com/event/saltwater-learn-to-fish-day-2/
LOCATION:Williams Wharf Landing\, 1039 Williams Wharf Road\, Mathews\, VA\, 23109\, United States
CATEGORIES:Community Events,Educational,Outdoor,Youth
ATTACH;FMTTYPE=image/jpeg:https://visitmathews.com/wp-content/uploads/2025/05/IMG_2741.jpg
ORGANIZER;CN="Mathews Land Conservancy":MAILTO:info@mathewslandconservancy.org
END:VEVENT
BEGIN:VEVENT
DTSTART;TZID=America/New_York:20250608T130000
DTEND;TZID=America/New_York:20250608T160000
DTSTAMP:20260424T230202
CREATED:20250529T143525Z
LAST-MODIFIED:20250529T143525Z
UID:17680-1749387600-1749398400@visitmathews.com
SUMMARY:Family Port Fun Day
DESCRIPTION:The second annual Family Port Fun Day will be held from 1-4 p.m. on Sunday\, June 8\, at the Port Fun Park next to Mathews High School on Buckley Hall Road in Mathews. \nThere will be open play and learn-to-play lessons at the pickleball courts (equipment will be provided)\, along with basketball court activities and playground games for children and adults. The adult exercise fitness trail surrounding the playground will be available for use\, as well. \nThe event\, coordinated by the Mathews County Parks and Recreation Advisory Commission\, is free and open to the public. \nThe rain date is Saturday\, June 14. Children and adults of all ages are invited. \nCall Nick Koch at 804-908-4856 for more information.
URL:https://visitmathews.com/event/family-port-fun-day-2/
LOCATION:Port Fun Park\, 9763 Buckley Hall Road\, Mathews\, VA\, 23109\, United States
CATEGORIES:Community Events,Outdoor,Youth
ATTACH;FMTTYPE=image/jpeg:https://visitmathews.com/wp-content/uploads/2025/05/Document.jpeg
END:VEVENT
BEGIN:VEVENT
DTSTART;TZID=America/New_York:20250613T170000
DTEND;TZID=America/New_York:20250613T210000
DTSTAMP:20260424T230202
CREATED:20250324T165703Z
LAST-MODIFIED:20250602T160208Z
UID:17402-1749834000-1749848400@visitmathews.com
SUMMARY:Party at the Wharf Summer Series 2025
DESCRIPTION:Join the Mathews Land Conservancy for their Party at the Wharf Summer Series with live music by Part Time\, and two delicious food trucks! \nGates open at 5 pm\, with live music from 6-9 pm. All ages are welcome: tickets are $5 (12 and under are free!) Cash bar- wine and beer available. Bring your lawn chair!
URL:https://visitmathews.com/event/party-at-the-wharf-summer-series-2025-2/
LOCATION:Williams Wharf\, 1039 Williams Wharf Road\, Mathews\, VA\, 23109\, United States
CATEGORIES:Community Events,Food & Drink,Live Music,Outdoor
ATTACH;FMTTYPE=image/jpeg:https://visitmathews.com/wp-content/uploads/2025/03/PartyattheWharfFlyer25.06.13withSponsor.jpeg
ORGANIZER;CN="Mathews Land Conservancy":MAILTO:info@mathewslandconservancy.org
END:VEVENT
BEGIN:VEVENT
DTSTART;TZID=America/New_York:20250620T180000
DTEND;TZID=America/New_York:20250620T200000
DTSTAMP:20260424T230202
CREATED:20250514T190518Z
LAST-MODIFIED:20250514T190518Z
UID:17620-1750442400-1750449600@visitmathews.com
SUMMARY:Live Music by Lilah Moons @ The Hatchery
DESCRIPTION:The Hatchery is hosting live music by Lilah Moons on Fri 6/20 from 6-8pm. \n\nEnjoy music by this talented Richmond-based\, acoustic soloist while grabbing dinner and drinks on the water.
URL:https://visitmathews.com/event/live-music-by-lilah-moons-the-hatchery/
LOCATION:Oyster Seed Holdings\, 425 Callis Wharf Rd\, Grimstead\, VA\, 23064\, United States
CATEGORIES:Food & Drink,Live Music,Outdoor
ATTACH;FMTTYPE=image/png:https://visitmathews.com/wp-content/uploads/2025/05/13.png
ORGANIZER;CN="The Hatchery":MAILTO:thehatchery@oshoyster.com
END:VEVENT
BEGIN:VEVENT
DTSTART;TZID=America/New_York:20250621T110000
DTEND;TZID=America/New_York:20250621T170000
DTSTAMP:20260424T230202
CREATED:20250528T164611Z
LAST-MODIFIED:20250528T164611Z
UID:17674-1750503600-1750525200@visitmathews.com
SUMMARY:Family Arts & Barks Festival
DESCRIPTION:No one wants to leave their furry friend behind on a beautiful summer day and the Family Arts & Barks Festival at The Bay School is the perfect opportunity to join in the fun with EVERYONE—two- AND four-legged\, with AND without fur! Join us for a fun-filled day of family-friendly activities at The Bay School and bring your dog along! \nThere will be a variety of activities to involve the whole family\, including your dog: \nFeeling artsy? These are just a few arts and crafts activities that will be available for you to explore: \n\nBuild a bug\nCreate a cardboard jellyfish\nConstruct an egg carton fish\nMake a necklace from decoupaged shells\nTie dye a T-shirt\nPaint with squeegees\nFashion a memory wire bracelet\nMake and swap artist trading cards\nDesign and create wearable dog ears and a collar\nContribute to our yearly community painting\nEntice your dog with peanut butter to create its own masterpiece\n\nMany more activities are planned\, including: \n\nCA&J Farm drum circle\nYoga for all with Lisa White\nCaricature drawing\nFace painting\nPhoto booth\n“Bark” sale of baked goods for dogs and people\n“Pup-up” display and sale of dog-themed art\nShowing of Canine Companion’s film Andy\nMultiple raffles\nPuppy splash pool\nRubber ducky race\nGuess the number of dog biscuits in a jar\nPuppy kissing booth\nGiant Connect 4 game\nGiant Plinko game\n\nMusical entertainment will be provided by Hunter Owens 11:00 am-2:00 pm and a special musical guest from 2:00 pm-5:00 pm. \nEl Padrino and Gloucester Brewing Company will be on hand serving up delicious food and beverages. \nWe’ll be adding even more activities in the coming weeks\, as well as a listing of attending vendors providing art\, canine products and services\, and family-friendly products and services. \nBUY TICKETS\nTickets range from $10-$25. Children five and younger are free. Dogs must be leashed\, vaccinated\, and well behaved. \nSponsor\, Be a Vendor\, or Donate Dog-Themed Art\nIf you’re interested in sponsoring the Family Arts & Barks Festival\, information on the available levels\, benefits\, and costs is available HERE. \nHave a product or service that would be of interest to dog owners? An art-related or family-friendly product or service you’d like to promote? Submit a Vendor Form. \nWould you like to share your talent and donate a dog-themed artwork to the “Pup-Up” Art Show at the festival?  Submit your artwork HERE.
URL:https://visitmathews.com/event/family-arts-barks-festival/
LOCATION:Bay School Community Arts Center\, 279 Main Street \, Mathews\, VA\, 23109\, United States
CATEGORIES:Community Events,Food & Drink,Live Music,Outdoor,Youth
ATTACH;FMTTYPE=image/webp:https://visitmathews.com/wp-content/uploads/2025/05/webformatimage_2048x2048.jpg.webp
ORGANIZER;CN="Bay School Comunity Arts Center":MAILTO:pamdoss@bayschool-arts.com
END:VEVENT
BEGIN:VEVENT
DTSTART;TZID=America/New_York:20250628T080000
DTEND;TZID=America/New_York:20250628T130000
DTSTAMP:20260424T230202
CREATED:20250114T034412Z
LAST-MODIFIED:20250114T034651Z
UID:17174-1751097600-1751115600@visitmathews.com
SUMMARY:Islander Regatta
DESCRIPTION:Annual 9 mile paddling event for non-motorized craft\, circumnavigating one of Virginia’s few inhabited islands: Gwynn’s Island in Mathews County. \nRegistration cost is $65 per person not per boat. Tandem kayaks\, 8-person racing shells\, paddle boats and even dragon boats (!!) are permitted as long as they are human powered\, non-motorized. \nEach paddler must register separately (must be 14 or older). \n\nRegister here
URL:https://visitmathews.com/event/islander-regatta-3/
LOCATION:Islander Hotel & Resort\, 633 Old Ferry Road\, Mathews\, VA\, 23064\, United States
CATEGORIES:Health & Fitness,Outdoor,Sports
ATTACH;FMTTYPE=image/png:https://visitmathews.com/wp-content/uploads/2023/02/Islander-Regatta-Logo.png
ORGANIZER;CN="Mathews Outdoor Club":MAILTO:christine@mocva.net
END:VEVENT
BEGIN:VEVENT
DTSTART;TZID=America/New_York:20250628T090000
DTEND;TZID=America/New_York:20250628T160000
DTSTAMP:20260424T230202
CREATED:20250530T145504Z
LAST-MODIFIED:20250530T145504Z
UID:17695-1751101200-1751126400@visitmathews.com
SUMMARY:Gwynn's Island Festival
DESCRIPTION:The Gwynn’s Island Festival has a variety of handmade crafts and local vendors\, including jewelry\, leather\, paintings and photography. \nThe festival will also feature live music\, Lord Dunmore skits\, food vendors\, and a kids zone!
URL:https://visitmathews.com/event/gwynns-island-festival-4/
LOCATION:Gwynn’s Island Civic Center\, 1996 Old Ferry Rd.\, Gwynn\, VA\, 23066\, United States
CATEGORIES:Community Events,Food & Drink,Outdoor,Youth
ATTACH;FMTTYPE=image/jpeg:https://visitmathews.com/wp-content/uploads/2015/03/2-gwynns-island-sign.jpg
ORGANIZER;CN="Gwynn's Island Civic League":MAILTO:gwynnsislandfestival@gmail.com
END:VEVENT
BEGIN:VEVENT
DTSTART;TZID=America/New_York:20250629T130000
DTEND;TZID=America/New_York:20250629T133000
DTSTAMP:20260424T230202
CREATED:20250530T145155Z
LAST-MODIFIED:20250530T145155Z
UID:17691-1751202000-1751203800@visitmathews.com
SUMMARY:Ribbon Cutting: VA250 LOVE Signs
DESCRIPTION:Join the Mathews VA250 Committee for a double-ribbon cutting event!! Through a generous grant\, the Mathews VA250 has arranged for two new LOVEWorks signs in Mathews- one at The Hatchery/ Oyster Seed Holdings\, and one at Williams Wharf! Both will be unveiled on this day\, and a ribbon-cutting to represent both signs will take place at the Hatchery. Stay after the ceremony for a day of fun\, oysters\, and drinks on the water- plus plenty of photo ops!
URL:https://visitmathews.com/event/ribbon-cutting-va250-love-signs/
LOCATION:Oyster Seed Holdings\, 425 Callis Wharf Rd\, Grimstead\, VA\, 23064\, United States
CATEGORIES:Arts & Cultural,Community Events,Outdoor
ATTACH;FMTTYPE=image/jpeg:https://visitmathews.com/wp-content/uploads/2025/05/NCWorksMobileCareerCenter_RibbonWeb.jpg
END:VEVENT
END:VCALENDAR