BEGIN:VCALENDAR
VERSION:2.0
PRODID:-//Mathews County Visitor Center - ECPv6.15.20//NONSGML v1.0//EN
CALSCALE:GREGORIAN
METHOD:PUBLISH
X-WR-CALNAME:Mathews County Visitor Center
X-ORIGINAL-URL:https://visitmathews.com
X-WR-CALDESC:Events for Mathews County Visitor Center
REFRESH-INTERVAL;VALUE=DURATION:PT1H
X-Robots-Tag:noindex
X-PUBLISHED-TTL:PT1H
BEGIN:VTIMEZONE
TZID:America/New_York
BEGIN:DAYLIGHT
TZOFFSETFROM:-0500
TZOFFSETTO:-0400
TZNAME:EDT
DTSTART:20240310T070000
END:DAYLIGHT
BEGIN:STANDARD
TZOFFSETFROM:-0400
TZOFFSETTO:-0500
TZNAME:EST
DTSTART:20241103T060000
END:STANDARD
BEGIN:DAYLIGHT
TZOFFSETFROM:-0500
TZOFFSETTO:-0400
TZNAME:EDT
DTSTART:20250309T070000
END:DAYLIGHT
BEGIN:STANDARD
TZOFFSETFROM:-0400
TZOFFSETTO:-0500
TZNAME:EST
DTSTART:20251102T060000
END:STANDARD
BEGIN:DAYLIGHT
TZOFFSETFROM:-0500
TZOFFSETTO:-0400
TZNAME:EDT
DTSTART:20260308T070000
END:DAYLIGHT
BEGIN:STANDARD
TZOFFSETFROM:-0400
TZOFFSETTO:-0500
TZNAME:EST
DTSTART:20261101T060000
END:STANDARD
BEGIN:DAYLIGHT
TZOFFSETFROM:-0500
TZOFFSETTO:-0400
TZNAME:EDT
DTSTART:20270314T070000
END:DAYLIGHT
BEGIN:STANDARD
TZOFFSETFROM:-0400
TZOFFSETTO:-0500
TZNAME:EST
DTSTART:20271107T060000
END:STANDARD
END:VTIMEZONE
BEGIN:VEVENT
DTSTART;TZID=America/New_York:20251011T140000
DTEND;TZID=America/New_York:20251011T170000
DTSTAMP:20260423T070512
CREATED:20250905T182423Z
LAST-MODIFIED:20250905T182423Z
UID:17920-1760191200-1760202000@visitmathews.com
SUMMARY:Rotary's Oyster Roast & BBQ Riot
DESCRIPTION:Join the Mathews Rotary Club for the annual Oyster Roast and BBQ Riot\, with all you can eat oysters and BBQ\, live music by Rob Oliver\, and wine\, beer and soda available for purchase! \nTickets are $40 in advance (available for purchase at MCVIC\, Haskins Bayside Service Center\, Chesapeake Bank- Mathews branch) or $45 at the door.
URL:https://visitmathews.com/event/rotarys-oyster-roast-bbq-riot/
LOCATION:Williams Wharf Landing\, 1039 Williams Wharf Road\, Mathews\, VA\, 23109\, United States
CATEGORIES:Community Events,Food & Drink,Live Music,Outdoor
ATTACH;FMTTYPE=image/png:https://visitmathews.com/wp-content/uploads/2025/09/Screenshot-2025-09-05-at-2.23.32-PM.png
END:VEVENT
BEGIN:VEVENT
DTSTART;TZID=America/New_York:20251012T150000
DTEND;TZID=America/New_York:20251012T170000
DTSTAMP:20260423T070512
CREATED:20250905T183757Z
LAST-MODIFIED:20250905T183757Z
UID:17927-1760281200-1760288400@visitmathews.com
SUMMARY:Concerts by the Bay: Lauren Jelencovich
DESCRIPTION:Lauren is currently on tour with Yanni as his featured vocalist\, performing to sold out venues all over the world such as Radio City Music Hall\, Red Rocks Amphitheater and Royal Albert Hall. She can be seen on his PBS Specials/DVDs and CDs and is featured on Yanni’s album\, Inspirato\, singing alongside Plácido Domingo and Renèe Fleming. Lauren is a Grand Prize winner of Ed McMahon’s Star Search and Andrea Bocelli’s World Scholarship\, garnering great acclaim for her affecting portrayals of opera and musical theater roles throughout the world. She had the extreme honor of working with the legendary Dolly Parton for her Netflix movie musical\, as well as being cast in the first table read of the 2025 Broadway bound musical based on Dolly’s life. Lauren and her sparkling soprano voice impart her love and passion for all genres of music.
URL:https://visitmathews.com/event/concerts-by-the-bay-lauren-jelencovich/
LOCATION:Harry M. Ward Auditorium  – Mathews High School\, 9889 Buckley Hall Rd\, Mathews\, VA\, 23109\, United States
CATEGORIES:Arts & Cultural,Live Music
ATTACH;FMTTYPE=image/png:https://visitmathews.com/wp-content/uploads/2025/09/lauren-l_orig.png
ORGANIZER;CN="CONCERTS BY THE BAY INC.":MAILTO:concertsbythebay22@gmail.com
END:VEVENT
BEGIN:VEVENT
DTSTART;TZID=America/New_York:20251018T080000
DTEND;TZID=America/New_York:20251018T170000
DTSTAMP:20260423T070512
CREATED:20250925T141507Z
LAST-MODIFIED:20250925T141507Z
UID:17979-1760774400-1760806800@visitmathews.com
SUMMARY:Carolyn Jane August LIVE at The Hatchery
DESCRIPTION:Join your friends at The Hatchery for free live music by the water\, delicious fall specials and craft beverages\, and a sunset on the Milford Haven!
URL:https://visitmathews.com/event/carolyn-jane-august-live-at-the-hatchery/
LOCATION:The Hatchery\, 425 Callis Wharf Road\, Mathews\, VA\, 23064\, United States
CATEGORIES:Food & Drink,Live Music,Outdoor
ATTACH;FMTTYPE=image/png:https://visitmathews.com/wp-content/uploads/2025/09/12.png
ORGANIZER;CN="The Hatchery":MAILTO:thehatchery@oshoyster.com
END:VEVENT
BEGIN:VEVENT
DTSTART;TZID=America/New_York:20251018T090000
DTEND;TZID=America/New_York:20251018T130000
DTSTAMP:20260423T070512
CREATED:20251013T013310Z
LAST-MODIFIED:20251013T013310Z
UID:18080-1760778000-1760792400@visitmathews.com
SUMMARY:Part Time LIVE at Damon's!
DESCRIPTION:
URL:https://visitmathews.com/event/part-time-live-at-damons/
LOCATION:Damon’s\, Mathews\, VA\, 23109\, United States
CATEGORIES:Food & Drink,Live Music
ATTACH;FMTTYPE=image/jpeg:https://visitmathews.com/wp-content/uploads/2025/10/part-time-damons.jpg
END:VEVENT
BEGIN:VEVENT
DTSTART;TZID=America/New_York:20251018T193000
DTEND;TZID=America/New_York:20251018T213000
DTSTAMP:20260423T070512
CREATED:20250114T025612Z
LAST-MODIFIED:20250114T025612Z
UID:17171-1760815800-1760823000@visitmathews.com
SUMMARY:Donk's 50th Anniversary Shows
DESCRIPTION:Performance schedule coming\, dates below: \n4/5\, 5/10\, 6/14\, 7/19\, 8/16\, 9/13\, 10/18\, 11/8\, 12/6 \n  \nAll shows subject to last minute changes.  Please join the email list or on Facebook for real-time updates. \nHarry M. Ward Auditorium\, Mathews High School\, 9889 Buckley Hall Road\, Mathews\, VA 23109 \nNEW!!!  Shows start at 7:30 PM – Doors open at 7:00 PM \nTickets are $15 for adults and $5 for Children 12 and under \nTickets can be purchased at the door on show nights.  Cash or checks please – No credit cards accepted at this time. \nOR in advance at the Mathews Visitor Center\, Main Street\, in Mathews and Marketplace Antiques\, Route 17\, in Gloucester.
URL:https://visitmathews.com/event/donks-50th-anniversary-shows-2025-10-18/
LOCATION:Harry M. Ward Auditorium  – Mathews High School\, 9889 Buckley Hall Rd\, Mathews\, VA\, 23109\, United States
CATEGORIES:Arts & Cultural,Community Events,Live Music
ATTACH;FMTTYPE=image/jpeg:https://visitmathews.com/wp-content/uploads/2023/07/Donks.jpg
ORGANIZER;CN="Virginia's Li'l Ole Opry":MAILTO:vaopry@gmail.com
END:VEVENT
BEGIN:VEVENT
DTSTART;TZID=America/New_York:20251101T160000
DTEND;TZID=America/New_York:20251101T180000
DTSTAMP:20260423T070512
CREATED:20251031T175628Z
LAST-MODIFIED:20251031T175628Z
UID:18150-1762012800-1762020000@visitmathews.com
SUMMARY:Live Music with Ed Wade\, Jr
DESCRIPTION:
URL:https://visitmathews.com/event/live-music-with-ed-wade-jr/
LOCATION:The Hatchery\, 425 Callis Wharf Road\, Mathews\, VA\, 23064\, United States
CATEGORIES:Food & Drink,Live Music,Outdoor
ATTACH;FMTTYPE=image/png:https://visitmathews.com/wp-content/uploads/2025/10/Screenshot-2025-10-31-at-1.54.10-PM.png
ORGANIZER;CN="The Hatchery":MAILTO:thehatchery@oshoyster.com
END:VEVENT
BEGIN:VEVENT
DTSTART;TZID=America/New_York:20251101T210000
DTEND;TZID=America/New_York:20251101T235900
DTSTAMP:20260423T070512
CREATED:20251013T013207Z
LAST-MODIFIED:20251013T013207Z
UID:18076-1762030800-1762041540@visitmathews.com
SUMMARY:Part Time LIVE at Mi Casa!
DESCRIPTION:
URL:https://visitmathews.com/event/part-time-live-at-mi-casa/
LOCATION:Mi Casa Azteca Mexican Restaurant & Cantina\, Mathews\, VA\, 23109\, United States
CATEGORIES:Food & Drink,Live Music
ATTACH;FMTTYPE=image/jpeg:https://visitmathews.com/wp-content/uploads/2025/10/part-time-micasa-11-1.jpg
END:VEVENT
BEGIN:VEVENT
DTSTART;TZID=America/New_York:20251107T160000
DTEND;TZID=America/New_York:20251107T180000
DTSTAMP:20260423T070512
CREATED:20251101T161334Z
LAST-MODIFIED:20251101T161334Z
UID:18168-1762531200-1762538400@visitmathews.com
SUMMARY:Live Music by Colin Fisher
DESCRIPTION:The Hatchery is hosting live music by Colin Fisher on 11/7 from 4-6pm. Kick off Urbanna Oyster Festival weekend at The Hatchery!
URL:https://visitmathews.com/event/live-music-by-colin-fisher/
LOCATION:The Hatchery\, 425 Callis Wharf Road\, Mathews\, VA\, 23064\, United States
CATEGORIES:Food & Drink,Live Music,Outdoor
ATTACH;FMTTYPE=image/jpeg:https://visitmathews.com/wp-content/uploads/2025/11/574349173_795396870166606_1868433611641667750_n.jpg
ORGANIZER;CN="The Hatchery":MAILTO:thehatchery@oshoyster.com
END:VEVENT
BEGIN:VEVENT
DTSTART;TZID=America/New_York:20251108T193000
DTEND;TZID=America/New_York:20251108T213000
DTSTAMP:20260423T070512
CREATED:20250114T025612Z
LAST-MODIFIED:20250114T025612Z
UID:17172-1762630200-1762637400@visitmathews.com
SUMMARY:Donk's 50th Anniversary Shows
DESCRIPTION:Performance schedule coming\, dates below: \n4/5\, 5/10\, 6/14\, 7/19\, 8/16\, 9/13\, 10/18\, 11/8\, 12/6 \n  \nAll shows subject to last minute changes.  Please join the email list or on Facebook for real-time updates. \nHarry M. Ward Auditorium\, Mathews High School\, 9889 Buckley Hall Road\, Mathews\, VA 23109 \nNEW!!!  Shows start at 7:30 PM – Doors open at 7:00 PM \nTickets are $15 for adults and $5 for Children 12 and under \nTickets can be purchased at the door on show nights.  Cash or checks please – No credit cards accepted at this time. \nOR in advance at the Mathews Visitor Center\, Main Street\, in Mathews and Marketplace Antiques\, Route 17\, in Gloucester.
URL:https://visitmathews.com/event/donks-50th-anniversary-shows-2025-11-08/
LOCATION:Harry M. Ward Auditorium  – Mathews High School\, 9889 Buckley Hall Rd\, Mathews\, VA\, 23109\, United States
CATEGORIES:Arts & Cultural,Community Events,Live Music
ATTACH;FMTTYPE=image/jpeg:https://visitmathews.com/wp-content/uploads/2023/07/Donks.jpg
ORGANIZER;CN="Virginia's Li'l Ole Opry":MAILTO:vaopry@gmail.com
END:VEVENT
BEGIN:VEVENT
DTSTART;TZID=America/New_York:20251113T183000
DTEND;TZID=America/New_York:20251113T203000
DTSTAMP:20260423T070512
CREATED:20251015T165406Z
LAST-MODIFIED:20251015T165406Z
UID:18090-1763058600-1763065800@visitmathews.com
SUMMARY:MHS Music Dept.'s Dinner & A Show
DESCRIPTION:Join the Mathews High School Music Department for Dinner and Show\, featuring the Jazz Band\, String Orchestra\, {percussion Ensemble and more! \nBaked goods and raffle tickets are available for purchase.
URL:https://visitmathews.com/event/mhs-music-dept-s-dinner-a-show/
LOCATION:Mathews Elementary School\, 347 Church Street\, Mathews\, VA\, 23109\, United States
CATEGORIES:Food & Drink,Live Music,Youth
ATTACH;FMTTYPE=image/jpeg:https://visitmathews.com/wp-content/uploads/2025/10/IMG_6404.jpg
END:VEVENT
BEGIN:VEVENT
DTSTART;TZID=America/New_York:20251129T080000
DTEND;TZID=America/New_York:20251129T120000
DTSTAMP:20260423T070512
CREATED:20251114T131846Z
LAST-MODIFIED:20251114T131846Z
UID:18178-1764403200-1764417600@visitmathews.com
SUMMARY:Part Time at Nooners
DESCRIPTION:
URL:https://visitmathews.com/event/part-time-at-nooners/
LOCATION:VA
CATEGORIES:Live Music
ATTACH;FMTTYPE=image/jpeg:https://visitmathews.com/wp-content/uploads/2025/11/nooners-event-nov-2025.jpg
END:VEVENT
BEGIN:VEVENT
DTSTART;TZID=America/New_York:20251206T193000
DTEND;TZID=America/New_York:20251206T213000
DTSTAMP:20260423T070512
CREATED:20250114T025612Z
LAST-MODIFIED:20251125T205543Z
UID:17173-1765049400-1765056600@visitmathews.com
SUMMARY:Donk's 50th Anniversary Shows: Smith Family & Friends Christmas Show!
DESCRIPTION:Performance schedule coming\, dates below: \n4/5\, 5/10\, 6/14\, 7/19\, 8/16\, 9/13\, 10/18\, 11/8\, 12/6 \n  \nAll shows subject to last minute changes.  Please join the email list or on Facebook for real-time updates. \nHarry M. Ward Auditorium\, Mathews High School\, 9889 Buckley Hall Road\, Mathews\, VA 23109 \nNEW!!!  Shows start at 7:30 PM – Doors open at 7:00 PM \nTickets are $15 for adults and $5 for Children 12 and under \nTickets can be purchased at the door on show nights.  Cash or checks please – No credit cards accepted at this time. \nOR in advance at the Mathews Visitor Center\, Main Street\, in Mathews and Marketplace Antiques\, Route 17\, in Gloucester.
URL:https://visitmathews.com/event/donks-50th-anniversary-shows-2025-12-06/
LOCATION:Harry M. Ward Auditorium  – Mathews High School\, 9889 Buckley Hall Rd\, Mathews\, VA\, 23109\, United States
CATEGORIES:Arts & Cultural,Community Events,Live Music
ATTACH;FMTTYPE=image/jpeg:https://visitmathews.com/wp-content/uploads/2023/07/Donks.jpg
ORGANIZER;CN="Virginia's Li'l Ole Opry":MAILTO:vaopry@gmail.com
END:VEVENT
BEGIN:VEVENT
DTSTART;TZID=America/New_York:20251207T150000
DTEND;TZID=America/New_York:20251207T170000
DTSTAMP:20260423T070512
CREATED:20250905T184047Z
LAST-MODIFIED:20250905T184047Z
UID:17930-1765119600-1765126800@visitmathews.com
SUMMARY:Concerts by the Bay: Kinnfolk
DESCRIPTION:The husband and wife duo of Josh and Julie Kinn weave octave mandolin\, bodhrán (Irish drum)\, and smooth vocal harmonies into their Celtic folk music from the heart of the Blue Ridge Mountains. From sea shanties and working songs\, to trad tunes and Old Time favorites\, Kinnfolk’s fresh take on classics blends seamlessly with their original compositions. They share stories as enduring as tartan\, spinning yarns steeped in Appalachian charm and enjoying playful banter with the audience. Their shows feel like a kitchen party\, where everyone is family\, and there’s always room for a dancer.  Kinnfolk is rooted in tradition\, lore and ancestry. \nThis performance is partially supported by funding from the Virginia Commission for the Arts.
URL:https://visitmathews.com/event/concerts-by-the-bay-kinnfolk/
LOCATION:Mathews\, VA\, 23109\, United States
CATEGORIES:Arts & Cultural,Live Music
ATTACH;FMTTYPE=image/png:https://visitmathews.com/wp-content/uploads/2025/09/kinnfolk.png
END:VEVENT
BEGIN:VEVENT
DTSTART;TZID=America/New_York:20251207T150000
DTEND;TZID=America/New_York:20251207T170000
DTSTAMP:20260423T070512
CREATED:20251114T140230Z
LAST-MODIFIED:20251114T140230Z
UID:18199-1765119600-1765126800@visitmathews.com
SUMMARY:Annual Christmas Sing-Along
DESCRIPTION:Bring the kids! Invite your friends and neighbors! \n3 pm-4 pm: Singing and Fun- featuring local talent \n4 pm-5 pm: Cookie Social- cookies and punch served
URL:https://visitmathews.com/event/annual-christmas-sing-along/
LOCATION:Central United Methodist Church\, 121 Church St\, Mathews\, VA\, 23109\, United States
CATEGORIES:Community Events,Food & Drink,Holiday/ Seasonal,Live Music,Youth
ATTACH;FMTTYPE=image/jpeg:https://visitmathews.com/wp-content/uploads/2025/11/580492319_1568891257609371_8020321025728859730_n.jpg
END:VEVENT
BEGIN:VEVENT
DTSTART;TZID=America/New_York:20251208T190000
DTEND;TZID=America/New_York:20251208T200000
DTSTAMP:20260423T070512
CREATED:20251125T200020Z
LAST-MODIFIED:20251125T200020Z
UID:18226-1765220400-1765224000@visitmathews.com
SUMMARY:Seasonal Sounds with Ambrosia Quartet
DESCRIPTION:SEASONAL SOUNDS: Dec. 8 7:00 pm\nFeaturing the Ambrosia Quartet
URL:https://visitmathews.com/event/seasonal-sounds-with-ambrosia-quartet/
LOCATION:Mathews Memorial Library\, 251 Main Street\, Mathews\, VA\, 23109\, United States
CATEGORIES:Holiday/ Seasonal,Library Events,Live Music
ATTACH;FMTTYPE=application/pdf:https://visitmathews.com/wp-content/uploads/2025/11/Combined-Xmas-Events-2025-8.5x11-1.pdf
ORGANIZER;CN="Mathews Memorial Library":MAILTO:staff@mathewslibrary.org
END:VEVENT
BEGIN:VEVENT
DTSTART;TZID=America/New_York:20251212T180000
DTEND;TZID=America/New_York:20251212T183000
DTSTAMP:20260423T070512
CREATED:20251130T025118Z
LAST-MODIFIED:20251130T025118Z
UID:18302-1765562400-1765564200@visitmathews.com
SUMMARY:Pipe Organ Christmas Carols
DESCRIPTION:
URL:https://visitmathews.com/event/pipe-organ-christmas-carols/
LOCATION:Mathews Museum\, 200 Main Street\, Mathews\, VA\, 23109\, United States
CATEGORIES:History,Holiday/ Seasonal,Live Music
ATTACH;FMTTYPE=image/webp:https://visitmathews.com/wp-content/uploads/2025/01/LOGO_original-1.webp
ORGANIZER;CN="Mathews Museum":MAILTO:mathewsvamuseum@gmail.com
END:VEVENT
BEGIN:VEVENT
DTSTART;TZID=America/New_York:20251213T120000
DTEND;TZID=America/New_York:20251213T170000
DTSTAMP:20260423T070512
CREATED:20251125T204629Z
LAST-MODIFIED:20251125T204629Z
UID:18261-1765627200-1765645200@visitmathews.com
SUMMARY:Winter Market
DESCRIPTION:VENDORS | LIVE HARPIST | GLÜHWEIN | HOT CHOCOLATE | RAFFLE | FUN ACTIVITIES
URL:https://visitmathews.com/event/winter-market/
LOCATION:Zoll Vineyards\, 10309 Vineyard Rd.\, Dutton\, VA\, 23050\, United States
CATEGORIES:Food & Drink,Holiday/ Seasonal,Live Music,Shopping
ATTACH;FMTTYPE=image/jpeg:https://visitmathews.com/wp-content/uploads/2025/11/581396946_1463953799071035_7776299033139867612_n.jpg
END:VEVENT
BEGIN:VEVENT
DTSTART;TZID=America/New_York:20251220T103000
DTEND;TZID=America/New_York:20251220T150000
DTSTAMP:20260423T070512
CREATED:20251216T193720Z
LAST-MODIFIED:20251216T193720Z
UID:18345-1766226600-1766242800@visitmathews.com
SUMMARY:Visit a Christmas Farm!
DESCRIPTION:Visit a Christmas Farm! \nJoin CA&J Farm as they drum and sing all your favorite holiday songs by the fire! Plus\, CA will read The Night Before Christmas \nChristmas refreshments\, farm charm and tours\, unique shopping\, luminaries on the prayer labyrinth. \n1-2:30: Christmas music\n11-1: Farm Charm & Tour \n$10 donation per person 12 and over\, $20 per family
URL:https://visitmathews.com/event/visit-a-christmas-farm/
LOCATION:C.A. & J Farms\, 5620 East River Rd.\, Foster\, VA\, 23056\, United States
CATEGORIES:Community Events,Holiday/ Seasonal,Live Music,Outdoor,Youth
ATTACH;FMTTYPE=image/jpeg:https://visitmathews.com/wp-content/uploads/2025/12/IMG_8365.jpg
ORGANIZER;CN="C.A. & J Farm":MAILTO:cajfarm@gmail.com
END:VEVENT
BEGIN:VEVENT
DTSTART;VALUE=DATE:20251231
DTEND;VALUE=DATE:20260101
DTSTAMP:20260423T070512
CREATED:20251223T010418Z
LAST-MODIFIED:20251223T204256Z
UID:18353-1767139200-1767225599@visitmathews.com
SUMMARY:HITW's New Year's Eve Party
DESCRIPTION:Ring in the New Year with your friends at Hole int he Wall with food\, drinks\, and live music!
URL:https://visitmathews.com/event/hitws-new-years-eve-party/
LOCATION:Hole in the Wall Waterfront Grill\, 384 Old Ferry Road\, Grimestead\, VA\, 23076\, United States
CATEGORIES:Food & Drink,Holiday/ Seasonal,Live Music
ATTACH;FMTTYPE=image/jpeg:https://visitmathews.com/wp-content/uploads/2025/12/IMG_8581.jpg
END:VEVENT
BEGIN:VEVENT
DTSTART;TZID=America/New_York:20260317T173000
DTEND;TZID=America/New_York:20260317T193000
DTSTAMP:20260423T070512
CREATED:20260314T211310Z
LAST-MODIFIED:20260314T211310Z
UID:18575-1773768600-1773775800@visitmathews.com
SUMMARY:Mathews Museum's St. Patrick's Fundraising Dinner
DESCRIPTION:Join the Mathews Museum for a fundraising dinner on St. Patrick’s Day\, featuring delicious Irish food and music by Three Creeks Down! Tickets are $40/ each\, or $100 for a sponsorship\, which includes 2 tickets and a listing in the program. Tickets available at the Mathews Museum\, MCVIC\, and Haskins Auto.
URL:https://visitmathews.com/event/mathews-museums-st-patricks-fundraising-dinner/
LOCATION:Kingston Parish Hall\, 370 Main Street\, Mathews\, VA\, 23109\, United States
CATEGORIES:Community Events,Food & Drink,Live Music
ATTACH;FMTTYPE=image/jpeg:https://visitmathews.com/wp-content/uploads/2026/03/IMG_0165.jpg
ORGANIZER;CN="Mathews Museum":MAILTO:mathewsvamuseum@gmail.com
END:VEVENT
BEGIN:VEVENT
DTSTART;TZID=America/New_York:20260322T150000
DTEND;TZID=America/New_York:20260322T170000
DTSTAMP:20260423T070512
CREATED:20250905T184313Z
LAST-MODIFIED:20250905T184313Z
UID:17933-1774191600-1774198800@visitmathews.com
SUMMARY:Concerts by the Bay: Steve Leslie Sings James Taylor
DESCRIPTION:Grammy Award-winning songwriter and recording artist Steve Leslie performs the music of Rock ‘N Roll Hall of Fame singer- songwriter James Taylor in an authentic and spell-binding concert event.  \nSteve’s warm baritone vocals\, exceptional guitar technique\, and uncanny resemblance\, is truly a one-of-a-kind tribute to this American music icon. Accompanied by piano\, Steve’s program features some of Taylor’s biggest hits of all time including\, but not limited to\, “How Sweet It Is (To Be Loved By You)\,” “Fire and Rain\,” “Carolina In My \nMind\,” and more! \n*Promotions & selection made through Live On Stage 
URL:https://visitmathews.com/event/concerts-by-the-bay-steve-leslie-sings-james-taylor/
LOCATION:Harry M. Ward Auditorium  – Mathews High School\, 9889 Buckley Hall Rd\, Mathews\, VA\, 23109\, United States
CATEGORIES:Arts & Cultural,Live Music
ATTACH;FMTTYPE=image/png:https://visitmathews.com/wp-content/uploads/2025/09/james-taylor.png
ORGANIZER;CN="CONCERTS BY THE BAY INC.":MAILTO:concertsbythebay22@gmail.com
END:VEVENT
BEGIN:VEVENT
DTSTART;TZID=America/New_York:20260418T180000
DTEND;TZID=America/New_York:20260418T200000
DTSTAMP:20260423T070512
CREATED:20260227T035148Z
LAST-MODIFIED:20260227T035148Z
UID:18515-1776535200-1776542400@visitmathews.com
SUMMARY:Live Music & Opening Weekend!
DESCRIPTION:Join The Hatchery for opening weekend of the 2026 season. Saturday features live music from 6-8pm by Steve Abernethy and Karleigh Gooding. This event is free and open to all!
URL:https://visitmathews.com/event/live-music-opening-weekend/
LOCATION:The Hatchery\, 425 Callis Wharf Road\, Mathews\, VA\, 23064\, United States
CATEGORIES:Food & Drink,Live Music,Outdoor
ATTACH;FMTTYPE=image/png:https://visitmathews.com/wp-content/uploads/2026/02/Facebook-cover-events-1920-x-1080-px-2.png
ORGANIZER;CN="The Hatchery":MAILTO:thehatchery@oshoyster.com
END:VEVENT
BEGIN:VEVENT
DTSTART;TZID=America/New_York:20260501T180000
DTEND;TZID=America/New_York:20260501T210000
DTSTAMP:20260423T070512
CREATED:20260120T003744Z
LAST-MODIFIED:20260120T003744Z
UID:18429-1777658400-1777669200@visitmathews.com
SUMMARY:Music on Maple- Nature's Child
DESCRIPTION:Stay tuned for more information for our first Music on Maple of the season\, featuring reggae band Nature’s Child\, and delicious food from On the Flip Side!
URL:https://visitmathews.com/event/music-on-maple-natures-child/
LOCATION:Thomas James Store\, 44 Maple Ave\, Mathews\, VA\, 23109\, United States
CATEGORIES:Community Events,Food & Drink,Live Music,Outdoor
ATTACH;FMTTYPE=image/jpeg:https://visitmathews.com/wp-content/uploads/2026/01/49730758_2489793514369523_3671428629776039936_n.jpg
ORGANIZER;CN="Mathews County Visitor &amp%3B Information Center":MAILTO:mathewsvisitorcenter@gmail.com
END:VEVENT
BEGIN:VEVENT
DTSTART;TZID=America/New_York:20260515T190000
DTEND;TZID=America/New_York:20260515T200000
DTSTAMP:20260423T070512
CREATED:20250826T175321Z
LAST-MODIFIED:20251215T132139Z
UID:17896-1778871600-1778875200@visitmathews.com
SUMMARY:Mathews VA250 Patriotic Concert
DESCRIPTION:In preparation for Mathews County’s grand July 4th celebration\, the Mathews VA250 Committee invites residents\, neighbors\, and visitors to a special concert on Friday\, May 15\, at Mathews High School. \nCo-sponsored by the Mathews Museum\, Mathews Historical Society\, Sons of the American Revolution\, and Daughters of the American Revolution\, this event commemorates the 250th anniversary of Virginia’s declaration of independence—the first colony to do so. \nThe Courthouse Community Orchestra\, directed by Staff Sergeant Jarrett Kocan of the U.S. Air Force\, will perform an engaging program of music starting at 7:00 p.m. (Doors will open at 6:30 p.m.) \nAdmission is free. Join in for an afternoon of music and history as we celebrate Virginia’s role in America’s fight for independence!
URL:https://visitmathews.com/event/mathews-va250-patriotic-concert/
LOCATION:Harry M. Ward Auditorium  – Mathews High School\, 9889 Buckley Hall Rd\, Mathews\, VA\, 23109\, United States
CATEGORIES:Arts & Cultural,Community Events,Holiday/ Seasonal,Live Music
ATTACH;FMTTYPE=image/png:https://visitmathews.com/wp-content/uploads/2025/01/Screenshot-2025-01-14-at-11.08.49-AM.png
END:VEVENT
BEGIN:VEVENT
DTSTART;TZID=America/New_York:20260517T140000
DTEND;TZID=America/New_York:20260517T170000
DTSTAMP:20260423T070512
CREATED:20260227T034319Z
LAST-MODIFIED:20260227T034319Z
UID:18509-1779026400-1779037200@visitmathews.com
SUMMARY:MCHS Historic Home & Garden Tour
DESCRIPTION:Join the Mathews County Historical Society for a Historic Home & Garden Tour\, benefitting the Tompkins Cottage Lift Fund. \nThe event will include small  group tours of the interior of Providence\, open gardens\, music\, and hors d’oeuvres and beverages! \nProvidence\, a beautiful two-story mansion overlooking the Piankatank River\, was built in the early 1800s by William Fitchett. Many architectural features that confirm its early construction still remain. \nTickets and informational brochures will be available by the first of March. Save the Date!
URL:https://visitmathews.com/event/mchs-historic-home-garden-tour/
LOCATION:Providence\, Cobbs Creek\, VA\, 23035\, United States
CATEGORIES:Community Events,Food & Drink,History,Live Music,Outdoor
ATTACH;FMTTYPE=image/jpeg:https://visitmathews.com/wp-content/uploads/2026/02/New-Painting-Photo-Resize.jpg
END:VEVENT
BEGIN:VEVENT
DTSTART;TZID=America/New_York:20260620T110000
DTEND;TZID=America/New_York:20260620T170000
DTSTAMP:20260423T070512
CREATED:20260120T005616Z
LAST-MODIFIED:20260120T005616Z
UID:18439-1781953200-1781974800@visitmathews.com
SUMMARY:MVFD 2026 East Riverfest Boat Docking
DESCRIPTION:
URL:https://visitmathews.com/event/mvfd-2026-east-riverfest-boat-docking/
LOCATION:Williams Wharf Landing\, 1039 Williams Wharf Road\, Mathews\, VA\, 23109\, United States
CATEGORIES:Community Events,Food & Drink,Live Music,Outdoor
ATTACH;FMTTYPE=image/jpeg:https://visitmathews.com/wp-content/uploads/2026/01/IMG_9407.jpg
END:VEVENT
BEGIN:VEVENT
DTSTART;TZID=America/New_York:20261009T080000
DTEND;TZID=America/New_York:20261009T170000
DTSTAMP:20260423T070512
CREATED:20260120T004224Z
LAST-MODIFIED:20260120T004610Z
UID:18432-1791532800-1791565200@visitmathews.com
SUMMARY:Music on Maple - Rae the Band
DESCRIPTION:Join us for our final Music on Maple of the season\, featuring Rae the Band\, with local artist Shane Norris during set breaks! Plus\, delicious food from Don Chido food truck! \nStay tuned for more info!
URL:https://visitmathews.com/event/music-on-maple-rae-the-band/
LOCATION:Thomas James Store\, 44 Maple Ave\, Mathews\, VA\, 23109\, United States
CATEGORIES:Community Events,Food & Drink,Live Music,Outdoor
ATTACH;FMTTYPE=image/jpeg:https://visitmathews.com/wp-content/uploads/2026/01/554356799_122132519876944897_1865424888649177374_n.jpg
ORGANIZER;CN="Mathews County Visitor &amp%3B Information Center":MAILTO:mathewsvisitorcenter@gmail.com
END:VEVENT
END:VCALENDAR