BEGIN:VCALENDAR
VERSION:2.0
PRODID:-//Mathews County Visitor Center - ECPv6.15.20//NONSGML v1.0//EN
CALSCALE:GREGORIAN
METHOD:PUBLISH
X-ORIGINAL-URL:https://visitmathews.com
X-WR-CALDESC:Events for Mathews County Visitor Center
REFRESH-INTERVAL;VALUE=DURATION:PT1H
X-Robots-Tag:noindex
X-PUBLISHED-TTL:PT1H
BEGIN:VTIMEZONE
TZID:America/New_York
BEGIN:DAYLIGHT
TZOFFSETFROM:-0500
TZOFFSETTO:-0400
TZNAME:EDT
DTSTART:20250309T070000
END:DAYLIGHT
BEGIN:STANDARD
TZOFFSETFROM:-0400
TZOFFSETTO:-0500
TZNAME:EST
DTSTART:20251102T060000
END:STANDARD
BEGIN:DAYLIGHT
TZOFFSETFROM:-0500
TZOFFSETTO:-0400
TZNAME:EDT
DTSTART:20260308T070000
END:DAYLIGHT
BEGIN:STANDARD
TZOFFSETFROM:-0400
TZOFFSETTO:-0500
TZNAME:EST
DTSTART:20261101T060000
END:STANDARD
BEGIN:DAYLIGHT
TZOFFSETFROM:-0500
TZOFFSETTO:-0400
TZNAME:EDT
DTSTART:20270314T070000
END:DAYLIGHT
BEGIN:STANDARD
TZOFFSETFROM:-0400
TZOFFSETTO:-0500
TZNAME:EST
DTSTART:20271107T060000
END:STANDARD
END:VTIMEZONE
BEGIN:VEVENT
DTSTART;TZID=America/New_York:20260515T190000
DTEND;TZID=America/New_York:20260515T200000
DTSTAMP:20260422T235909
CREATED:20250826T175321Z
LAST-MODIFIED:20251215T132139Z
UID:17896-1778871600-1778875200@visitmathews.com
SUMMARY:Mathews VA250 Patriotic Concert
DESCRIPTION:In preparation for Mathews County’s grand July 4th celebration\, the Mathews VA250 Committee invites residents\, neighbors\, and visitors to a special concert on Friday\, May 15\, at Mathews High School. \nCo-sponsored by the Mathews Museum\, Mathews Historical Society\, Sons of the American Revolution\, and Daughters of the American Revolution\, this event commemorates the 250th anniversary of Virginia’s declaration of independence—the first colony to do so. \nThe Courthouse Community Orchestra\, directed by Staff Sergeant Jarrett Kocan of the U.S. Air Force\, will perform an engaging program of music starting at 7:00 p.m. (Doors will open at 6:30 p.m.) \nAdmission is free. Join in for an afternoon of music and history as we celebrate Virginia’s role in America’s fight for independence!
URL:https://visitmathews.com/event/mathews-va250-patriotic-concert/
LOCATION:Harry M. Ward Auditorium  – Mathews High School\, 9889 Buckley Hall Rd\, Mathews\, VA\, 23109\, United States
CATEGORIES:Arts & Cultural,Community Events,Holiday/ Seasonal,Live Music
ATTACH;FMTTYPE=image/png:https://visitmathews.com/wp-content/uploads/2025/01/Screenshot-2025-01-14-at-11.08.49-AM.png
END:VEVENT
BEGIN:VEVENT
DTSTART;TZID=America/New_York:20260517T140000
DTEND;TZID=America/New_York:20260517T170000
DTSTAMP:20260422T235909
CREATED:20260227T034319Z
LAST-MODIFIED:20260227T034319Z
UID:18509-1779026400-1779037200@visitmathews.com
SUMMARY:MCHS Historic Home & Garden Tour
DESCRIPTION:Join the Mathews County Historical Society for a Historic Home & Garden Tour\, benefitting the Tompkins Cottage Lift Fund. \nThe event will include small  group tours of the interior of Providence\, open gardens\, music\, and hors d’oeuvres and beverages! \nProvidence\, a beautiful two-story mansion overlooking the Piankatank River\, was built in the early 1800s by William Fitchett. Many architectural features that confirm its early construction still remain. \nTickets and informational brochures will be available by the first of March. Save the Date!
URL:https://visitmathews.com/event/mchs-historic-home-garden-tour/
LOCATION:Providence\, Cobbs Creek\, VA\, 23035\, United States
CATEGORIES:Community Events,Food & Drink,History,Live Music,Outdoor
ATTACH;FMTTYPE=image/jpeg:https://visitmathews.com/wp-content/uploads/2026/02/New-Painting-Photo-Resize.jpg
END:VEVENT
BEGIN:VEVENT
DTSTART;TZID=America/New_York:20260620T110000
DTEND;TZID=America/New_York:20260620T170000
DTSTAMP:20260422T235909
CREATED:20260120T005616Z
LAST-MODIFIED:20260120T005616Z
UID:18439-1781953200-1781974800@visitmathews.com
SUMMARY:MVFD 2026 East Riverfest Boat Docking
DESCRIPTION:
URL:https://visitmathews.com/event/mvfd-2026-east-riverfest-boat-docking/
LOCATION:Williams Wharf Landing\, 1039 Williams Wharf Road\, Mathews\, VA\, 23109\, United States
CATEGORIES:Community Events,Food & Drink,Live Music,Outdoor
ATTACH;FMTTYPE=image/jpeg:https://visitmathews.com/wp-content/uploads/2026/01/IMG_9407.jpg
END:VEVENT
BEGIN:VEVENT
DTSTART;TZID=America/New_York:20261009T080000
DTEND;TZID=America/New_York:20261009T170000
DTSTAMP:20260422T235909
CREATED:20260120T004224Z
LAST-MODIFIED:20260120T004610Z
UID:18432-1791532800-1791565200@visitmathews.com
SUMMARY:Music on Maple - Rae the Band
DESCRIPTION:Join us for our final Music on Maple of the season\, featuring Rae the Band\, with local artist Shane Norris during set breaks! Plus\, delicious food from Don Chido food truck! \nStay tuned for more info!
URL:https://visitmathews.com/event/music-on-maple-rae-the-band/
LOCATION:Thomas James Store\, 44 Maple Ave\, Mathews\, VA\, 23109\, United States
CATEGORIES:Community Events,Food & Drink,Live Music,Outdoor
ATTACH;FMTTYPE=image/jpeg:https://visitmathews.com/wp-content/uploads/2026/01/554356799_122132519876944897_1865424888649177374_n.jpg
ORGANIZER;CN="Mathews County Visitor &amp%3B Information Center":MAILTO:mathewsvisitorcenter@gmail.com
END:VEVENT
END:VCALENDAR