BEGIN:VCALENDAR
VERSION:2.0
PRODID:-//Mathews County Visitor Center - ECPv6.15.20//NONSGML v1.0//EN
CALSCALE:GREGORIAN
METHOD:PUBLISH
X-WR-CALNAME:Mathews County Visitor Center
X-ORIGINAL-URL:https://visitmathews.com
X-WR-CALDESC:Events for Mathews County Visitor Center
REFRESH-INTERVAL;VALUE=DURATION:PT1H
X-Robots-Tag:noindex
X-PUBLISHED-TTL:PT1H
BEGIN:VTIMEZONE
TZID:America/New_York
BEGIN:DAYLIGHT
TZOFFSETFROM:-0500
TZOFFSETTO:-0400
TZNAME:EDT
DTSTART:20240310T070000
END:DAYLIGHT
BEGIN:STANDARD
TZOFFSETFROM:-0400
TZOFFSETTO:-0500
TZNAME:EST
DTSTART:20241103T060000
END:STANDARD
BEGIN:DAYLIGHT
TZOFFSETFROM:-0500
TZOFFSETTO:-0400
TZNAME:EDT
DTSTART:20250309T070000
END:DAYLIGHT
BEGIN:STANDARD
TZOFFSETFROM:-0400
TZOFFSETTO:-0500
TZNAME:EST
DTSTART:20251102T060000
END:STANDARD
BEGIN:DAYLIGHT
TZOFFSETFROM:-0500
TZOFFSETTO:-0400
TZNAME:EDT
DTSTART:20260308T070000
END:DAYLIGHT
BEGIN:STANDARD
TZOFFSETFROM:-0400
TZOFFSETTO:-0500
TZNAME:EST
DTSTART:20261101T060000
END:STANDARD
END:VTIMEZONE
BEGIN:VEVENT
DTSTART;TZID=America/New_York:20251003T170000
DTEND;TZID=America/New_York:20251003T210000
DTSTAMP:20260422T235352
CREATED:20250114T152910Z
LAST-MODIFIED:20250114T152910Z
UID:17216-1759510800-1759525200@visitmathews.com
SUMMARY:Party at the Wharf 2025 Concert Series
DESCRIPTION:Stay tuned for a listing of performers and food trucks! \nAll concerts are family-friendly! All cost $5\, except 5/17 Party\, which is free as part of the Tour de Chesapeake.
URL:https://visitmathews.com/event/party-at-the-wharf-2025-concert-series-2025-10-03/
LOCATION:Williams Wharf\, 1039 Williams Wharf Road\, Mathews\, VA\, 23109\, United States
CATEGORIES:Community Events,Food & Drink,Live Music,Outdoor,Youth
ATTACH;FMTTYPE=image/webp:https://visitmathews.com/wp-content/uploads/2025/01/IMG_4068-1-e1501792002255.jpg.webp
ORGANIZER;CN="Mathews Land Conservancy":MAILTO:info@mathewslandconservancy.org
END:VEVENT
BEGIN:VEVENT
DTSTART;TZID=America/New_York:20251003T170000
DTEND;TZID=America/New_York:20251003T210000
DTSTAMP:20260422T235352
CREATED:20250324T171438Z
LAST-MODIFIED:20250617T160725Z
UID:17420-1759510800-1759525200@visitmathews.com
SUMMARY:Party at the Wharf Summer Series 2025
DESCRIPTION:Join the Mathews Land Conservancy for their Party at the Wharf Summer Series with live music by Sound Waves Band\, and delicious food by Coastal Thirst! \nGates open at 5 pm\, with live music from 6-9 pm. All ages are welcome: tickets are $5 (12 and under are free!) Cash bar- wine and beer available. Bring your lawn chair!
URL:https://visitmathews.com/event/party-at-the-wharf-summer-series-2025-5/
LOCATION:Williams Wharf Landing\, 1039 Williams Wharf Road\, Mathews\, VA\, 23109\, United States
CATEGORIES:Community Events,Food & Drink,Live Music,Outdoor
ATTACH;FMTTYPE=image/jpeg:https://visitmathews.com/wp-content/uploads/2025/03/PartyattheWharfFlyer25.10.03withSponsor-2.jpeg
ORGANIZER;CN="Mathews Land Conservancy":MAILTO:info@mathewslandconservancy.org
END:VEVENT
BEGIN:VEVENT
DTSTART;TZID=America/New_York:20251003T171500
DTEND;TZID=America/New_York:20251003T191500
DTSTAMP:20260422T235352
CREATED:20250925T142824Z
LAST-MODIFIED:20250925T143456Z
UID:17990-1759511700-1759518900@visitmathews.com
SUMMARY:William Earl Sadler LIVE at The Hatchery
DESCRIPTION:Join your friends at The Hatchery for live music by the water\, delicious fall specials and craft beverages\, and a sunset on the Milford Haven!
URL:https://visitmathews.com/event/william-earl-sadler-live-at-the-hatchery/
LOCATION:The Hatchery\, 425 Callis Wharf Road\, Mathews\, VA\, 23064\, United States
CATEGORIES:Food & Drink,Live Music,Outdoor
ATTACH;FMTTYPE=image/png:https://visitmathews.com/wp-content/uploads/2025/09/19.png
ORGANIZER;CN="The Hatchery":MAILTO:thehatchery@oshoyster.com
END:VEVENT
BEGIN:VEVENT
DTSTART;TZID=America/New_York:20251005T130000
DTEND;TZID=America/New_York:20251005T170000
DTSTAMP:20260422T235352
CREATED:20250917T142353Z
LAST-MODIFIED:20250917T142353Z
UID:17963-1759669200-1759683600@visitmathews.com
SUMMARY:Animal Jam Fundraiser
DESCRIPTION:Join the Gloucester/ Mathews Humane Society & The Seafood Shack for an Animal Jam Fundraiser! \nLive Music – Cash Bar – Appetizers/ Snacks – Open Mic – Community Jam Sessions- Meet Mathews’ own K9 Deputy\, “Karma” \n$10 cover charge to help fundraise for the Humane Society!
URL:https://visitmathews.com/event/animal-jam-fundraiser/
LOCATION:The Seafood Shack\, 10744 Buckley Hall Road\, Mathews\, VA\, 23109\, United States
CATEGORIES:Community Events,Food & Drink,Live Music
ATTACH;FMTTYPE=image/jpeg:https://visitmathews.com/wp-content/uploads/2025/09/549171018_1328151722654551_8972639801696375451_n.jpg
END:VEVENT
BEGIN:VEVENT
DTSTART;TZID=America/New_York:20251010T170000
DTEND;TZID=America/New_York:20251010T190000
DTSTAMP:20260422T235352
CREATED:20250925T141715Z
LAST-MODIFIED:20250929T161205Z
UID:17985-1760115600-1760122800@visitmathews.com
SUMMARY:Virginia Shellphish Coalition Live at The Hatchery
DESCRIPTION:Join your friends at The Hatchery for free live music by the water\, delicious fall specials and craft beverages\, and a sunset on the Milford Haven!
URL:https://visitmathews.com/event/virginia-shellfish-coalition-live-at-the-hatchery/
LOCATION:The Hatchery\, 425 Callis Wharf Road\, Mathews\, VA\, 23064\, United States
CATEGORIES:Food & Drink,Live Music,Outdoor
ATTACH;FMTTYPE=image/png:https://visitmathews.com/wp-content/uploads/2025/09/21.png
ORGANIZER;CN="The Hatchery":MAILTO:thehatchery@oshoyster.com
END:VEVENT
BEGIN:VEVENT
DTSTART;TZID=America/New_York:20251010T180000
DTEND;TZID=America/New_York:20251010T210000
DTSTAMP:20260422T235352
CREATED:20250421T204450Z
LAST-MODIFIED:20250925T142014Z
UID:17518-1760119200-1760130000@visitmathews.com
SUMMARY:Music on Maple with Leverty\, Leedes & Austin
DESCRIPTION:Come join us for a night of amazing live music on Maple Avenue\, at the Thomas James Store and the Mathews Memorial Library’s courtyard!\n\nGet ready to groove to the tunes of John Leverty\, Taylor Leedes & Doug Austin as they rock the stage with their incredible music- a mix of your favorite Grateful Dead tunes\, with a little downhome Americana thrown in! These guys are known around the state for their lively musical styles\, and for playing in multiple bands that feature Dead-related jams!\n\nAs an extra treat\, local favorite Shane Norris will be playing set breaks- you don’t want to miss his Dead covers and classic rock hits!\n\nWe are also lucky enough to have the delicious On the Flip Side food truck- serving your favorite Asian-American cuisine\, plus a tasty oyster bar from The Hatchery\, as well as beer from Gloucester Brewing Company (wine\, soda and water will also be available for purchase!)\n\nThis event promises to be a night to remember\, so grab your friends and make your way to the venue for a fantastic evening of live music. Feel free to bring a chair to sit on when you need a break from dancing!\n\nSponsorship opportunities available- check out visitmathews.com/musiconmaple for more info! You can also purchase tickets and sponsorships in person at the Mathews County Visitor & Information Center (239 Main Street\, Mathews\, VA) if you’d prefer!\n\nThis event is sponsored by and benefits the Mathews County Visitor & Information Center and the Mathews County Historical Society.\n\nYou don’t want to miss out on this opportunity to enjoy some great music in a cozy setting\, so grab your tickets before they sell out. See you there!
URL:https://visitmathews.com/event/music-on-maple-with-leverty-leedes-austin/
LOCATION:Thomas James Store\, 44 Maple Ave\, Mathews\, VA\, 23109\, United States
CATEGORIES:Arts & Cultural,Community Events,Food & Drink,Live Music,Outdoor
ATTACH;FMTTYPE=image/png:https://visitmathews.com/wp-content/uploads/2025/04/Final-poster.png
ORGANIZER;CN="Mathews County Visitor &amp%3B Information Center":MAILTO:mathewsvisitorcenter@gmail.com
END:VEVENT
BEGIN:VEVENT
DTSTART;TZID=America/New_York:20251011T140000
DTEND;TZID=America/New_York:20251011T170000
DTSTAMP:20260422T235352
CREATED:20250905T182423Z
LAST-MODIFIED:20250905T182423Z
UID:17920-1760191200-1760202000@visitmathews.com
SUMMARY:Rotary's Oyster Roast & BBQ Riot
DESCRIPTION:Join the Mathews Rotary Club for the annual Oyster Roast and BBQ Riot\, with all you can eat oysters and BBQ\, live music by Rob Oliver\, and wine\, beer and soda available for purchase! \nTickets are $40 in advance (available for purchase at MCVIC\, Haskins Bayside Service Center\, Chesapeake Bank- Mathews branch) or $45 at the door.
URL:https://visitmathews.com/event/rotarys-oyster-roast-bbq-riot/
LOCATION:Williams Wharf Landing\, 1039 Williams Wharf Road\, Mathews\, VA\, 23109\, United States
CATEGORIES:Community Events,Food & Drink,Live Music,Outdoor
ATTACH;FMTTYPE=image/png:https://visitmathews.com/wp-content/uploads/2025/09/Screenshot-2025-09-05-at-2.23.32-PM.png
END:VEVENT
BEGIN:VEVENT
DTSTART;TZID=America/New_York:20251012T150000
DTEND;TZID=America/New_York:20251012T170000
DTSTAMP:20260422T235352
CREATED:20250905T183757Z
LAST-MODIFIED:20250905T183757Z
UID:17927-1760281200-1760288400@visitmathews.com
SUMMARY:Concerts by the Bay: Lauren Jelencovich
DESCRIPTION:Lauren is currently on tour with Yanni as his featured vocalist\, performing to sold out venues all over the world such as Radio City Music Hall\, Red Rocks Amphitheater and Royal Albert Hall. She can be seen on his PBS Specials/DVDs and CDs and is featured on Yanni’s album\, Inspirato\, singing alongside Plácido Domingo and Renèe Fleming. Lauren is a Grand Prize winner of Ed McMahon’s Star Search and Andrea Bocelli’s World Scholarship\, garnering great acclaim for her affecting portrayals of opera and musical theater roles throughout the world. She had the extreme honor of working with the legendary Dolly Parton for her Netflix movie musical\, as well as being cast in the first table read of the 2025 Broadway bound musical based on Dolly’s life. Lauren and her sparkling soprano voice impart her love and passion for all genres of music.
URL:https://visitmathews.com/event/concerts-by-the-bay-lauren-jelencovich/
LOCATION:Harry M. Ward Auditorium  – Mathews High School\, 9889 Buckley Hall Rd\, Mathews\, VA\, 23109\, United States
CATEGORIES:Arts & Cultural,Live Music
ATTACH;FMTTYPE=image/png:https://visitmathews.com/wp-content/uploads/2025/09/lauren-l_orig.png
ORGANIZER;CN="CONCERTS BY THE BAY INC.":MAILTO:concertsbythebay22@gmail.com
END:VEVENT
BEGIN:VEVENT
DTSTART;TZID=America/New_York:20251018T080000
DTEND;TZID=America/New_York:20251018T170000
DTSTAMP:20260422T235352
CREATED:20250925T141507Z
LAST-MODIFIED:20250925T141507Z
UID:17979-1760774400-1760806800@visitmathews.com
SUMMARY:Carolyn Jane August LIVE at The Hatchery
DESCRIPTION:Join your friends at The Hatchery for free live music by the water\, delicious fall specials and craft beverages\, and a sunset on the Milford Haven!
URL:https://visitmathews.com/event/carolyn-jane-august-live-at-the-hatchery/
LOCATION:The Hatchery\, 425 Callis Wharf Road\, Mathews\, VA\, 23064\, United States
CATEGORIES:Food & Drink,Live Music,Outdoor
ATTACH;FMTTYPE=image/png:https://visitmathews.com/wp-content/uploads/2025/09/12.png
ORGANIZER;CN="The Hatchery":MAILTO:thehatchery@oshoyster.com
END:VEVENT
BEGIN:VEVENT
DTSTART;TZID=America/New_York:20251018T090000
DTEND;TZID=America/New_York:20251018T130000
DTSTAMP:20260422T235352
CREATED:20251013T013310Z
LAST-MODIFIED:20251013T013310Z
UID:18080-1760778000-1760792400@visitmathews.com
SUMMARY:Part Time LIVE at Damon's!
DESCRIPTION:
URL:https://visitmathews.com/event/part-time-live-at-damons/
LOCATION:Damon’s\, Mathews\, VA\, 23109\, United States
CATEGORIES:Food & Drink,Live Music
ATTACH;FMTTYPE=image/jpeg:https://visitmathews.com/wp-content/uploads/2025/10/part-time-damons.jpg
END:VEVENT
BEGIN:VEVENT
DTSTART;TZID=America/New_York:20251018T193000
DTEND;TZID=America/New_York:20251018T213000
DTSTAMP:20260422T235352
CREATED:20250114T025612Z
LAST-MODIFIED:20250114T025612Z
UID:17171-1760815800-1760823000@visitmathews.com
SUMMARY:Donk's 50th Anniversary Shows
DESCRIPTION:Performance schedule coming\, dates below: \n4/5\, 5/10\, 6/14\, 7/19\, 8/16\, 9/13\, 10/18\, 11/8\, 12/6 \n  \nAll shows subject to last minute changes.  Please join the email list or on Facebook for real-time updates. \nHarry M. Ward Auditorium\, Mathews High School\, 9889 Buckley Hall Road\, Mathews\, VA 23109 \nNEW!!!  Shows start at 7:30 PM – Doors open at 7:00 PM \nTickets are $15 for adults and $5 for Children 12 and under \nTickets can be purchased at the door on show nights.  Cash or checks please – No credit cards accepted at this time. \nOR in advance at the Mathews Visitor Center\, Main Street\, in Mathews and Marketplace Antiques\, Route 17\, in Gloucester.
URL:https://visitmathews.com/event/donks-50th-anniversary-shows-2025-10-18/
LOCATION:Harry M. Ward Auditorium  – Mathews High School\, 9889 Buckley Hall Rd\, Mathews\, VA\, 23109\, United States
CATEGORIES:Arts & Cultural,Community Events,Live Music
ATTACH;FMTTYPE=image/jpeg:https://visitmathews.com/wp-content/uploads/2023/07/Donks.jpg
ORGANIZER;CN="Virginia's Li'l Ole Opry":MAILTO:vaopry@gmail.com
END:VEVENT
END:VCALENDAR