BEGIN:VCALENDAR
VERSION:2.0
PRODID:-//Mathews County Visitor Center - ECPv6.15.20//NONSGML v1.0//EN
CALSCALE:GREGORIAN
METHOD:PUBLISH
X-ORIGINAL-URL:https://visitmathews.com
X-WR-CALDESC:Events for Mathews County Visitor Center
REFRESH-INTERVAL;VALUE=DURATION:PT1H
X-Robots-Tag:noindex
X-PUBLISHED-TTL:PT1H
BEGIN:VTIMEZONE
TZID:America/New_York
BEGIN:DAYLIGHT
TZOFFSETFROM:-0500
TZOFFSETTO:-0400
TZNAME:EDT
DTSTART:20240310T070000
END:DAYLIGHT
BEGIN:STANDARD
TZOFFSETFROM:-0400
TZOFFSETTO:-0500
TZNAME:EST
DTSTART:20241103T060000
END:STANDARD
BEGIN:DAYLIGHT
TZOFFSETFROM:-0500
TZOFFSETTO:-0400
TZNAME:EDT
DTSTART:20250309T070000
END:DAYLIGHT
BEGIN:STANDARD
TZOFFSETFROM:-0400
TZOFFSETTO:-0500
TZNAME:EST
DTSTART:20251102T060000
END:STANDARD
BEGIN:DAYLIGHT
TZOFFSETFROM:-0500
TZOFFSETTO:-0400
TZNAME:EDT
DTSTART:20260308T070000
END:DAYLIGHT
BEGIN:STANDARD
TZOFFSETFROM:-0400
TZOFFSETTO:-0500
TZNAME:EST
DTSTART:20261101T060000
END:STANDARD
END:VTIMEZONE
BEGIN:VEVENT
DTSTART;VALUE=DATE:20250905
DTEND;VALUE=DATE:20250907
DTSTAMP:20260423T012708
CREATED:20250114T145520Z
LAST-MODIFIED:20250825T214644Z
UID:17196-1757030400-1757203199@visitmathews.com
SUMMARY:Mathews Market Days 2025
DESCRIPTION:Mathews Market Days is an annual festival held the first Friday and Saturday after Labor Day. We invite locals\, visitors\, guests\, family\, and friends to join us as we share the showcase of a creative community. Arts & crafts\, food\, and informational vendors will be in attendance alongside live music each day\, a children’s area and an annual car show on Saturday. Grab some dinner from our food vendors and enjoy Saturday night’s street dance. We hope to see you there! \nThis annual event features selected local and neighboring artists\, craftsmen\, craftswomen\, musicians\, and performers who share their talents for the enjoyment of residents\, friends\, family\, guests\, and visitors. \nMathews Market Days is an event held by the Mathews Market Days Committee\, a group of volunteers who spend the year planning this annual event since its inception in 1974.
URL:https://visitmathews.com/event/mathews-market-days-2025/
LOCATION:Mathews\, VA\, 23109\, United States
CATEGORIES:Arts & Cultural,Community Events,Food & Drink,Live Music,Outdoor,Shopping,Youth
ATTACH;FMTTYPE=image/jpeg:https://visitmathews.com/wp-content/uploads/2025/01/c6ea3e64-75af-1294-ba61-6086ff1a8aa2.jpg
ORGANIZER;CN="Mathews Market Days Committee":MAILTO:mathewsmarketdays@gmail.com
END:VEVENT
BEGIN:VEVENT
DTSTART;TZID=America/New_York:20250905T080000
DTEND;TZID=America/New_York:20250905T170000
DTSTAMP:20260423T012708
CREATED:20250905T184616Z
LAST-MODIFIED:20250905T184616Z
UID:17936-1757059200-1757091600@visitmathews.com
SUMMARY:Concerts by the Bay: The Holiday Band
DESCRIPTION:Let’s finish the Season with a Kick-Off to Summer! \nThe legendary\, award winning group\, The Holiday Band will be helping us kick off summer with their Good ‘Ole Beach Music! Since 1991\, The Holiday Band has performed thousands of shows from Cincinnati\, Ohio to Cozumel\, Mexico!\n​\nThe Holiday Band has received several awards including a CAMMY for best album. The Rhythm & Beach top 40 count down recently awarded the band for having the most songs to chart in the past 10 years! Are you ready Middle Peninsula?! Dust off those shagging shoes and come “kick some sand!”
URL:https://visitmathews.com/event/concerts-by-the-bay-the-holiday-band/
LOCATION:Harry M. Ward Auditorium  – Mathews High School\, 9889 Buckley Hall Rd\, Mathews\, VA\, 23109\, United States
CATEGORIES:Arts & Cultural,Live Music
ATTACH;FMTTYPE=image/png:https://visitmathews.com/wp-content/uploads/2025/09/holiday-band.png
ORGANIZER;CN="CONCERTS BY THE BAY INC.":MAILTO:concertsbythebay22@gmail.com
END:VEVENT
BEGIN:VEVENT
DTSTART;TZID=America/New_York:20250905T170000
DTEND;TZID=America/New_York:20250905T210000
DTSTAMP:20260423T012708
CREATED:20250114T152910Z
LAST-MODIFIED:20250114T152910Z
UID:17215-1757091600-1757106000@visitmathews.com
SUMMARY:Party at the Wharf 2025 Concert Series
DESCRIPTION:Stay tuned for a listing of performers and food trucks! \nAll concerts are family-friendly! All cost $5\, except 5/17 Party\, which is free as part of the Tour de Chesapeake.
URL:https://visitmathews.com/event/party-at-the-wharf-2025-concert-series-2025-09-05/
LOCATION:Williams Wharf\, 1039 Williams Wharf Road\, Mathews\, VA\, 23109\, United States
CATEGORIES:Community Events,Food & Drink,Live Music,Outdoor,Youth
ATTACH;FMTTYPE=image/webp:https://visitmathews.com/wp-content/uploads/2025/01/IMG_4068-1-e1501792002255.jpg.webp
ORGANIZER;CN="Mathews Land Conservancy":MAILTO:info@mathewslandconservancy.org
END:VEVENT
BEGIN:VEVENT
DTSTART;TZID=America/New_York:20250905T170000
DTEND;TZID=America/New_York:20250905T210000
DTSTAMP:20260423T012708
CREATED:20250324T171120Z
LAST-MODIFIED:20250324T171120Z
UID:17414-1757091600-1757106000@visitmathews.com
SUMMARY:Party at the Wharf Summer Series 2025
DESCRIPTION:Join the Mathews Land Conservancy for their Party at the Wharf Summer Series with live music by Low Bottom\, and delicious food trucks Positive Pizza and Coastal Thirst. \nGates open at 5 pm\, with live music from 6-9 pm. All ages are welcome: tickets are $5 (12 and under are free!) Cash bar- wine and beer available. Bring your lawn chair!
URL:https://visitmathews.com/event/party-at-the-wharf-summer-series-2025-4/
LOCATION:Williams Wharf\, 1039 Williams Wharf Road\, Mathews\, VA\, 23109\, United States
CATEGORIES:Community Events,Food & Drink,Live Music,Outdoor
ATTACH;FMTTYPE=image/png:https://visitmathews.com/wp-content/uploads/2025/03/Screenshot-2025-03-24-at-1.08.21-PM.png
ORGANIZER;CN="Mathews Land Conservancy":MAILTO:info@mathewslandconservancy.org
END:VEVENT
BEGIN:VEVENT
DTSTART;TZID=America/New_York:20250906T180000
DTEND;TZID=America/New_York:20250906T200000
DTSTAMP:20260423T012708
CREATED:20250825T175302Z
LAST-MODIFIED:20250825T175503Z
UID:17871-1757181600-1757188800@visitmathews.com
SUMMARY:Virginia Shellphish Coalition @ The Hatchery
DESCRIPTION:After Mathews Market Days\, come enjoy free live tunes\, fresh local oysters\, pork dishes\, and craft beverages while the sun goes down on Gwynn’s Island’s Milford Haven!
URL:https://visitmathews.com/event/virginia-shellphish-coalition-the-hatchery/
LOCATION:The Hatchery\, 425 Callis Wharf Road\, Mathews\, VA\, 23064\, United States
CATEGORIES:Food & Drink,Live Music,Outdoor
ATTACH;FMTTYPE=image/jpeg:https://visitmathews.com/wp-content/uploads/2025/08/536171721_734422452930715_2127567521280668899_n.jpg
ORGANIZER;CN="The Hatchery":MAILTO:thehatchery@oshoyster.com
END:VEVENT
BEGIN:VEVENT
DTSTART;TZID=America/New_York:20250912T174500
DTEND;TZID=America/New_York:20250912T194500
DTSTAMP:20260423T012708
CREATED:20250825T175757Z
LAST-MODIFIED:20250825T175757Z
UID:17876-1757699100-1757706300@visitmathews.com
SUMMARY:Jonathan Paige Brown Jr @ The Hatchery
DESCRIPTION:Come enjoy free live tunes\, fresh local oysters\, pork dishes\, and craft beverages while the sun goes down on Gwynn’s Island’s Milford Haven!
URL:https://visitmathews.com/event/jonathan-paige-brown-jr-the-hatchery/
LOCATION:The Hatchery\, 425 Callis Wharf Road\, Mathews\, VA\, 23064\, United States
CATEGORIES:Food & Drink,Live Music,Outdoor
ATTACH;FMTTYPE=image/jpeg:https://visitmathews.com/wp-content/uploads/2025/08/536194377_734419542931006_3179119209286470687_n.jpg
ORGANIZER;CN="The Hatchery":MAILTO:thehatchery@oshoyster.com
END:VEVENT
BEGIN:VEVENT
DTSTART;TZID=America/New_York:20250913T193000
DTEND;TZID=America/New_York:20250913T213000
DTSTAMP:20260423T012708
CREATED:20250114T025612Z
LAST-MODIFIED:20250114T025612Z
UID:17170-1757791800-1757799000@visitmathews.com
SUMMARY:Donk's 50th Anniversary Shows
DESCRIPTION:Performance schedule coming\, dates below: \n4/5\, 5/10\, 6/14\, 7/19\, 8/16\, 9/13\, 10/18\, 11/8\, 12/6 \n  \nAll shows subject to last minute changes.  Please join the email list or on Facebook for real-time updates. \nHarry M. Ward Auditorium\, Mathews High School\, 9889 Buckley Hall Road\, Mathews\, VA 23109 \nNEW!!!  Shows start at 7:30 PM – Doors open at 7:00 PM \nTickets are $15 for adults and $5 for Children 12 and under \nTickets can be purchased at the door on show nights.  Cash or checks please – No credit cards accepted at this time. \nOR in advance at the Mathews Visitor Center\, Main Street\, in Mathews and Marketplace Antiques\, Route 17\, in Gloucester.
URL:https://visitmathews.com/event/donks-50th-anniversary-shows-2025-09-13/
LOCATION:Harry M. Ward Auditorium  – Mathews High School\, 9889 Buckley Hall Rd\, Mathews\, VA\, 23109\, United States
CATEGORIES:Arts & Cultural,Community Events,Live Music
ATTACH;FMTTYPE=image/jpeg:https://visitmathews.com/wp-content/uploads/2023/07/Donks.jpg
ORGANIZER;CN="Virginia's Li'l Ole Opry":MAILTO:vaopry@gmail.com
END:VEVENT
BEGIN:VEVENT
DTSTART;TZID=America/New_York:20250914T150000
DTEND;TZID=America/New_York:20250914T170000
DTSTAMP:20260423T012708
CREATED:20250905T183247Z
LAST-MODIFIED:20250905T183247Z
UID:17924-1757862000-1757869200@visitmathews.com
SUMMARY:Concerts by the Bay: Bad Moon Rising
DESCRIPTION:Come see the #1 CCR Tribute Band in the US! \nBad Moon Rising\, a Classic Tributes Live band\, invites you to take a trip down the Mississippi delta as they pay tribute to arguably the greatest rock band North America ever produced: Creedence Clearwater Revival. \n​CCR was an American Roots rock band whose sound incorporated southern\, country and blues rock. The resulting sound and success (built on the distinctive vocals\, wailing guitar and song writing style of John Fogerty) became known as swamp rock\, and CCR was the pioneer of the genre. \nDoors open at 2:30- single tickets $30\, students free\, or season sponsorship available.
URL:https://visitmathews.com/event/concerts-by-the-bay-bad-moon-rising/
LOCATION:Mathews\, VA\, 23109\, United States
CATEGORIES:Arts & Cultural,Live Music
ATTACH;FMTTYPE=image/png:https://visitmathews.com/wp-content/uploads/2025/09/bad-moon-rising.png
END:VEVENT
BEGIN:VEVENT
DTSTART;TZID=America/New_York:20250919T170000
DTEND;TZID=America/New_York:20250919T200000
DTSTAMP:20260423T012708
CREATED:20250825T210605Z
LAST-MODIFIED:20250825T210605Z
UID:17880-1758301200-1758312000@visitmathews.com
SUMMARY:Oyster Equinox Feat. Rae the Band @ The Hatchery
DESCRIPTION:Join us for our 1st Annual Oyster Equinox! \n\n\n\nThe Hatchery is hosting live music by Rae the Band on Friday 9/19 from 5:45-7:45pm while the sun goes down.\n\n\n\n\nWe will be featuring some new seasonal menu specials as well as seasonal craft beverages this weekend to welcome in the Fall. *Limited menu will be available.\n\n\n\n\nWe will also be dropping some of our new fall retail this weekend including sweatshirts\, long sleeves\, and hats.\n\n\nCome enjoy the live tunes by the water\, food\, fresh local oysters\, and seasonal craft beverages while the sun goes down on the Milford Haven! \n\n*To anticipate crowds and reduce wait times\, we will have a separate drink line\, and we will not be serving po’boys\, bánh mì sandwiches\, or the salad\, this weekend only.\n \n\nFriday 9/19: 5pm-8pm\nSat 9/20: 4pm-8pm\nSun 9/21 CLOSED\n\n \n\nPrice:Free
URL:https://visitmathews.com/event/oyster-equinox-feat-rae-the-band-the-hatchery/
LOCATION:The Hatchery\, 425 Callis Wharf Road\, Mathews\, VA\, 23064\, United States
CATEGORIES:Food & Drink,Holiday/ Seasonal,Live Music,Outdoor
ATTACH;FMTTYPE=image/jpeg:https://visitmathews.com/wp-content/uploads/2025/08/534133227_734507366255557_5043045233159113301_n.jpg
ORGANIZER;CN="The Hatchery":MAILTO:thehatchery@oshoyster.com
END:VEVENT
BEGIN:VEVENT
DTSTART;TZID=America/New_York:20250926T174500
DTEND;TZID=America/New_York:20250926T194500
DTSTAMP:20260423T012708
CREATED:20250825T210308Z
LAST-MODIFIED:20250925T143600Z
UID:17878-1758908700-1758915900@visitmathews.com
SUMMARY:Lilah Moons Music LIVE @ The Hatchery
DESCRIPTION:Join your friends at The Hatchery for live music by the water\, delicious fall specials and craft beverages\, and a sunset on the Milford Haven!
URL:https://visitmathews.com/event/lilah-moons-music-live-the-hatchery/
LOCATION:The Hatchery\, 425 Callis Wharf Road\, Mathews\, VA\, 23064\, United States
CATEGORIES:Food & Drink,Live Music,Outdoor
ATTACH;FMTTYPE=image/jpeg:https://visitmathews.com/wp-content/uploads/2025/08/536160593_734405496265744_9448155867231332_n.jpg
ORGANIZER;CN="The Hatchery":MAILTO:thehatchery@oshoyster.com
END:VEVENT
BEGIN:VEVENT
DTSTART;TZID=America/New_York:20250927T090000
DTEND;TZID=America/New_York:20250927T120000
DTSTAMP:20260423T012708
CREATED:20250912T162146Z
LAST-MODIFIED:20250912T162146Z
UID:17953-1758963600-1758974400@visitmathews.com
SUMMARY:Part Time at Mi Casa Azteca
DESCRIPTION:
URL:https://visitmathews.com/event/part-time-at-mi-casa-azteca-2/
LOCATION:Mi Casa Azteca Mexican Restaurant & Cantina\, Mathews\, VA\, 23109\, United States
CATEGORIES:Food & Drink,Live Music
ATTACH;FMTTYPE=image/jpeg:https://visitmathews.com/wp-content/uploads/2025/09/IMG_5352.jpg
END:VEVENT
END:VCALENDAR