BEGIN:VCALENDAR
VERSION:2.0
PRODID:-//Mathews County Visitor Center - ECPv6.15.20//NONSGML v1.0//EN
CALSCALE:GREGORIAN
METHOD:PUBLISH
X-WR-CALNAME:Mathews County Visitor Center
X-ORIGINAL-URL:https://visitmathews.com
X-WR-CALDESC:Events for Mathews County Visitor Center
REFRESH-INTERVAL;VALUE=DURATION:PT1H
X-Robots-Tag:noindex
X-PUBLISHED-TTL:PT1H
BEGIN:VTIMEZONE
TZID:America/New_York
BEGIN:DAYLIGHT
TZOFFSETFROM:-0500
TZOFFSETTO:-0400
TZNAME:EDT
DTSTART:20240310T070000
END:DAYLIGHT
BEGIN:STANDARD
TZOFFSETFROM:-0400
TZOFFSETTO:-0500
TZNAME:EST
DTSTART:20241103T060000
END:STANDARD
BEGIN:DAYLIGHT
TZOFFSETFROM:-0500
TZOFFSETTO:-0400
TZNAME:EDT
DTSTART:20250309T070000
END:DAYLIGHT
BEGIN:STANDARD
TZOFFSETFROM:-0400
TZOFFSETTO:-0500
TZNAME:EST
DTSTART:20251102T060000
END:STANDARD
BEGIN:DAYLIGHT
TZOFFSETFROM:-0500
TZOFFSETTO:-0400
TZNAME:EDT
DTSTART:20260308T070000
END:DAYLIGHT
BEGIN:STANDARD
TZOFFSETFROM:-0400
TZOFFSETTO:-0500
TZNAME:EST
DTSTART:20261101T060000
END:STANDARD
END:VTIMEZONE
BEGIN:VEVENT
DTSTART;VALUE=DATE:20250801
DTEND;VALUE=DATE:20250804
DTSTAMP:20260423T025126
CREATED:20250722T161553Z
LAST-MODIFIED:20250722T161553Z
UID:17796-1754006400-1754265599@visitmathews.com
SUMMARY:National Oyster Day
DESCRIPTION:Our favorite holiday is coming up! Special celebrations happening daily during The Hatchery’s normal hours: Fri: 5-sunset\, Sat: 4-sunset; Sun: 12-4pm\nNATIONAL OYSTER DAY is August 5th – and The Hatchery is throwing a weekend-long celebration August 1-3rd! \n\n\nLIVE MUSIC DAILY:\n\n\n\nFRIDAY – Ian Blackwood soloist from RVA\, 6-8pm\n\nSATURDAY – The Tidewinders will debut at The Hatchery on Saturday\, August 2nd from 5:30-8pm!\n\nSUNDAY – Local musician\, Hunter Owens\, returns from 1-3pm.\n\n\n\nSingle tickets available for sale for impromptu boat rides on Friday! Take a 30 minute ride with Capt Trey Sowers with Mathews Deadrise Charters to visit some local oyster farms.\n\n\nSome new menu additions will be featured this week\, as well as some new beverage drops.\n\n\nNew Retail will launch this weekend designed by artist\, Sam Glover\, owner of @scaledupdesigns (on Insta). Sneak peak of the design in the event title image!
URL:https://visitmathews.com/event/national-oyster-day/
LOCATION:Oyster Seed Holdings\, 425 Callis Wharf Rd\, Grimstead\, VA\, 23064\, United States
CATEGORIES:Food & Drink,Holiday/ Seasonal,Live Music,Outdoor
ATTACH;FMTTYPE=image/png:https://visitmathews.com/wp-content/uploads/2025/07/b7e184_c3101517085c4c98ae38495e0ece9ee4mv2.png
ORGANIZER;CN="The Hatchery":MAILTO:thehatchery@oshoyster.com
END:VEVENT
BEGIN:VEVENT
DTSTART;TZID=America/New_York:20250805T160000
DTEND;TZID=America/New_York:20250805T190000
DTSTAMP:20260423T025126
CREATED:20250728T204414Z
LAST-MODIFIED:20250728T204414Z
UID:17821-1754409600-1754420400@visitmathews.com
SUMMARY:National Night Out 2025
DESCRIPTION:
URL:https://visitmathews.com/event/national-night-out-2025/
LOCATION:Harry M. Ward Auditorium  – Mathews High School\, 9889 Buckley Hall Rd\, Mathews\, VA\, 23109\, United States
CATEGORIES:Community Events,Food & Drink,Live Music,Outdoor,Youth
ATTACH;FMTTYPE=image/jpeg:https://visitmathews.com/wp-content/uploads/2025/07/Document.jpeg
END:VEVENT
BEGIN:VEVENT
DTSTART;TZID=America/New_York:20250809T210000
DTEND;TZID=America/New_York:20250809T233000
DTSTAMP:20260423T025126
CREATED:20250728T204157Z
LAST-MODIFIED:20250728T204157Z
UID:17819-1754773200-1754782200@visitmathews.com
SUMMARY:Part Time Concert
DESCRIPTION:Join Part Time for show at Mi Casa Azteca!
URL:https://visitmathews.com/event/part-time-concert/
LOCATION:Mi Casa Azteca Mexican Restaurant & Cantina\, Mathews\, VA\, 23109\, United States
CATEGORIES:Food & Drink,Live Music
ATTACH;FMTTYPE=image/jpeg:https://visitmathews.com/wp-content/uploads/2025/07/IMG_4449.jpg
END:VEVENT
BEGIN:VEVENT
DTSTART;TZID=America/New_York:20250815T170000
DTEND;TZID=America/New_York:20250815T210000
DTSTAMP:20260423T025126
CREATED:20250324T170459Z
LAST-MODIFIED:20250324T170516Z
UID:17408-1755277200-1755291600@visitmathews.com
SUMMARY:Party at the Wharf Summer Series 2025
DESCRIPTION:Join the Mathews Land Conservancy for their Party at the Wharf Summer Series with live music by Tin Can Fish Band\, and delicious food from  Positive Pizza and Salty Bob’s Oyster & Seafood Co. food trucks! \nGates open at 5 pm\, with live music from 6-9 pm. All ages are welcome: tickets are $5 (12 and under are free!) Cash bar- wine and beer available. Bring your lawn chair!
URL:https://visitmathews.com/event/17408/
LOCATION:Williams Wharf\, 1039 Williams Wharf Road\, Mathews\, VA\, 23109\, United States
CATEGORIES:Community Events,Food & Drink,Live Music,Outdoor
ATTACH;FMTTYPE=image/png:https://visitmathews.com/wp-content/uploads/2025/03/Screenshot-2025-03-24-at-1.01.18-PM.png
ORGANIZER;CN="Mathews Land Conservancy":MAILTO:info@mathewslandconservancy.org
END:VEVENT
BEGIN:VEVENT
DTSTART;TZID=America/New_York:20250815T180000
DTEND;TZID=America/New_York:20250815T200000
DTSTAMP:20260423T025126
CREATED:20250514T190902Z
LAST-MODIFIED:20250514T190902Z
UID:17622-1755280800-1755288000@visitmathews.com
SUMMARY:Live Music by Shane Norris @ The Hatchery
DESCRIPTION:The Hatchery is hosting live music by Shane Norris on Fri 8/15 from 6-8pm.  \nEnjoy music by this up and coming young Mathews musician while grabbing dinner and drinks on the water.
URL:https://visitmathews.com/event/live-music-by-shane-norris-the-hatchery/
LOCATION:Mathews\, VA\, 23109\, United States
CATEGORIES:Food & Drink,Live Music,Outdoor
ATTACH;FMTTYPE=image/png:https://visitmathews.com/wp-content/uploads/2025/05/14-scaled.png
END:VEVENT
BEGIN:VEVENT
DTSTART;TZID=America/New_York:20250821T190000
DTEND;TZID=America/New_York:20250821T200000
DTSTAMP:20260423T025126
CREATED:20250609T150958Z
LAST-MODIFIED:20250609T150958Z
UID:17718-1755802800-1755806400@visitmathews.com
SUMMARY:Soothin' Summer Sounds: VSO Brass Quintet
DESCRIPTION:Free and open to the public!
URL:https://visitmathews.com/event/soothin-summer-sounds-vso-brass-quintet/
LOCATION:Mathews Memorial Library\, 251 Main Street\, Mathews\, VA\, 23109\, United States
CATEGORIES:Library Events,Live Music
ATTACH;FMTTYPE=image/png:https://visitmathews.com/wp-content/uploads/2025/06/Unknown-1.png
ORGANIZER;CN="Mathews Memorial Library":MAILTO:staff@mathewslibrary.org
END:VEVENT
BEGIN:VEVENT
DTSTART;TZID=America/New_York:20250830T180000
DTEND;TZID=America/New_York:20250830T200000
DTSTAMP:20260423T025126
CREATED:20250825T175021Z
LAST-MODIFIED:20250825T175021Z
UID:17867-1756576800-1756584000@visitmathews.com
SUMMARY:Lilah Moons @ The Hatchery
DESCRIPTION:Come enjoy live tunes\, fresh local oysters\, pork dishes\, and craft beverages while the sun goes down on Gwynn’s Island’s Milford Haven!
URL:https://visitmathews.com/event/lilah-moons-the-hatchery/
LOCATION:The Hatchery\, 425 Callis Wharf Road\, Mathews\, VA\, 23064\, United States
CATEGORIES:Food & Drink,Live Music,Outdoor
ATTACH;FMTTYPE=image/jpeg:https://visitmathews.com/wp-content/uploads/2025/08/536160593_734405496265744_9448155867231332_n.jpg
ORGANIZER;CN="The Hatchery":MAILTO:thehatchery@oshoyster.com
END:VEVENT
END:VCALENDAR