BEGIN:VCALENDAR
VERSION:2.0
PRODID:-//Mathews County Visitor Center - ECPv6.15.20//NONSGML v1.0//EN
CALSCALE:GREGORIAN
METHOD:PUBLISH
X-WR-CALNAME:Mathews County Visitor Center
X-ORIGINAL-URL:https://visitmathews.com
X-WR-CALDESC:Events for Mathews County Visitor Center
REFRESH-INTERVAL;VALUE=DURATION:PT1H
X-Robots-Tag:noindex
X-PUBLISHED-TTL:PT1H
BEGIN:VTIMEZONE
TZID:America/New_York
BEGIN:DAYLIGHT
TZOFFSETFROM:-0500
TZOFFSETTO:-0400
TZNAME:EDT
DTSTART:20240310T070000
END:DAYLIGHT
BEGIN:STANDARD
TZOFFSETFROM:-0400
TZOFFSETTO:-0500
TZNAME:EST
DTSTART:20241103T060000
END:STANDARD
BEGIN:DAYLIGHT
TZOFFSETFROM:-0500
TZOFFSETTO:-0400
TZNAME:EDT
DTSTART:20250309T070000
END:DAYLIGHT
BEGIN:STANDARD
TZOFFSETFROM:-0400
TZOFFSETTO:-0500
TZNAME:EST
DTSTART:20251102T060000
END:STANDARD
BEGIN:DAYLIGHT
TZOFFSETFROM:-0500
TZOFFSETTO:-0400
TZNAME:EDT
DTSTART:20260308T070000
END:DAYLIGHT
BEGIN:STANDARD
TZOFFSETFROM:-0400
TZOFFSETTO:-0500
TZNAME:EST
DTSTART:20261101T060000
END:STANDARD
END:VTIMEZONE
BEGIN:VEVENT
DTSTART;TZID=America/New_York:20250705T110000
DTEND;TZID=America/New_York:20250705T220000
DTSTAMP:20260423T045707
CREATED:20250214T174513Z
LAST-MODIFIED:20250214T174622Z
UID:17290-1751713200-1751752800@visitmathews.com
SUMMARY:MVFD East Riverfest 2025 Boat Docking & Fireworks Show
DESCRIPTION:Mark your calendars- more info coming soon!
URL:https://visitmathews.com/event/mvfdboatdocking/
LOCATION:Williams Wharf\, 1039 Williams Wharf Road\, Mathews\, VA\, 23109\, United States
CATEGORIES:Community Events,Food & Drink,Front Page Featured,Holiday/ Seasonal,Live Music,Outdoor
ATTACH;FMTTYPE=image/png:https://visitmathews.com/wp-content/uploads/2025/02/Screenshot-2025-02-14-at-12.43.35-PM.png
END:VEVENT
BEGIN:VEVENT
DTSTART;TZID=America/New_York:20250710T190000
DTEND;TZID=America/New_York:20250710T200000
DTSTAMP:20260423T045707
CREATED:20250609T150514Z
LAST-MODIFIED:20250609T151201Z
UID:17715-1752174000-1752177600@visitmathews.com
SUMMARY:Soothin' Summer Sounds: Plunky & Oneness
DESCRIPTION:Join the Mathews Memorial Library for the second concert in their Soothin’ Summer Sounds series with Plunky & Oneness! Free and open to the public!
URL:https://visitmathews.com/event/soothin-summer-sounds-plunky-oneness/
LOCATION:Mathews Memorial Library\, 251 Main Street\, Mathews\, VA\, 23109\, United States
CATEGORIES:Arts & Cultural,Library Events,Live Music
ATTACH;FMTTYPE=image/jpeg:https://visitmathews.com/wp-content/uploads/2025/06/images-12.jpeg
ORGANIZER;CN="Mathews Memorial Library":MAILTO:staff@mathewslibrary.org
END:VEVENT
BEGIN:VEVENT
DTSTART;TZID=America/New_York:20250711T180000
DTEND;TZID=America/New_York:20250711T210000
DTSTAMP:20260423T045707
CREATED:20250115T185501Z
LAST-MODIFIED:20250529T145904Z
UID:17236-1752256800-1752267600@visitmathews.com
SUMMARY:Music on Maple with Mackenzie Roark Trio
DESCRIPTION:Welcome to Music on Maple with Mackenzie Roark & The Hotpants (Trio)\, hosted by the Mathews County Visitor & Information Center and the Mathews County Historical Society! \nJoin us in welcoming Richmond Americana artist Mackenzie Roark to Mathews for the first time! As the front woman of Mackenzie Roark & the Hotpants\, she is known for blending the soulful roots of classic country\, the storytelling spirit of 70’s folk\, and the raw edge of rock and roll! She will be appearing as as a trio\, and is ready to groove with all of you! \nDon Chido food truck will also be set up at this event\, and we’ll be selling beer from Gloucester Brewing Company\, as well as wine\, soft drinks and water! Each ticket comes with a free beverage!! \nGrab your friends and come on down to Maple Avenue for a night you won’t forget. See you there!
URL:https://visitmathews.com/event/music-on-maple/
LOCATION:Thomas James Store\, 44 Maple Ave\, Mathews\, VA\, 23109\, United States
CATEGORIES:Arts & Cultural,Community Events,Food & Drink,Live Music,Outdoor
ATTACH;FMTTYPE=image/jpeg:https://visitmathews.com/wp-content/uploads/2025/05/jpgMUSIC-ON-MAPLE-MACKENZIE-ROARK.jpg
ORGANIZER;CN="Mathews County Visitor &amp%3B Information Center":MAILTO:mathewsvisitorcenter@gmail.com
END:VEVENT
BEGIN:VEVENT
DTSTART;TZID=America/New_York:20250718T170000
DTEND;TZID=America/New_York:20250718T210000
DTSTAMP:20260423T045707
CREATED:20250324T170029Z
LAST-MODIFIED:20250324T170029Z
UID:17405-1752858000-1752872400@visitmathews.com
SUMMARY:Party at the Wharf Summer Series 2025
DESCRIPTION:Join the Mathews Land Conservancy for their Party at the Wharf Summer Series with live music by The Tidewinders\, and delicious food trucks On the Flip Side and Howard-Dooley Cafe. \nGates open at 5 pm\, with live music from 6-9 pm. All ages are welcome: tickets are $5 (12 and under are free!) Cash bar- wine and beer available. Bring your lawn chair!
URL:https://visitmathews.com/event/party-at-the-wharf-summer-series-2025-3/
LOCATION:Williams Wharf Landing\, 1039 Williams Wharf Road\, Mathews\, VA\, 23109\, United States
CATEGORIES:Community Events,Food & Drink,Live Music,Outdoor
ATTACH;FMTTYPE=image/png:https://visitmathews.com/wp-content/uploads/2025/03/Screenshot-2025-03-24-at-12.57.20-PM.png
ORGANIZER;CN="Mathews Land Conservancy":MAILTO:info@mathewslandconservancy.org
END:VEVENT
BEGIN:VEVENT
DTSTART;VALUE=DATE:20250725
DTEND;VALUE=DATE:20250728
DTSTAMP:20260423T045707
CREATED:20250722T180213Z
LAST-MODIFIED:20250722T180213Z
UID:17801-1753401600-1753660799@visitmathews.com
SUMMARY:Lost in Yonkers
DESCRIPTION:Join the Courthouse Players for three showings of Neil Simon’s Lost in Yonkers! \nFriday 7/25: 7 pm\nSaturday 7/26: 7 pm\nSunday 7/27: 3 pm \nAdult tickets: $22\, Students w/ ID: $7
URL:https://visitmathews.com/event/lost-in-yonkers/
LOCATION:Cobbs Creek Arts Center\, 61 Cobbs Creek Lane\, Cobbs Creek\, VA\, 23035\, United States
CATEGORIES:Arts & Cultural,Community Events,Live Music
ATTACH;FMTTYPE=application/pdf:https://visitmathews.com/wp-content/uploads/2025/07/Lost-in-Yonkers-8.5x11-flyer.pdf
ORGANIZER;CN="Court House Players":MAILTO:info@courthouseplayers.org
END:VEVENT
END:VCALENDAR