BEGIN:VCALENDAR
VERSION:2.0
PRODID:-//Mathews County Visitor Center - ECPv6.15.20//NONSGML v1.0//EN
CALSCALE:GREGORIAN
METHOD:PUBLISH
X-ORIGINAL-URL:https://visitmathews.com
X-WR-CALDESC:Events for Mathews County Visitor Center
REFRESH-INTERVAL;VALUE=DURATION:PT1H
X-Robots-Tag:noindex
X-PUBLISHED-TTL:PT1H
BEGIN:VTIMEZONE
TZID:America/New_York
BEGIN:DAYLIGHT
TZOFFSETFROM:-0500
TZOFFSETTO:-0400
TZNAME:EDT
DTSTART:20240310T070000
END:DAYLIGHT
BEGIN:STANDARD
TZOFFSETFROM:-0400
TZOFFSETTO:-0500
TZNAME:EST
DTSTART:20241103T060000
END:STANDARD
BEGIN:DAYLIGHT
TZOFFSETFROM:-0500
TZOFFSETTO:-0400
TZNAME:EDT
DTSTART:20250309T070000
END:DAYLIGHT
BEGIN:STANDARD
TZOFFSETFROM:-0400
TZOFFSETTO:-0500
TZNAME:EST
DTSTART:20251102T060000
END:STANDARD
BEGIN:DAYLIGHT
TZOFFSETFROM:-0500
TZOFFSETTO:-0400
TZNAME:EDT
DTSTART:20260308T070000
END:DAYLIGHT
BEGIN:STANDARD
TZOFFSETFROM:-0400
TZOFFSETTO:-0500
TZNAME:EST
DTSTART:20261101T060000
END:STANDARD
END:VTIMEZONE
BEGIN:VEVENT
DTSTART;TZID=America/New_York:20251108T100000
DTEND;TZID=America/New_York:20251108T180000
DTSTAMP:20260424T214008
CREATED:20250926T142655Z
LAST-MODIFIED:20250926T142655Z
UID:18021-1762596000-1762624800@visitmathews.com
SUMMARY:Visit Belmont Pumpkin Farm!
DESCRIPTION:HAYRIDES\, CORN MAZES & TREASURE HUNTS \nTake a hayride out to the pumpkin fields\, wander through one of the corn mazes\, hike the sunflower trail. Try the Farm Treasure Hunt! \nPUMPKINS\, SUNFLOWERS & ZINNIAS TO PICK \nFind your favorite pumpkin for cooking or decorating. We’ve planted 25 varieties\, small & large\, heirloom\, stackers\, and jack-o-lanterns. \nFARM SMOKED BBQ & STREET TACOS\, PUMPKIN FUNNEL CAKE & CIDER DONUTS \nCome hungry! We have farm-smoked pork BBQ & street tacos\, hot dogs\, pumpkin funnel cake and desserts\, cider donuts\, pumpkin spiced kettle corn and more! \n& MORE \nYou can make a scarecrow\, visit with farm animals\, paint a pumpkin & pick-up our famous pumpkin and apple butters & BBQ sauces in the Market. \n  \nLeashed Dogs welcome on the farm Friday evenings only.
URL:https://visitmathews.com/event/visit-belmont-pumpkin-farm-2025-11-08/
LOCATION:Blemont Pumpkin Farm\, 155 Belmont Lane\, North\, VA\, 23128\, United States
CATEGORIES:Holiday/ Seasonal,Outdoor,Youth
ATTACH;FMTTYPE=image/jpeg:https://visitmathews.com/wp-content/uploads/2025/09/550661054_1211370641036289_6355069414581042886_n.jpg
END:VEVENT
BEGIN:VEVENT
DTSTART;TZID=America/New_York:20251109T100000
DTEND;TZID=America/New_York:20251109T180000
DTSTAMP:20260424T214008
CREATED:20250926T142655Z
LAST-MODIFIED:20250926T142655Z
UID:18022-1762682400-1762711200@visitmathews.com
SUMMARY:Visit Belmont Pumpkin Farm!
DESCRIPTION:HAYRIDES\, CORN MAZES & TREASURE HUNTS \nTake a hayride out to the pumpkin fields\, wander through one of the corn mazes\, hike the sunflower trail. Try the Farm Treasure Hunt! \nPUMPKINS\, SUNFLOWERS & ZINNIAS TO PICK \nFind your favorite pumpkin for cooking or decorating. We’ve planted 25 varieties\, small & large\, heirloom\, stackers\, and jack-o-lanterns. \nFARM SMOKED BBQ & STREET TACOS\, PUMPKIN FUNNEL CAKE & CIDER DONUTS \nCome hungry! We have farm-smoked pork BBQ & street tacos\, hot dogs\, pumpkin funnel cake and desserts\, cider donuts\, pumpkin spiced kettle corn and more! \n& MORE \nYou can make a scarecrow\, visit with farm animals\, paint a pumpkin & pick-up our famous pumpkin and apple butters & BBQ sauces in the Market. \n  \nLeashed Dogs welcome on the farm Friday evenings only.
URL:https://visitmathews.com/event/visit-belmont-pumpkin-farm-2025-11-09/
LOCATION:Blemont Pumpkin Farm\, 155 Belmont Lane\, North\, VA\, 23128\, United States
CATEGORIES:Holiday/ Seasonal,Outdoor,Youth
ATTACH;FMTTYPE=image/jpeg:https://visitmathews.com/wp-content/uploads/2025/09/550661054_1211370641036289_6355069414581042886_n.jpg
END:VEVENT
BEGIN:VEVENT
DTSTART;VALUE=DATE:20251112
DTEND;VALUE=DATE:20260101
DTSTAMP:20260424T214008
CREATED:20251125T205200Z
LAST-MODIFIED:20251125T205232Z
UID:18264-1762905600-1767225599@visitmathews.com
SUMMARY:Holiday Pop-Up Market
DESCRIPTION:The Bay School has invited eleven talented artists and artisans to participate in our Holiday Pop-Up Market. This year\, tables will be set up inside the Art Speaks Gallery\, November 12 through December 31. \nShopping hours will be available throughout the week and weekends\, with the market running some evenings for your convenience. Every week\, these talented individuals will be replenishing their wares so that diverse and plentiful selections of artfully crafted handmade items will always be available. \nAdditional vendors will be set up outside during the Made in Mathews Open Studio Tour\, November 28 through November 30\, and December 6 and 7. \nNovember 12-December 31 Holiday Pop-Up Market Hours are:\nMondays thru Wednesdays: 10:00 am-4:00 pm\nThursdays & Fridays: 10:00 am-5:00 pm\nSaturdays: 10:00 am-4:00 pm \nSpecial Extended Hours for Made in Mathews Open Studio Tour: Nov 30 & Dec 7: Open Noon-5:00 pm \nSpecial Artists Sunday Shopping Day: November 30: Noon-5:00 pm (Click on the logo below to learn more about Artists Sunday.) \nSpecial Evening Hours During Mathews Holiday Night Market: Dec 12\, Open until 8:00 pm \nSpecial Evening Hours for Nick of Time Shopping Event: Dec 23\, Open until 8:00 pm
URL:https://visitmathews.com/event/holiday-pop-up-market/
LOCATION:Bay School Community Arts Center\, 279 Main Street \, Mathews\, VA\, 23109\, United States
CATEGORIES:Art Shows,Arts & Cultural,Community Events,Holiday/ Seasonal,Shopping
ATTACH;FMTTYPE=image/png:https://visitmathews.com/wp-content/uploads/2025/11/Screenshot-2025-11-25-at-3.50.25-PM.png
ORGANIZER;CN="Bay School Comunity Arts Center":MAILTO:pamdoss@bayschool-arts.com
END:VEVENT
BEGIN:VEVENT
DTSTART;TZID=America/New_York:20251116T120000
DTEND;TZID=America/New_York:20251116T160000
DTSTAMP:20260424T214008
CREATED:20251114T131529Z
LAST-MODIFIED:20251114T131529Z
UID:18176-1763294400-1763308800@visitmathews.com
SUMMARY:ETC. Holiday Open House
DESCRIPTION:Please join ETC. Vintage at their Holiday Open House. There will be Christmas Treasures\, holiday decor\, door prizes\, yummy treats and a visit from Santa.
URL:https://visitmathews.com/event/etc-holiday-open-house/
LOCATION:Etc. Vintage\, 2066 Buckley Hall Road\, Cobbs Creek\, VA\, 23035\, United States
CATEGORIES:Holiday/ Seasonal,Shopping,Youth
ATTACH;FMTTYPE=image/jpeg:https://visitmathews.com/wp-content/uploads/2023/08/303296767_595936862109935_8141913784164470960_n.jpg
END:VEVENT
BEGIN:VEVENT
DTSTART;TZID=America/New_York:20251122T090000
DTEND;TZID=America/New_York:20251122T130000
DTSTAMP:20260424T214008
CREATED:20250217T165410Z
LAST-MODIFIED:20251114T133501Z
UID:17295-1763802000-1763816400@visitmathews.com
SUMMARY:Thanksgiving Farmers Market
DESCRIPTION:Join the Mathews Farmers Market for a special Thanksgiving Market! \nGet your tickets for the turkey raffle- $3 each- available at the Farmers Market\, MCVIC or the Mathews Memorial Library. Drawing will be at 1 pm at the Farmers Market!
URL:https://visitmathews.com/event/thanksgiving-farmers-market-5/
LOCATION:Mathews Historic Courthouse\, 27 Court Street\, Mathews\, VA\, 23109\, United States
CATEGORIES:Business,Community Events,Food & Drink,Holiday/ Seasonal,Shopping
ATTACH;FMTTYPE=image/jpeg:https://visitmathews.com/wp-content/uploads/2025/02/Thanksgiving-Market_2025_web.jpg
END:VEVENT
BEGIN:VEVENT
DTSTART;TZID=America/New_York:20251122T130000
DTEND;TZID=America/New_York:20251122T170000
DTSTAMP:20260424T214008
CREATED:20251114T135107Z
LAST-MODIFIED:20251114T135107Z
UID:18186-1763816400-1763830800@visitmathews.com
SUMMARY:Christmas Comes to Gwynn's Island
DESCRIPTION:Join us on Gwynn’s Island to kick-off your Holiday Season! The Gwynn’s Island Museum and Civic Center will be decorated and offer several photo opportunities for friends and family! \nGet some Christmas shopping done early – the Museum will have new ornaments and merchandise for purchase. 100% of proceeds directly benefit the Gwynn’s Island Museum
URL:https://visitmathews.com/event/christmas-comes-to-gwynns-island-2/
LOCATION:Gwynn’s Island Museum\, State Rte 633\, Gwynn\, VA\, 23066\, United States
CATEGORIES:Holiday/ Seasonal,Youth
ATTACH;FMTTYPE=application/pdf:https://visitmathews.com/wp-content/uploads/2025/11/2025-Christmas-Gwynn-Island_Flyer-1.pdf
ORGANIZER;CN="Gwynn's Island Civic League Foundation":MAILTO:GICLFoundationVA@gmail.com
END:VEVENT
BEGIN:VEVENT
DTSTART;TZID=America/New_York:20251127T083000
DTEND;TZID=America/New_York:20251127T170000
DTSTAMP:20260424T214008
CREATED:20251125T201032Z
LAST-MODIFIED:20251125T201032Z
UID:18240-1764232200-1764262800@visitmathews.com
SUMMARY:Turkey Trot!
DESCRIPTION:Meet us at Williams Wharf for a Turkey Trot Run! There’s no entry fee- we only request a donation of nonperishable goods! Race starts at 8:30 so get there early!
URL:https://visitmathews.com/event/turkey-trot-4/
LOCATION:Williams Wharf Landing\, 1039 Williams Wharf Road\, Mathews\, VA\, 23109\, United States
CATEGORIES:Holiday/ Seasonal,Outdoor,Sports
ATTACH;FMTTYPE=image/jpeg:https://visitmathews.com/wp-content/uploads/2025/11/IMG_7524.jpg
ORGANIZER;CN="Mobjack Rowing":MAILTO:cptomcany@gmail.com
END:VEVENT
BEGIN:VEVENT
DTSTART;TZID=America/New_York:20251129T080000
DTEND;TZID=America/New_York:20251129T170000
DTSTAMP:20260424T214008
CREATED:20251130T030651Z
LAST-MODIFIED:20251130T030651Z
UID:18317-1764403200-1764435600@visitmathews.com
SUMMARY:Breakfast with Santa
DESCRIPTION:Join LIFT Mathews for Breakfast with Santa! \nRSVP to: liftmathews@gmail.com or 804-694-0509
URL:https://visitmathews.com/event/breakfast-with-santa/
LOCATION:Central United Methodist Church\, 121 Church St\, Mathews\, VA\, 23109\, United States
CATEGORIES:Holiday/ Seasonal,Youth
ATTACH;FMTTYPE=image/jpeg:https://visitmathews.com/wp-content/uploads/2025/11/IMG_7309.jpg
ORGANIZER;CN="LIFT Mathews":MAILTO:liftmathews@gmail.com
END:VEVENT
BEGIN:VEVENT
DTSTART;TZID=America/New_York:20251203T163000
DTEND;TZID=America/New_York:20251203T180000
DTSTAMP:20260424T214008
CREATED:20251130T025426Z
LAST-MODIFIED:20251130T025958Z
UID:18304-1764779400-1764784800@visitmathews.com
SUMMARY:Peary Christmas Tree Lighting
DESCRIPTION:Join LIFT Mathews for hot chocolate\, cookies\, and caroling around the tree.
URL:https://visitmathews.com/event/peary-christmas-tree-lighting/
LOCATION:St. Matthew UMC\, 1471 Potato Neck Road\, Port Haywood\, VA\, United States
CATEGORIES:Holiday/ Seasonal
ATTACH;FMTTYPE=image/jpeg:https://visitmathews.com/wp-content/uploads/2025/11/IMG_7309.jpg
ORGANIZER;CN="LIFT Mathews":MAILTO:liftmathews@gmail.com
END:VEVENT
BEGIN:VEVENT
DTSTART;TZID=America/New_York:20251206T090000
DTEND;TZID=America/New_York:20251206T160000
DTSTAMP:20260424T214008
CREATED:20251101T160354Z
LAST-MODIFIED:20251101T160607Z
UID:18158-1765011600-1765036800@visitmathews.com
SUMMARY:Holiday Vendor Fair & Bake Sale
DESCRIPTION:BAKED GOODS\, HANDMADE SOAPS\, JEWELRY\, ORNAMENTS\, WREATHS\, RAFFLES & MUCH MORE! PLUS\, GET A PHOTO WITH SANTA! \n 
URL:https://visitmathews.com/event/holiday-vendor-fair-bake-sale/
LOCATION:Francis de Sales Catholic Church\,  176 Lovers Lane\, Mathews\, VA\, 23109\, United States
CATEGORIES:Food & Drink,Holiday/ Seasonal,Shopping
ATTACH;FMTTYPE=image/jpeg:https://visitmathews.com/wp-content/uploads/2025/11/Holiday-CFDS-bake-sale-2-scaled.jpg
END:VEVENT
BEGIN:VEVENT
DTSTART;TZID=America/New_York:20251206T120000
DTEND;TZID=America/New_York:20251206T150000
DTSTAMP:20260424T214008
CREATED:20251125T203425Z
LAST-MODIFIED:20251125T203425Z
UID:18251-1765022400-1765033200@visitmathews.com
SUMMARY:Santa Visits Bohannon!
DESCRIPTION:Santa will be visiting Bohannon’s Fire Station #2 for family- and pet-friendly photo opportunities with Santa\, with Hot Chocolate\, Hot Apple Cider\, Cookies \nEvent is tree of charge – accepting small donations to benefit the MVFD!
URL:https://visitmathews.com/event/santa-visits-bohannon/
LOCATION:Bohannon Fire Station\, 4396 E. River Road\, Bohannon\, VA\, 23021\, United States
CATEGORIES:Food & Drink,Holiday/ Seasonal,Youth
ATTACH;FMTTYPE=image/png:https://visitmathews.com/wp-content/uploads/2025/11/Screenshot-2025-11-25-at-3.07.44-PM.png
END:VEVENT
BEGIN:VEVENT
DTSTART;TZID=America/New_York:20251206T180000
DTEND;TZID=America/New_York:20251206T190000
DTSTAMP:20260424T214008
CREATED:20251125T204156Z
LAST-MODIFIED:20251125T204156Z
UID:18258-1765044000-1765047600@visitmathews.com
SUMMARY:East River Lighted Boat Parade
DESCRIPTION:Join the Mathews Volunteer Fire Department for a Dazzling Display of Lights on the East River! \nDecorate your boat in Christmas Lights and get the Holiday Season underway. \nBoats will line up at Poplar Grove at 5:30\, and starting at 6 will parade up the East River to Town Point Landing and back to Williams Wharf. \nSpectator viewing can be done from Williams Wharf \,Town Point Landing or their docks. \nIf you want to participate in the parade please contact Donnie Owens at 757-813-0026.
URL:https://visitmathews.com/event/east-river-lighted-boat-parade/
LOCATION:Williams Wharf\, 1039 Williams Wharf Road\, Mathews\, VA\, 23109\, United States
CATEGORIES:Community Events,Holiday/ Seasonal,Outdoor
ATTACH;FMTTYPE=image/png:https://visitmathews.com/wp-content/uploads/2025/11/Screenshot-2025-11-25-at-3.39.28-PM.png
END:VEVENT
BEGIN:VEVENT
DTSTART;TZID=America/New_York:20251207T130000
DTEND;TZID=America/New_York:20251207T150000
DTSTAMP:20260424T214008
CREATED:20251125T195719Z
LAST-MODIFIED:20251125T200116Z
UID:18222-1765112400-1765119600@visitmathews.com
SUMMARY:Deck the Halls
DESCRIPTION:DECK THE HALLS: Dec. 7 1-3 pm\nSeasonal Music | Tree Trimming | Refreshments
URL:https://visitmathews.com/event/home-for-the-holidays-library-events/
LOCATION:Mathews Memorial Library\, 251 Main Street\, Mathews\, VA\, 23109\, United States
CATEGORIES:Holiday/ Seasonal,Library Events,Youth
ATTACH;FMTTYPE=application/pdf:https://visitmathews.com/wp-content/uploads/2025/11/Combined-Xmas-Events-2025-8.5x11.pdf
ORGANIZER;CN="Mathews Memorial Library":MAILTO:staff@mathewslibrary.org
END:VEVENT
BEGIN:VEVENT
DTSTART;TZID=America/New_York:20251207T150000
DTEND;TZID=America/New_York:20251207T170000
DTSTAMP:20260424T214008
CREATED:20251114T140230Z
LAST-MODIFIED:20251114T140230Z
UID:18199-1765119600-1765126800@visitmathews.com
SUMMARY:Annual Christmas Sing-Along
DESCRIPTION:Bring the kids! Invite your friends and neighbors! \n3 pm-4 pm: Singing and Fun- featuring local talent \n4 pm-5 pm: Cookie Social- cookies and punch served
URL:https://visitmathews.com/event/annual-christmas-sing-along/
LOCATION:Central United Methodist Church\, 121 Church St\, Mathews\, VA\, 23109\, United States
CATEGORIES:Community Events,Food & Drink,Holiday/ Seasonal,Live Music,Youth
ATTACH;FMTTYPE=image/jpeg:https://visitmathews.com/wp-content/uploads/2025/11/580492319_1568891257609371_8020321025728859730_n.jpg
END:VEVENT
BEGIN:VEVENT
DTSTART;TZID=America/New_York:20251207T170000
DTEND;TZID=America/New_York:20251207T190000
DTSTAMP:20260424T214008
CREATED:20251130T025849Z
LAST-MODIFIED:20251130T025849Z
UID:18311-1765126800-1765134000@visitmathews.com
SUMMARY:Caroling Thru the Neighborhood
DESCRIPTION:Join LIFT Mathews for caroling- meet at Emmanuel UMC!
URL:https://visitmathews.com/event/caroling-thru-the-neighborhood/
LOCATION:Emmanuel United Methodist Church\, 76 North River Road\, Bohannon\, VA\, 23021\, United States
CATEGORIES:Community Events,Holiday/ Seasonal
ATTACH;FMTTYPE=image/jpeg:https://visitmathews.com/wp-content/uploads/2025/11/IMG_7309.jpg
ORGANIZER;CN="LIFT Mathews":MAILTO:liftmathews@gmail.com
END:VEVENT
BEGIN:VEVENT
DTSTART;TZID=America/New_York:20251208T190000
DTEND;TZID=America/New_York:20251208T200000
DTSTAMP:20260424T214008
CREATED:20251125T200020Z
LAST-MODIFIED:20251125T200020Z
UID:18226-1765220400-1765224000@visitmathews.com
SUMMARY:Seasonal Sounds with Ambrosia Quartet
DESCRIPTION:SEASONAL SOUNDS: Dec. 8 7:00 pm\nFeaturing the Ambrosia Quartet
URL:https://visitmathews.com/event/seasonal-sounds-with-ambrosia-quartet/
LOCATION:Mathews Memorial Library\, 251 Main Street\, Mathews\, VA\, 23109\, United States
CATEGORIES:Holiday/ Seasonal,Library Events,Live Music
ATTACH;FMTTYPE=application/pdf:https://visitmathews.com/wp-content/uploads/2025/11/Combined-Xmas-Events-2025-8.5x11-1.pdf
ORGANIZER;CN="Mathews Memorial Library":MAILTO:staff@mathewslibrary.org
END:VEVENT
BEGIN:VEVENT
DTSTART;TZID=America/New_York:20251210T140000
DTEND;TZID=America/New_York:20251210T160000
DTSTAMP:20260424T214008
CREATED:20251130T030311Z
LAST-MODIFIED:20251130T030355Z
UID:18313-1765375200-1765382400@visitmathews.com
SUMMARY:Christmas Tea & Cookie Exchange
DESCRIPTION:Join LIFT Mathews for a cookie exchange! Bring two dozen cookies to share. \nRSVP to: liftmathews@gmail.com or 804-694-0509
URL:https://visitmathews.com/event/christmas-tea-cookie-exchange/
LOCATION:Grace-Providence UMC\, 8 Grace Street\, Mobjack\, VA\, United States
CATEGORIES:Community Events,Food & Drink,Holiday/ Seasonal
ATTACH;FMTTYPE=image/jpeg:https://visitmathews.com/wp-content/uploads/2025/11/IMG_7309.jpg
ORGANIZER;CN="LIFT Mathews":MAILTO:liftmathews@gmail.com
END:VEVENT
BEGIN:VEVENT
DTSTART;VALUE=DATE:20251212
DTEND;VALUE=DATE:20251213
DTSTAMP:20260424T214008
CREATED:20251015T164850Z
LAST-MODIFIED:20251105T163939Z
UID:18087-1765497600-1765583999@visitmathews.com
SUMMARY:Main Street Holiday Night Market & Tree Lighting
DESCRIPTION:Shops will be open until 7 pm\, with refreshments. \nPick up a punch-card and join the scavenger hunt by finding an item in each shop\, and be entered into a drawing for a family prize basket once completed! \nCarolers will sing along the streets\, and Santa will be making appearances throughout town! \nJoin the carolers for hot chocolate\, scavenger hunt winner announcement\, and the town tree lighting on the Court Green just after 7 pm!
URL:https://visitmathews.com/event/main-street-holiday-night-market-tree-lighting-2/
LOCATION:Mathews Main Street\, Mathews\, VA\, 23109\, United States
CATEGORIES:Holiday/ Seasonal,Shopping
ATTACH;FMTTYPE=image/png:https://visitmathews.com/wp-content/uploads/2025/10/2025-Night-Mkt-Tree-Lighting2.png
END:VEVENT
BEGIN:VEVENT
DTSTART;TZID=America/New_York:20251212T151500
DTEND;TZID=America/New_York:20251212T170000
DTSTAMP:20260424T214008
CREATED:20251125T200307Z
LAST-MODIFIED:20251125T200307Z
UID:18230-1765552500-1765558800@visitmathews.com
SUMMARY:In a Twinkling
DESCRIPTION:IN A TWINKLING: Dec. 12 3:15 pm\nYouth & Teens | Create a Stocking | Prizes Awarded
URL:https://visitmathews.com/event/in-a-twinkling/
LOCATION:Mathews Memorial Library\, 251 Main Street\, Mathews\, VA\, 23109\, United States
CATEGORIES:Holiday/ Seasonal,Library Events,Youth
ATTACH;FMTTYPE=application/pdf:https://visitmathews.com/wp-content/uploads/2025/11/Combined-Xmas-Events-2025-8.5x11-2.pdf
ORGANIZER;CN="Mathews Memorial Library":MAILTO:staff@mathewslibrary.org
END:VEVENT
BEGIN:VEVENT
DTSTART;TZID=America/New_York:20251212T180000
DTEND;TZID=America/New_York:20251212T183000
DTSTAMP:20260424T214008
CREATED:20251130T025118Z
LAST-MODIFIED:20251130T025118Z
UID:18302-1765562400-1765564200@visitmathews.com
SUMMARY:Pipe Organ Christmas Carols
DESCRIPTION:
URL:https://visitmathews.com/event/pipe-organ-christmas-carols/
LOCATION:Mathews Museum\, 200 Main Street\, Mathews\, VA\, 23109\, United States
CATEGORIES:History,Holiday/ Seasonal,Live Music
ATTACH;FMTTYPE=image/webp:https://visitmathews.com/wp-content/uploads/2025/01/LOGO_original-1.webp
ORGANIZER;CN="Mathews Museum":MAILTO:mathewsvamuseum@gmail.com
END:VEVENT
BEGIN:VEVENT
DTSTART;TZID=America/New_York:20251213T090000
DTEND;TZID=America/New_York:20251213T130000
DTSTAMP:20260424T214008
CREATED:20250317T155239Z
LAST-MODIFIED:20251212T132310Z
UID:17371-1765616400-1765630800@visitmathews.com
SUMMARY:Christmas Farmers Market
DESCRIPTION:Join the Mathews Farmers Market for a special Christmas Market! \nGet your tickets for the ham raffle – $5 each – available at the Farmers Market\, MCVIC or the Mathews Memorial Library. Drawing will be at 1 pm at the Farmers Market!
URL:https://visitmathews.com/event/christmas-farmers-market-4/
LOCATION:Courthouse Square\, Court St\, Mathews\, VA\, 23109\, United States
CATEGORIES:Community Events,Holiday/ Seasonal,Outdoor,Shopping
ATTACH;FMTTYPE=image/jpeg:https://visitmathews.com/wp-content/uploads/2025/03/589232779_1309064314351439_8530587646006051533_n.jpg
END:VEVENT
BEGIN:VEVENT
DTSTART;TZID=America/New_York:20251213T110000
DTEND;TZID=America/New_York:20251213T160000
DTSTAMP:20260424T214008
CREATED:20251125T202954Z
LAST-MODIFIED:20251125T202954Z
UID:18249-1765623600-1765641600@visitmathews.com
SUMMARY:Pet Photos with Santa
DESCRIPTION:Bring your pets and get camera-ready for a photo with Santa!
URL:https://visitmathews.com/event/pet-photos-with-santa/
LOCATION:The Bean Spot at the Vintage Pearl\, 256 Main Street\, Mathews\, VA\, 23109\, United States
CATEGORIES:Holiday/ Seasonal
ATTACH;FMTTYPE=image/png:https://visitmathews.com/wp-content/uploads/2025/11/Screenshot-2025-11-25-at-3.07.32-PM.png
END:VEVENT
BEGIN:VEVENT
DTSTART;TZID=America/New_York:20251213T120000
DTEND;TZID=America/New_York:20251213T170000
DTSTAMP:20260424T214008
CREATED:20251125T204629Z
LAST-MODIFIED:20251125T204629Z
UID:18261-1765627200-1765645200@visitmathews.com
SUMMARY:Winter Market
DESCRIPTION:VENDORS | LIVE HARPIST | GLÜHWEIN | HOT CHOCOLATE | RAFFLE | FUN ACTIVITIES
URL:https://visitmathews.com/event/winter-market/
LOCATION:Zoll Vineyards\, 10309 Vineyard Rd.\, Dutton\, VA\, 23050\, United States
CATEGORIES:Food & Drink,Holiday/ Seasonal,Live Music,Shopping
ATTACH;FMTTYPE=image/jpeg:https://visitmathews.com/wp-content/uploads/2025/11/581396946_1463953799071035_7776299033139867612_n.jpg
END:VEVENT
BEGIN:VEVENT
DTSTART;TZID=America/New_York:20251213T130000
DTEND;TZID=America/New_York:20251213T143000
DTSTAMP:20260424T214008
CREATED:20250925T144108Z
LAST-MODIFIED:20251212T132705Z
UID:17996-1765630800-1765636200@visitmathews.com
SUMMARY:Christmas Parade 2025
DESCRIPTION:We hope you will join us for the annual Mathews Christmas Parade- this year’s theme is “Jingle on the Bay!” \nWinners will be chosen for the best entry in each of the following nine categories: Civic\, Animal\, Walking Unit\, School\, Commercial\, Motorized\, Church\, Parade Theme\, and Antique Vehicle.  \nThe parade runs from Thomas Hunter Middle School to Chesapeake Bank\, going down Church Street to Main Street to Buckley Hall Road. \nIf you are interested in participating\, please fill out and submit the application form– there is no entry fee\, and applications are due no later than December 5th! 
URL:https://visitmathews.com/event/christmas-parade-2025/
LOCATION:Mathews Historic Courthouse\, 27 Court Street\, Mathews\, VA\, 23109\, United States
CATEGORIES:Community Events,Holiday/ Seasonal,Outdoor,Youth
ATTACH;FMTTYPE=image/png:https://visitmathews.com/wp-content/uploads/2025/09/5.png
ORGANIZER;CN="Mathews County Visitor &amp%3B Information Center":MAILTO:mathewsvisitorcenter@gmail.com
END:VEVENT
BEGIN:VEVENT
DTSTART;TZID=America/New_York:20251213T140000
DTEND;TZID=America/New_York:20251213T160000
DTSTAMP:20260424T214008
CREATED:20251030T144740Z
LAST-MODIFIED:20251030T144740Z
UID:18144-1765634400-1765641600@visitmathews.com
SUMMARY:The Grinch is Coming to The Cottage!
DESCRIPTION:EVERYONE WELCOME\, ESPECIALLY OUR FURRY FRIENDS: ONE FREE DIGITAL PHOTO PER FAMILY\, COMPLIMENTS OF ROANES ANTIQUES! \n 
URL:https://visitmathews.com/event/the-grinch-is-coming-to-the-cottage-2/
LOCATION:Roane’s Antiques at the Cottage\, 291 Main Street\, Mathews\, VA\, 23109\, United States
CATEGORIES:Community Events,Holiday/ Seasonal,Shopping,Youth
ATTACH;FMTTYPE=image/jpeg:https://visitmathews.com/wp-content/uploads/2025/10/574378830_1405078261617673_4809455422583975757_n.jpg
END:VEVENT
BEGIN:VEVENT
DTSTART;TZID=America/New_York:20251213T143000
DTEND;TZID=America/New_York:20251213T160000
DTSTAMP:20260424T214008
CREATED:20251015T170918Z
LAST-MODIFIED:20251021T042850Z
UID:18093-1765636200-1765641600@visitmathews.com
SUMMARY:Visit with Santa!
DESCRIPTION:
URL:https://visitmathews.com/event/visit-with-santa-2/
LOCATION:Mathews\, VA\, 23109\, United States
CATEGORIES:Community Events,Holiday/ Seasonal,Youth
ATTACH;FMTTYPE=image/png:https://visitmathews.com/wp-content/uploads/2025/10/Santa-2025.png
END:VEVENT
BEGIN:VEVENT
DTSTART;TZID=America/New_York:20251213T180000
DTEND;TZID=America/New_York:20251213T190000
DTSTAMP:20260424T214008
CREATED:20251125T203707Z
LAST-MODIFIED:20251125T203707Z
UID:18255-1765648800-1765652400@visitmathews.com
SUMMARY:3rd Annual Horn Harbor Lighted Boat Parade
DESCRIPTION:
URL:https://visitmathews.com/event/3rd-annual-horn-harbor-lighted-boat-parade/
LOCATION:Hudgins Horn Harbor Marina\, 308 Railway Road\, Port Haywood\, VA\, 23138\, United States
CATEGORIES:Community Events,Holiday/ Seasonal,Outdoor
ATTACH;FMTTYPE=image/png:https://visitmathews.com/wp-content/uploads/2025/11/Screenshot-2025-11-25-at-3.07.58-PM.png
END:VEVENT
BEGIN:VEVENT
DTSTART;TZID=America/New_York:20251216T180000
DTEND;TZID=America/New_York:20251216T190000
DTSTAMP:20260424T214008
CREATED:20251125T200501Z
LAST-MODIFIED:20251125T200501Z
UID:18233-1765908000-1765911600@visitmathews.com
SUMMARY:Family Story Time
DESCRIPTION:FAMILY STORY TIME: Dec. 16 6:00 pm\nWear your PJs | Bring a Plushie | Enjoy Hot Cocoa
URL:https://visitmathews.com/event/family-story-time/
LOCATION:Mathews Memorial Library\, 251 Main Street\, Mathews\, VA\, 23109\, United States
CATEGORIES:Holiday/ Seasonal,Library Events,Youth
ATTACH;FMTTYPE=application/pdf:https://visitmathews.com/wp-content/uploads/2025/11/Combined-Xmas-Events-2025-8.5x11-3.pdf
ORGANIZER;CN="Mathews Memorial Library":MAILTO:staff@mathewslibrary.org
END:VEVENT
BEGIN:VEVENT
DTSTART;TZID=America/New_York:20251218T140000
DTEND;TZID=America/New_York:20251218T150000
DTSTAMP:20260424T214008
CREATED:20251125T200652Z
LAST-MODIFIED:20251125T200652Z
UID:18236-1766066400-1766070000@visitmathews.com
SUMMARY:Homemade for the Holidays
DESCRIPTION:HOMEMADE FOR THE HOLIDAYS: Dec. 18 2-3:00 pm\nPrize for Best Cookie | Enjoy Coffee & Tea
URL:https://visitmathews.com/event/homemade-for-the-holidays/
LOCATION:Mathews Memorial Library\, 251 Main Street\, Mathews\, VA\, 23109\, United States
CATEGORIES:Holiday/ Seasonal,Library Events
ATTACH;FMTTYPE=application/pdf:https://visitmathews.com/wp-content/uploads/2025/11/Combined-Xmas-Events-2025-8.5x11-4.pdf
ORGANIZER;CN="Mathews Memorial Library":MAILTO:staff@mathewslibrary.org
END:VEVENT
BEGIN:VEVENT
DTSTART;TZID=America/New_York:20251220T090000
DTEND;TZID=America/New_York:20251220T110000
DTSTAMP:20260424T214008
CREATED:20251130T031056Z
LAST-MODIFIED:20251130T031056Z
UID:18322-1766221200-1766228400@visitmathews.com
SUMMARY:Breakfast with Santa
DESCRIPTION:Join LIFT Mathews for Breakfast with Santa! \nRSVP to: liftmathews@gmail.com or 804-694-0509
URL:https://visitmathews.com/event/breakfast-with-santa-2/
LOCATION:Central United Methodist Church\, 121 Church St\, Mathews\, VA\, 23109\, United States
CATEGORIES:Holiday/ Seasonal,Youth
ATTACH;FMTTYPE=image/jpeg:https://visitmathews.com/wp-content/uploads/2025/11/IMG_7309.jpg
ORGANIZER;CN="LIFT Mathews":MAILTO:liftmathews@gmail.com
END:VEVENT
END:VCALENDAR