BEGIN:VCALENDAR
VERSION:2.0
PRODID:-//Mathews County Visitor Center - ECPv6.15.20//NONSGML v1.0//EN
CALSCALE:GREGORIAN
METHOD:PUBLISH
X-WR-CALNAME:Mathews County Visitor Center
X-ORIGINAL-URL:https://visitmathews.com
X-WR-CALDESC:Events for Mathews County Visitor Center
REFRESH-INTERVAL;VALUE=DURATION:PT1H
X-Robots-Tag:noindex
X-PUBLISHED-TTL:PT1H
BEGIN:VTIMEZONE
TZID:America/New_York
BEGIN:DAYLIGHT
TZOFFSETFROM:-0500
TZOFFSETTO:-0400
TZNAME:EDT
DTSTART:20240310T070000
END:DAYLIGHT
BEGIN:STANDARD
TZOFFSETFROM:-0400
TZOFFSETTO:-0500
TZNAME:EST
DTSTART:20241103T060000
END:STANDARD
BEGIN:DAYLIGHT
TZOFFSETFROM:-0500
TZOFFSETTO:-0400
TZNAME:EDT
DTSTART:20250309T070000
END:DAYLIGHT
BEGIN:STANDARD
TZOFFSETFROM:-0400
TZOFFSETTO:-0500
TZNAME:EST
DTSTART:20251102T060000
END:STANDARD
BEGIN:DAYLIGHT
TZOFFSETFROM:-0500
TZOFFSETTO:-0400
TZNAME:EDT
DTSTART:20260308T070000
END:DAYLIGHT
BEGIN:STANDARD
TZOFFSETFROM:-0400
TZOFFSETTO:-0500
TZNAME:EST
DTSTART:20261101T060000
END:STANDARD
END:VTIMEZONE
BEGIN:VEVENT
DTSTART;TZID=America/New_York:20250919T170000
DTEND;TZID=America/New_York:20250919T200000
DTSTAMP:20260424T172419
CREATED:20250825T210605Z
LAST-MODIFIED:20250825T210605Z
UID:17880-1758301200-1758312000@visitmathews.com
SUMMARY:Oyster Equinox Feat. Rae the Band @ The Hatchery
DESCRIPTION:Join us for our 1st Annual Oyster Equinox! \n\n\n\nThe Hatchery is hosting live music by Rae the Band on Friday 9/19 from 5:45-7:45pm while the sun goes down.\n\n\n\n\nWe will be featuring some new seasonal menu specials as well as seasonal craft beverages this weekend to welcome in the Fall. *Limited menu will be available.\n\n\n\n\nWe will also be dropping some of our new fall retail this weekend including sweatshirts\, long sleeves\, and hats.\n\n\nCome enjoy the live tunes by the water\, food\, fresh local oysters\, and seasonal craft beverages while the sun goes down on the Milford Haven! \n\n*To anticipate crowds and reduce wait times\, we will have a separate drink line\, and we will not be serving po’boys\, bánh mì sandwiches\, or the salad\, this weekend only.\n \n\nFriday 9/19: 5pm-8pm\nSat 9/20: 4pm-8pm\nSun 9/21 CLOSED\n\n \n\nPrice:Free
URL:https://visitmathews.com/event/oyster-equinox-feat-rae-the-band-the-hatchery/
LOCATION:The Hatchery\, 425 Callis Wharf Road\, Mathews\, VA\, 23064\, United States
CATEGORIES:Food & Drink,Holiday/ Seasonal,Live Music,Outdoor
ATTACH;FMTTYPE=image/jpeg:https://visitmathews.com/wp-content/uploads/2025/08/534133227_734507366255557_5043045233159113301_n.jpg
ORGANIZER;CN="The Hatchery":MAILTO:thehatchery@oshoyster.com
END:VEVENT
BEGIN:VEVENT
DTSTART;TZID=America/New_York:20250926T150000
DTEND;TZID=America/New_York:20250926T190000
DTSTAMP:20260424T172419
CREATED:20250926T142655Z
LAST-MODIFIED:20250926T143114Z
UID:17999-1758898800-1758913200@visitmathews.com
SUMMARY:Visit Belmont Pumpkin Farm!
DESCRIPTION:HAYRIDES\, CORN MAZES & TREASURE HUNTS \nTake a hayride out to the pumpkin fields\, wander through one of the corn mazes\, hike the sunflower trail. Try the Farm Treasure Hunt! \nPUMPKINS\, SUNFLOWERS & ZINNIAS TO PICK \nFind your favorite pumpkin for cooking or decorating. We’ve planted 25 varieties\, small & large\, heirloom\, stackers\, and jack-o-lanterns. \nFARM SMOKED BBQ & STREET TACOS\, PUMPKIN FUNNEL CAKE & CIDER DONUTS \nCome hungry! We have farm-smoked pork BBQ & street tacos\, hot dogs\, pumpkin funnel cake and desserts\, cider donuts\, pumpkin spiced kettle corn and more! \n& MORE \nYou can make a scarecrow\, visit with farm animals\, paint a pumpkin & pick-up our famous pumpkin and apple butters & BBQ sauces in the Market. \n  \nLeashed Dogs welcome on the farm Friday evenings only.
URL:https://visitmathews.com/event/visit-belmont-pumpkin-farm/
LOCATION:Blemont Pumpkin Farm\, 155 Belmont Lane\, North\, VA\, 23128\, United States
CATEGORIES:Holiday/ Seasonal,Outdoor,Youth
ATTACH;FMTTYPE=image/jpeg:https://visitmathews.com/wp-content/uploads/2025/09/550661054_1211370641036289_6355069414581042886_n.jpg
END:VEVENT
BEGIN:VEVENT
DTSTART;TZID=America/New_York:20250927T100000
DTEND;TZID=America/New_York:20250927T180000
DTSTAMP:20260424T172419
CREATED:20250926T142655Z
LAST-MODIFIED:20250926T142655Z
UID:18009-1758967200-1758996000@visitmathews.com
SUMMARY:Visit Belmont Pumpkin Farm!
DESCRIPTION:HAYRIDES\, CORN MAZES & TREASURE HUNTS \nTake a hayride out to the pumpkin fields\, wander through one of the corn mazes\, hike the sunflower trail. Try the Farm Treasure Hunt! \nPUMPKINS\, SUNFLOWERS & ZINNIAS TO PICK \nFind your favorite pumpkin for cooking or decorating. We’ve planted 25 varieties\, small & large\, heirloom\, stackers\, and jack-o-lanterns. \nFARM SMOKED BBQ & STREET TACOS\, PUMPKIN FUNNEL CAKE & CIDER DONUTS \nCome hungry! We have farm-smoked pork BBQ & street tacos\, hot dogs\, pumpkin funnel cake and desserts\, cider donuts\, pumpkin spiced kettle corn and more! \n& MORE \nYou can make a scarecrow\, visit with farm animals\, paint a pumpkin & pick-up our famous pumpkin and apple butters & BBQ sauces in the Market. \n  \nLeashed Dogs welcome on the farm Friday evenings only.
URL:https://visitmathews.com/event/visit-belmont-pumpkin-farm-2025-09-27/
LOCATION:Blemont Pumpkin Farm\, 155 Belmont Lane\, North\, VA\, 23128\, United States
CATEGORIES:Holiday/ Seasonal,Outdoor,Youth
ATTACH;FMTTYPE=image/jpeg:https://visitmathews.com/wp-content/uploads/2025/09/550661054_1211370641036289_6355069414581042886_n.jpg
END:VEVENT
BEGIN:VEVENT
DTSTART;TZID=America/New_York:20250928T100000
DTEND;TZID=America/New_York:20250928T180000
DTSTAMP:20260424T172419
CREATED:20250926T142655Z
LAST-MODIFIED:20250926T142655Z
UID:18010-1759053600-1759082400@visitmathews.com
SUMMARY:Visit Belmont Pumpkin Farm!
DESCRIPTION:HAYRIDES\, CORN MAZES & TREASURE HUNTS \nTake a hayride out to the pumpkin fields\, wander through one of the corn mazes\, hike the sunflower trail. Try the Farm Treasure Hunt! \nPUMPKINS\, SUNFLOWERS & ZINNIAS TO PICK \nFind your favorite pumpkin for cooking or decorating. We’ve planted 25 varieties\, small & large\, heirloom\, stackers\, and jack-o-lanterns. \nFARM SMOKED BBQ & STREET TACOS\, PUMPKIN FUNNEL CAKE & CIDER DONUTS \nCome hungry! We have farm-smoked pork BBQ & street tacos\, hot dogs\, pumpkin funnel cake and desserts\, cider donuts\, pumpkin spiced kettle corn and more! \n& MORE \nYou can make a scarecrow\, visit with farm animals\, paint a pumpkin & pick-up our famous pumpkin and apple butters & BBQ sauces in the Market. \n  \nLeashed Dogs welcome on the farm Friday evenings only.
URL:https://visitmathews.com/event/visit-belmont-pumpkin-farm-2025-09-28/
LOCATION:Blemont Pumpkin Farm\, 155 Belmont Lane\, North\, VA\, 23128\, United States
CATEGORIES:Holiday/ Seasonal,Outdoor,Youth
ATTACH;FMTTYPE=image/jpeg:https://visitmathews.com/wp-content/uploads/2025/09/550661054_1211370641036289_6355069414581042886_n.jpg
END:VEVENT
END:VCALENDAR