BEGIN:VCALENDAR
VERSION:2.0
PRODID:-//Mathews County Visitor Center - ECPv6.15.20//NONSGML v1.0//EN
CALSCALE:GREGORIAN
METHOD:PUBLISH
X-ORIGINAL-URL:https://visitmathews.com
X-WR-CALDESC:Events for Mathews County Visitor Center
REFRESH-INTERVAL;VALUE=DURATION:PT1H
X-Robots-Tag:noindex
X-PUBLISHED-TTL:PT1H
BEGIN:VTIMEZONE
TZID:America/New_York
BEGIN:DAYLIGHT
TZOFFSETFROM:-0500
TZOFFSETTO:-0400
TZNAME:EDT
DTSTART:20240310T070000
END:DAYLIGHT
BEGIN:STANDARD
TZOFFSETFROM:-0400
TZOFFSETTO:-0500
TZNAME:EST
DTSTART:20241103T060000
END:STANDARD
BEGIN:DAYLIGHT
TZOFFSETFROM:-0500
TZOFFSETTO:-0400
TZNAME:EDT
DTSTART:20250309T070000
END:DAYLIGHT
BEGIN:STANDARD
TZOFFSETFROM:-0400
TZOFFSETTO:-0500
TZNAME:EST
DTSTART:20251102T060000
END:STANDARD
BEGIN:DAYLIGHT
TZOFFSETFROM:-0500
TZOFFSETTO:-0400
TZNAME:EDT
DTSTART:20260308T070000
END:DAYLIGHT
BEGIN:STANDARD
TZOFFSETFROM:-0400
TZOFFSETTO:-0500
TZNAME:EST
DTSTART:20261101T060000
END:STANDARD
END:VTIMEZONE
BEGIN:VEVENT
DTSTART;TZID=America/New_York:20250114T080000
DTEND;TZID=America/New_York:20250114T170000
DTSTAMP:20260419T203245
CREATED:20250114T160051Z
LAST-MODIFIED:20250114T160051Z
UID:17220-1736841600-1736874000@visitmathews.com
SUMMARY:Ebenezer Baptist Choirs & Joshua Allen Performance
DESCRIPTION:In a repeat of last year’s enthusiastic reception\, join us at the Cobbs Creek Arts Center\,  61 Cobbs Creek Lane\,  Sunday afternoon\,  to hear the wonderful voices of the Men’s Chorus and the Women’s Chorus of our local Ebenezer Baptist Church.  \nThe groups’ most recent performance was before an appreciative audience at a Christmas sing-along at Mathews Central United Methodist Church. The men’s chorus has been in existence for over 25 years and is well known throughout the area. \n*Also on the agenda is a concert performance by renowned artist\, Joshua Allen\, of Richmond\, a classically trained vocalist\, who will sing as well as perform sacred and secular songs on his handmade instruments. He learned traditional hymns while trailing a plow and mule with his father and grandfather\, on a North Carolina plantation. He will tell the story of his instruments\, such as the African ox horn flute\, made from animals used on farms. Mr. Allen\, a former Marine and a former Mr. Virginia\, will share his deep and resounding voice with us as he tells the story of his musical journey. We invite you to enjoy the afternoon at the Arts Center. There is no charge for this event and reservations are not necessary.
URL:https://visitmathews.com/event/ebenezer-baptist-choirs-joshua-allen-performance/
LOCATION:Cobbs Creek Arts Center\, 61 Cobbs Creek Lane\, Cobbs Creek\, VA\, 23035\, United States
CATEGORIES:Front Page Featured,Live Music
ATTACH;FMTTYPE=image/webp:https://visitmathews.com/wp-content/uploads/2025/01/LOGO_original-1.webp
ORGANIZER;CN="Mathews Museum":MAILTO:mathewsvamuseum@gmail.com
END:VEVENT
END:VCALENDAR