BEGIN:VCALENDAR
VERSION:2.0
PRODID:-//Mathews County Visitor Center - ECPv6.15.20//NONSGML v1.0//EN
CALSCALE:GREGORIAN
METHOD:PUBLISH
X-ORIGINAL-URL:https://visitmathews.com
X-WR-CALDESC:Events for Mathews County Visitor Center
REFRESH-INTERVAL;VALUE=DURATION:PT1H
X-Robots-Tag:noindex
X-PUBLISHED-TTL:PT1H
BEGIN:VTIMEZONE
TZID:America/New_York
BEGIN:DAYLIGHT
TZOFFSETFROM:-0500
TZOFFSETTO:-0400
TZNAME:EDT
DTSTART:20240310T070000
END:DAYLIGHT
BEGIN:STANDARD
TZOFFSETFROM:-0400
TZOFFSETTO:-0500
TZNAME:EST
DTSTART:20241103T060000
END:STANDARD
BEGIN:DAYLIGHT
TZOFFSETFROM:-0500
TZOFFSETTO:-0400
TZNAME:EDT
DTSTART:20250309T070000
END:DAYLIGHT
BEGIN:STANDARD
TZOFFSETFROM:-0400
TZOFFSETTO:-0500
TZNAME:EST
DTSTART:20251102T060000
END:STANDARD
BEGIN:DAYLIGHT
TZOFFSETFROM:-0500
TZOFFSETTO:-0400
TZNAME:EDT
DTSTART:20260308T070000
END:DAYLIGHT
BEGIN:STANDARD
TZOFFSETFROM:-0400
TZOFFSETTO:-0500
TZNAME:EST
DTSTART:20261101T060000
END:STANDARD
END:VTIMEZONE
BEGIN:VEVENT
DTSTART;TZID=America/New_York:20250516T140000
DTEND;TZID=America/New_York:20250516T180000
DTSTAMP:20260421T041117
CREATED:20250421T194954Z
LAST-MODIFIED:20250421T194954Z
UID:17499-1747404000-1747418400@visitmathews.com
SUMMARY:Gypsy Birthday Bash
DESCRIPTION:Join your friends at the Gypsy’s Wagon for birthday cake\, refreshments\, prizes & general revelry at the shop on Friday afternoon from 2-6 pm! \nAll weekend\, visit for shop-wide sales and specials from many unique vendors! Visit Friday from 10-6\, Saturday from 10-5\, and Sunday from 12-4!
URL:https://visitmathews.com/event/gypsy-birthday-bash/
LOCATION:Gypsy’s Wagon\, 302 Main Street\, Mathews\, VA\, 23109\, United States
CATEGORIES:Business,Community Events,Shopping
ATTACH;FMTTYPE=image/png:https://visitmathews.com/wp-content/uploads/2025/04/Screenshot-2025-04-21-at-3.44.32-PM.png
END:VEVENT
BEGIN:VEVENT
DTSTART;TZID=America/New_York:20250518T120000
DTEND;TZID=America/New_York:20250518T160000
DTSTAMP:20260421T041117
CREATED:20250514T173202Z
LAST-MODIFIED:20250514T173447Z
UID:17599-1747569600-1747584000@visitmathews.com
SUMMARY:Sunday Shopping with Fairy Hair Garden!
DESCRIPTION:Book your appointment to get your fairy hair done by The Wandering Arts at ETC Vintage for a Sunday Shopping event!
URL:https://visitmathews.com/event/sunday-shopping-with-fairy-hair-garden/
LOCATION:Etc. Vintage\, 2066 Buckley Hall Road\, Cobbs Creek\, VA\, 23035\, United States
CATEGORIES:Arts & Cultural,Business,Community Events,Shopping
ATTACH;FMTTYPE=image/png:https://visitmathews.com/wp-content/uploads/2025/05/Screenshot-2025-05-14-at-1.33.38-PM.png
END:VEVENT
END:VCALENDAR