BEGIN:VCALENDAR
VERSION:2.0
PRODID:-//Mathews County Visitor Center - ECPv6.15.20//NONSGML v1.0//EN
CALSCALE:GREGORIAN
METHOD:PUBLISH
X-WR-CALNAME:Mathews County Visitor Center
X-ORIGINAL-URL:https://visitmathews.com
X-WR-CALDESC:Events for Mathews County Visitor Center
REFRESH-INTERVAL;VALUE=DURATION:PT1H
X-Robots-Tag:noindex
X-PUBLISHED-TTL:PT1H
BEGIN:VTIMEZONE
TZID:America/New_York
BEGIN:DAYLIGHT
TZOFFSETFROM:-0500
TZOFFSETTO:-0400
TZNAME:EDT
DTSTART:20230312T070000
END:DAYLIGHT
BEGIN:STANDARD
TZOFFSETFROM:-0400
TZOFFSETTO:-0500
TZNAME:EST
DTSTART:20231105T060000
END:STANDARD
BEGIN:DAYLIGHT
TZOFFSETFROM:-0500
TZOFFSETTO:-0400
TZNAME:EDT
DTSTART:20240310T070000
END:DAYLIGHT
BEGIN:STANDARD
TZOFFSETFROM:-0400
TZOFFSETTO:-0500
TZNAME:EST
DTSTART:20241103T060000
END:STANDARD
BEGIN:DAYLIGHT
TZOFFSETFROM:-0500
TZOFFSETTO:-0400
TZNAME:EDT
DTSTART:20250309T070000
END:DAYLIGHT
BEGIN:STANDARD
TZOFFSETFROM:-0400
TZOFFSETTO:-0500
TZNAME:EST
DTSTART:20251102T060000
END:STANDARD
END:VTIMEZONE
BEGIN:VEVENT
DTSTART;TZID=America/New_York:20240507T110000
DTEND;TZID=America/New_York:20240507T190000
DTSTAMP:20260419T223847
CREATED:20240501T154048Z
LAST-MODIFIED:20240501T155341Z
UID:16229-1715079600-1715108400@visitmathews.com
SUMMARY:Dine to Donate
DESCRIPTION:Join the Gwynn’s Island Civic League at Richardson’s Cafe for a Dine to Donate event\, benefiting Mathews County Public Schools. Head over for dine-in or take-out to help with the purchase of school supplies for MCPS!
URL:https://visitmathews.com/event/dine-to-donate-2/
LOCATION:Richardson’s Cafe\, 12 Church Street\, Mathews\, VA\, 23109\, United States
CATEGORIES:Business,Food & Drink,Youth
ATTACH;FMTTYPE=image/png:https://visitmathews.com/wp-content/uploads/2024/05/Screenshot-2024-05-01-at-11.42.01-AM.png
ORGANIZER;CN="Gwynn's Island Civic League":MAILTO:gwynnsislandfestival@gmail.com
END:VEVENT
BEGIN:VEVENT
DTSTART;TZID=America/New_York:20240518T090000
DTEND;TZID=America/New_York:20240518T140000
DTSTAMP:20260419T223847
CREATED:20240415T154725Z
LAST-MODIFIED:20240415T154725Z
UID:16130-1716022800-1716040800@visitmathews.com
SUMMARY:Great Big Flea Market & Yard Sale
DESCRIPTION:Join the Piankatank Puritan Club for their Great Big Flea Market and Yard Sale!\n\nInquiries for table spaces can be directed Tim Roscher at troscher@verizon.net or 757-650-2758.\n\nSet up for inside vendors will be on Friday from 6-8pm\, and again on Saturday beginning at 7am.  Outside vendors can setup Saturday at 7am\nInside booth space includes one 8ft table and 2 chairs for $20\, or multiple table can be purchased for $20. Each space is approximately 10ftx4ft. Outside space is $15\, no table or chairs provided and space is equal to what is available inside. \nApplication available here: \nFlea Market registration
URL:https://visitmathews.com/event/great-big-flea-market-yard-sale/
LOCATION:Piankatank Ruritan Club\, 7138 Buckley Hall Road\, Mathews\, VA\, 23109\, United States
CATEGORIES:Business,Community Events,Shopping
ATTACH;FMTTYPE=application/pdf:https://visitmathews.com/wp-content/uploads/2024/04/mathews-great-big-flea-market-2024.pdf
ORGANIZER;CN="Piankatank Ruritan Club":MAILTO:timothy.roscher@voyafa.com
END:VEVENT
BEGIN:VEVENT
DTSTART;TZID=America/New_York:20240518T180000
DTEND;TZID=America/New_York:20240518T210000
DTSTAMP:20260419T223847
CREATED:20240415T163425Z
LAST-MODIFIED:20240415T163725Z
UID:16141-1716055200-1716066000@visitmathews.com
SUMMARY:MHS Athletics Presents... Comedy Night!
DESCRIPTION:Join the Mathews High School Athletics Department for Comedy Night\, featuring Tom Holaday\, Sonya King and Sid Bridge! Tickets are $15 in advance\, or $20 at the door\, and can be purchased at MHS\, Howard-Dooley Care\, Mathews Pharmacy and Morgan & Edwards Real Estate.
URL:https://visitmathews.com/event/mhs-athletics-presents-comedy-night/
LOCATION:Harry M. Ward Auditorium at Mathews High School\, 9889 Buckley Hall Road\, Mathews \, VA\, 23109\, United States
CATEGORIES:Arts & Cultural,Business,Community Events,Sports
ATTACH;FMTTYPE=image/png:https://visitmathews.com/wp-content/uploads/2024/04/Screenshot-2024-04-15-at-12.34.56-PM.png
END:VEVENT
END:VCALENDAR